BEGIN:VCALENDAR
VERSION:2.0
PRODID:-//Hope and Passion Ministries - ECPv6.15.18//NONSGML v1.0//EN
CALSCALE:GREGORIAN
METHOD:PUBLISH
X-ORIGINAL-URL:https://hopeandpassion.org
X-WR-CALDESC:Events for Hope and Passion Ministries
REFRESH-INTERVAL;VALUE=DURATION:PT1H
X-Robots-Tag:noindex
X-PUBLISHED-TTL:PT1H
BEGIN:VTIMEZONE
TZID:UTC
BEGIN:STANDARD
TZOFFSETFROM:+0000
TZOFFSETTO:+0000
TZNAME:UTC
DTSTART:20220101T000000
END:STANDARD
END:VTIMEZONE
BEGIN:VEVENT
DTSTART;TZID=UTC:20230123T190000
DTEND;TZID=UTC:20230123T203000
DTSTAMP:20260425T203943
CREATED:20230112T211242Z
LAST-MODIFIED:20230112T211242Z
UID:8397-1674500400-1674505800@hopeandpassion.org
SUMMARY:Zoom Session: Prayer - Part 1
DESCRIPTION:All are welcome to join this first Zoom session about prayer! We will meet on Monday evening\, January 23 from 7:00-8:30 pm EST. To get the free link\, simply let us know you want to attend and give us your email address at: hopeandpassion.org/contact-us\, and we will send it to you. Your life will never be the same\, when you learn all that you need to know about prayer!
URL:https://hopeandpassion.org/event/zoom-session-prayer-part-1/
LOCATION:Zoom Class
ATTACH;FMTTYPE=image/jpeg:https://hopeandpassion.org/wp-content/uploads/2023/01/Zoom-Prayer-01-23-23.jpg
END:VEVENT
END:VCALENDAR