BEGIN:VCALENDAR
VERSION:2.0
PRODID:-//Hope and Passion Ministries - ECPv6.15.18//NONSGML v1.0//EN
CALSCALE:GREGORIAN
METHOD:PUBLISH
X-WR-CALNAME:Hope and Passion Ministries
X-ORIGINAL-URL:https://hopeandpassion.org
X-WR-CALDESC:Events for Hope and Passion Ministries
REFRESH-INTERVAL;VALUE=DURATION:PT1H
X-Robots-Tag:noindex
X-PUBLISHED-TTL:PT1H
BEGIN:VTIMEZONE
TZID:UTC
BEGIN:STANDARD
TZOFFSETFROM:+0000
TZOFFSETTO:+0000
TZNAME:UTC
DTSTART:20220101T000000
END:STANDARD
END:VTIMEZONE
BEGIN:VEVENT
DTSTART;TZID=UTC:20230205T093000
DTEND;TZID=UTC:20230205T110000
DTSTAMP:20260425T190445
CREATED:20230122T221005Z
LAST-MODIFIED:20230122T221005Z
UID:8412-1675589400-1675594800@hopeandpassion.org
SUMMARY:Donegal Alliance Church Sunday Morning Message
DESCRIPTION:
URL:https://hopeandpassion.org/event/donegal-alliance-church-sunday-morning-message-22/
LOCATION:Donegal Christian & Missionary Alliance Church\, 210 Loyalhanna St.\, Donegal\, PA\, 15628\, United States
ATTACH;FMTTYPE=image/jpeg:https://hopeandpassion.org/wp-content/uploads/2023/01/The-Key-to-the-Christian-Life-02-05-23.jpg
END:VEVENT
BEGIN:VEVENT
DTSTART;TZID=UTC:20230205T100000
DTEND;TZID=UTC:20230205T110000
DTSTAMP:20260425T190445
CREATED:20230122T221051Z
LAST-MODIFIED:20230122T221051Z
UID:8414-1675591200-1675594800@hopeandpassion.org
SUMMARY:Hope & Passion Ministries Sunday Morning Message
DESCRIPTION:
URL:https://hopeandpassion.org/event/hope-passion-ministries-sunday-morning-message-58/
LOCATION:Facebook Livestream @ Hope & Passion Ministries\, Inc. Facebook Page
ATTACH;FMTTYPE=image/jpeg:https://hopeandpassion.org/wp-content/uploads/2023/01/The-Key-to-the-Christian-Life-02-05-23.jpg
END:VEVENT
END:VCALENDAR