BEGIN:VCALENDAR
VERSION:2.0
PRODID:-//Hope and Passion Ministries - ECPv6.15.18//NONSGML v1.0//EN
CALSCALE:GREGORIAN
METHOD:PUBLISH
X-WR-CALNAME:Hope and Passion Ministries
X-ORIGINAL-URL:https://hopeandpassion.org
X-WR-CALDESC:Events for Hope and Passion Ministries
REFRESH-INTERVAL;VALUE=DURATION:PT1H
X-Robots-Tag:noindex
X-PUBLISHED-TTL:PT1H
BEGIN:VTIMEZONE
TZID:UTC
BEGIN:STANDARD
TZOFFSETFROM:+0000
TZOFFSETTO:+0000
TZNAME:UTC
DTSTART:20220101T000000
END:STANDARD
END:VTIMEZONE
BEGIN:VEVENT
DTSTART;TZID=UTC:20230228T190000
DTEND;TZID=UTC:20230228T203000
DTSTAMP:20260425T173118
CREATED:20230202T233200Z
LAST-MODIFIED:20230202T234230Z
UID:8475-1677610800-1677616200@hopeandpassion.org
SUMMARY:Zoom Session: Prayer - Part 2
DESCRIPTION:All are welcome to join the second Zoom session about prayer! We will meet on Monday evening\, February 28 from 7:00-8:30 pm EST. To get the free link\, simply let us know you want to attend and give us your email address at: hopeandpassion.org/contact-us\, and we will send it to you. You do not need to attend the previous session to understand this one. This session will answer two questions:\n1) What does it truly mean to pray “in Jesus’ name”?\n2) Should we use rote prayer?\nYou will walk away with two action points to employ in your own prayer life\, and you will never be the same!
URL:https://hopeandpassion.org/event/zoom-session-prayer-part-2/
LOCATION:Zoom Class
ATTACH;FMTTYPE=image/jpeg:https://hopeandpassion.org/wp-content/uploads/2023/02/Prayer-Part-2-02-28-23.jpg
END:VEVENT
END:VCALENDAR