BEGIN:VCALENDAR
VERSION:2.0
PRODID:-//Hope and Passion Ministries - ECPv6.15.18//NONSGML v1.0//EN
CALSCALE:GREGORIAN
METHOD:PUBLISH
X-ORIGINAL-URL:https://hopeandpassion.org
X-WR-CALDESC:Events for Hope and Passion Ministries
REFRESH-INTERVAL;VALUE=DURATION:PT1H
X-Robots-Tag:noindex
X-PUBLISHED-TTL:PT1H
BEGIN:VTIMEZONE
TZID:UTC
BEGIN:STANDARD
TZOFFSETFROM:+0000
TZOFFSETTO:+0000
TZNAME:UTC
DTSTART:20220101T000000
END:STANDARD
END:VTIMEZONE
BEGIN:VEVENT
DTSTART;TZID=UTC:20230528T093000
DTEND;TZID=UTC:20230528T110000
DTSTAMP:20260425T132312
CREATED:20230511T220043Z
LAST-MODIFIED:20230515T181002Z
UID:8677-1685266200-1685271600@hopeandpassion.org
SUMMARY:Donegal Alliance Church Sunday Morning Message
DESCRIPTION:
URL:https://hopeandpassion.org/event/donegal-alliance-church-sunday-morning-message-36/
LOCATION:Donegal Christian & Missionary Alliance Church\, 210 Loyalhanna St.\, Donegal\, PA\, 15628\, United States
ATTACH;FMTTYPE=image/jpeg:https://hopeandpassion.org/wp-content/uploads/2023/05/Why-Was-Jesus-So-Hard-on-that-Fig-Tree-05-28-23-NEW.jpg
END:VEVENT
BEGIN:VEVENT
DTSTART;TZID=UTC:20230528T100000
DTEND;TZID=UTC:20230528T110000
DTSTAMP:20260425T132312
CREATED:20230511T220130Z
LAST-MODIFIED:20230515T181025Z
UID:8679-1685268000-1685271600@hopeandpassion.org
SUMMARY:Hope & Passion Ministries Sunday Morning Message
DESCRIPTION:
URL:https://hopeandpassion.org/event/hope-passion-ministries-sunday-morning-message-73/
LOCATION:Facebook Livestream @ Hope & Passion Ministries\, Inc. Facebook Page
ATTACH;FMTTYPE=image/jpeg:https://hopeandpassion.org/wp-content/uploads/2023/05/Why-Was-Jesus-So-Hard-on-that-Fig-Tree-05-28-23-NEW.jpg
END:VEVENT
END:VCALENDAR