BEGIN:VCALENDAR
VERSION:2.0
PRODID:-//Hope and Passion Ministries - ECPv6.15.18//NONSGML v1.0//EN
CALSCALE:GREGORIAN
METHOD:PUBLISH
X-ORIGINAL-URL:https://hopeandpassion.org
X-WR-CALDESC:Events for Hope and Passion Ministries
REFRESH-INTERVAL;VALUE=DURATION:PT1H
X-Robots-Tag:noindex
X-PUBLISHED-TTL:PT1H
BEGIN:VTIMEZONE
TZID:UTC
BEGIN:STANDARD
TZOFFSETFROM:+0000
TZOFFSETTO:+0000
TZNAME:UTC
DTSTART:20220101T000000
END:STANDARD
END:VTIMEZONE
BEGIN:VEVENT
DTSTART;TZID=UTC:20230530T190000
DTEND;TZID=UTC:20230530T203000
DTSTAMP:20260425T132334
CREATED:20230429T192401Z
LAST-MODIFIED:20230429T193855Z
UID:8654-1685473200-1685478600@hopeandpassion.org
SUMMARY:Zoom Session: Prayer - Part 3
DESCRIPTION:All are welcome to join the third Zoom session about prayer! We will meet on Tuesday evening\, May 30 from 7:00-8:30 pm EST. To get the free link\, simply let us know you want to attend and give us your email address at: hopeandpassion.org/contact-us\, and we will send it to you. You do not need to attend the previous sessions to understand this one.
URL:https://hopeandpassion.org/event/zoom-session-prayer-part-3/
LOCATION:Zoom Class
ATTACH;FMTTYPE=image/jpeg:https://hopeandpassion.org/wp-content/uploads/2023/04/Prayer-Part-3-05-30-23.jpg
END:VEVENT
END:VCALENDAR