BEGIN:VCALENDAR
VERSION:2.0
PRODID:-//Hope and Passion Ministries - ECPv6.15.18//NONSGML v1.0//EN
CALSCALE:GREGORIAN
METHOD:PUBLISH
X-WR-CALNAME:Hope and Passion Ministries
X-ORIGINAL-URL:https://hopeandpassion.org
X-WR-CALDESC:Events for Hope and Passion Ministries
REFRESH-INTERVAL;VALUE=DURATION:PT1H
X-Robots-Tag:noindex
X-PUBLISHED-TTL:PT1H
BEGIN:VTIMEZONE
TZID:UTC
BEGIN:STANDARD
TZOFFSETFROM:+0000
TZOFFSETTO:+0000
TZNAME:UTC
DTSTART:20220101T000000
END:STANDARD
END:VTIMEZONE
BEGIN:VEVENT
DTSTART;TZID=UTC:20230618T093000
DTEND;TZID=UTC:20230618T110000
DTSTAMP:20260425T133153
CREATED:20230528T182734Z
LAST-MODIFIED:20230606T181228Z
UID:8710-1687080600-1687086000@hopeandpassion.org
SUMMARY:Donegal Alliance Church Sunday Morning Message
DESCRIPTION:
URL:https://hopeandpassion.org/event/donegal-alliance-church-sunday-morning-message-38/
LOCATION:Donegal Christian & Missionary Alliance Church\, 210 Loyalhanna St.\, Donegal\, PA\, 15628\, United States
ATTACH;FMTTYPE=image/jpeg:https://hopeandpassion.org/wp-content/uploads/2023/06/Revelation-06-18-23-REVISED.jpg
END:VEVENT
BEGIN:VEVENT
DTSTART;TZID=UTC:20230618T100000
DTEND;TZID=UTC:20230618T110000
DTSTAMP:20260425T133153
CREATED:20230528T182846Z
LAST-MODIFIED:20230606T181247Z
UID:8713-1687082400-1687086000@hopeandpassion.org
SUMMARY:Hope & Passion Ministries Sunday Morning Message
DESCRIPTION:
URL:https://hopeandpassion.org/event/hope-passion-ministries-sunday-morning-message-75/
LOCATION:Facebook Livestream @ Hope & Passion Ministries\, Inc. Facebook Page
ATTACH;FMTTYPE=image/jpeg:https://hopeandpassion.org/wp-content/uploads/2023/06/Revelation-06-18-23-REVISED.jpg
END:VEVENT
END:VCALENDAR