BEGIN:VCALENDAR
VERSION:2.0
PRODID:-//Hope and Passion Ministries - ECPv6.15.18//NONSGML v1.0//EN
CALSCALE:GREGORIAN
METHOD:PUBLISH
X-WR-CALNAME:Hope and Passion Ministries
X-ORIGINAL-URL:https://hopeandpassion.org
X-WR-CALDESC:Events for Hope and Passion Ministries
REFRESH-INTERVAL;VALUE=DURATION:PT1H
X-Robots-Tag:noindex
X-PUBLISHED-TTL:PT1H
BEGIN:VTIMEZONE
TZID:UTC
BEGIN:STANDARD
TZOFFSETFROM:+0000
TZOFFSETTO:+0000
TZNAME:UTC
DTSTART:20230101T000000
END:STANDARD
END:VTIMEZONE
BEGIN:VEVENT
DTSTART;TZID=UTC:20240324T100000
DTEND;TZID=UTC:20240324T110000
DTSTAMP:20260425T004059
CREATED:20240109T183536Z
LAST-MODIFIED:20240312T172233Z
UID:9148-1711274400-1711278000@hopeandpassion.org
SUMMARY:Hope & Passion Ministries Sunday Morning Recorded Message - No Donegal C&MA Today
DESCRIPTION:H&P will post a recorded message on YouTube but will not be at Donegal Christian & Missionary Alliance church this week.
URL:https://hopeandpassion.org/event/hope-passion-ministries-sunday-morning-message-106/
LOCATION:Facebook Livestream @ Hope & Passion Ministries\, Inc. Facebook Page
ATTACH;FMTTYPE=image/jpeg:https://hopeandpassion.org/wp-content/uploads/2024/01/Overcoming-the-End-Times-Tragedy-of-Powerless-Christianity-03-24-24.jpg
END:VEVENT
END:VCALENDAR