BEGIN:VCALENDAR
VERSION:2.0
PRODID:-//Hope and Passion Ministries - ECPv6.15.18//NONSGML v1.0//EN
CALSCALE:GREGORIAN
METHOD:PUBLISH
X-WR-CALNAME:Hope and Passion Ministries
X-ORIGINAL-URL:https://hopeandpassion.org
X-WR-CALDESC:Events for Hope and Passion Ministries
REFRESH-INTERVAL;VALUE=DURATION:PT1H
X-Robots-Tag:noindex
X-PUBLISHED-TTL:PT1H
BEGIN:VTIMEZONE
TZID:UTC
BEGIN:STANDARD
TZOFFSETFROM:+0000
TZOFFSETTO:+0000
TZNAME:UTC
DTSTART:20230101T000000
END:STANDARD
END:VTIMEZONE
BEGIN:VEVENT
DTSTART;TZID=UTC:20240715T190000
DTEND;TZID=UTC:20240715T200000
DTSTAMP:20260424T192300
CREATED:20240630T223449Z
LAST-MODIFIED:20240630T223449Z
UID:9446-1721070000-1721073600@hopeandpassion.org
SUMMARY:Mary & Martha Ministries
DESCRIPTION:Friends of Hope and Passion Ministries are welcome to attend. Event will be held in the sanctuary.
URL:https://hopeandpassion.org/event/mary-martha-ministries-2/
LOCATION:New Hope Assembly of God\, 900 Peairs Rd.\, Elizabeth\, 15037\, United States
END:VEVENT
END:VCALENDAR