BEGIN:VCALENDAR
VERSION:2.0
PRODID:-//Hope and Passion Ministries - ECPv6.15.18//NONSGML v1.0//EN
CALSCALE:GREGORIAN
METHOD:PUBLISH
X-WR-CALNAME:Hope and Passion Ministries
X-ORIGINAL-URL:https://hopeandpassion.org
X-WR-CALDESC:Events for Hope and Passion Ministries
REFRESH-INTERVAL;VALUE=DURATION:PT1H
X-Robots-Tag:noindex
X-PUBLISHED-TTL:PT1H
BEGIN:VTIMEZONE
TZID:UTC
BEGIN:STANDARD
TZOFFSETFROM:+0000
TZOFFSETTO:+0000
TZNAME:UTC
DTSTART:20230101T000000
END:STANDARD
END:VTIMEZONE
BEGIN:VEVENT
DTSTART;TZID=UTC:20240908T093000
DTEND;TZID=UTC:20240908T110000
DTSTAMP:20260424T162950
CREATED:20240721T141925Z
LAST-MODIFIED:20250715T013111Z
UID:9491-1725787800-1725793200@hopeandpassion.org
SUMMARY:Donegal C&MA @ Mammoth Park
DESCRIPTION:Shelli is the speaker for Donegal Christian & Missionary Alliance Church’s Annual Church Picnic at Mammoth Park\, 171 County Park Rd\, Mount Pleasant\, PA 15666\, Pavilion # 11. Service begins at 10 am. There will be singing\, offering\, and then the morning message. Following the service\, there will be a picnic. Everyone is requested to bring an entree to share (there is electric for crockpots to keep food warm until after the service). Donegal will provide the table settings. After the picnic there will be fun\, organized games for youth and adults. Bring your lawn chairs for more comfortable seating.
URL:https://hopeandpassion.org/event/donegal-cma-mammoth-park/
LOCATION:Mammoth Park\, 171 County Park Rd\, Mount Pleasant\, PA 15666\, PA\, United States
ATTACH;FMTTYPE=image/jpeg:https://hopeandpassion.org/wp-content/uploads/2024/08/The-Summing-Up-of-All-Things-09-08-24.jpg
END:VEVENT
BEGIN:VEVENT
DTSTART;TZID=UTC:20240908T100000
DTEND;TZID=UTC:20240908T110000
DTSTAMP:20260424T162950
CREATED:20240710T002542Z
LAST-MODIFIED:20250715T012756Z
UID:9482-1725789600-1725793200@hopeandpassion.org
SUMMARY:Hope & Passion Ministries Sunday Morning Message
DESCRIPTION:
URL:https://hopeandpassion.org/event/hope-passion-ministries-sunday-morning-message-132/
LOCATION:Facebook Livestream @ Hope & Passion Ministries\, Inc. Facebook Page
ATTACH;FMTTYPE=image/jpeg:https://hopeandpassion.org/wp-content/uploads/2024/08/The-Summing-Up-of-All-Things-09-08-24.jpg
END:VEVENT
END:VCALENDAR