BEGIN:VCALENDAR
VERSION:2.0
PRODID:-//Hope and Passion Ministries - ECPv6.15.18//NONSGML v1.0//EN
CALSCALE:GREGORIAN
METHOD:PUBLISH
X-ORIGINAL-URL:https://hopeandpassion.org
X-WR-CALDESC:Events for Hope and Passion Ministries
REFRESH-INTERVAL;VALUE=DURATION:PT1H
X-Robots-Tag:noindex
X-PUBLISHED-TTL:PT1H
BEGIN:VTIMEZONE
TZID:UTC
BEGIN:STANDARD
TZOFFSETFROM:+0000
TZOFFSETTO:+0000
TZNAME:UTC
DTSTART:20240101T000000
END:STANDARD
END:VTIMEZONE
BEGIN:VEVENT
DTSTART;TZID=UTC:20250406T100000
DTEND;TZID=UTC:20250406T230000
DTSTAMP:20260424T071116
CREATED:20250307T001829Z
LAST-MODIFIED:20250328T145020Z
UID:9822-1743933600-1743980400@hopeandpassion.org
SUMMARY:Hope & Passion Ministries Sunday Morning Recorded Message - No Donegal C&MA Today
DESCRIPTION:H&P will post a recorded message on YouTube. We will not be in-person at Donegal Christian & Missionary Alliance church this week. It is their Missions Conference Sunday.
URL:https://hopeandpassion.org/event/hope-passion-ministries-sunday-morning-message-162/
LOCATION:Facebook Livestream @ Hope & Passion Ministries\, Inc. Facebook Page
ATTACH;FMTTYPE=image/jpeg:https://hopeandpassion.org/wp-content/uploads/2025/03/Big-Picture-God-04-06-25.jpg
END:VEVENT
END:VCALENDAR