BEGIN:VCALENDAR
VERSION:2.0
PRODID:-//Hope and Passion Ministries - ECPv6.15.18//NONSGML v1.0//EN
CALSCALE:GREGORIAN
METHOD:PUBLISH
X-ORIGINAL-URL:https://hopeandpassion.org
X-WR-CALDESC:Events for Hope and Passion Ministries
REFRESH-INTERVAL;VALUE=DURATION:PT1H
X-Robots-Tag:noindex
X-PUBLISHED-TTL:PT1H
BEGIN:VTIMEZONE
TZID:UTC
BEGIN:STANDARD
TZOFFSETFROM:+0000
TZOFFSETTO:+0000
TZNAME:UTC
DTSTART:20240101T000000
END:STANDARD
END:VTIMEZONE
BEGIN:VEVENT
DTSTART;TZID=UTC:20250902T190000
DTEND;TZID=UTC:20250902T200000
DTSTAMP:20260424T010301
CREATED:20250626T215417Z
LAST-MODIFIED:20250825T163144Z
UID:10019-1756839600-1756843200@hopeandpassion.org
SUMMARY:Hope & Passion Ministries Zoom Communion Service
DESCRIPTION:We would love you have you join us for our Zoom Communion Service at 7:00 pm EDT. Simply contact us at hope.passion.ministries@verizon.net with your interest and e-mail address\, and we will send you the Zoom link to take communion with Shelli after a brief and anointed message from God’s Word.
URL:https://hopeandpassion.org/event/hope-passion-ministries-tuesday-bible-study-125/
LOCATION:Zoom Class
ATTACH;FMTTYPE=image/jpeg:https://hopeandpassion.org/wp-content/uploads/2025/08/Communion-Zoom-09-02-25.jpg
END:VEVENT
END:VCALENDAR