BEGIN:VCALENDAR
VERSION:2.0
PRODID:-//Hope and Passion Ministries - ECPv6.15.18//NONSGML v1.0//EN
CALSCALE:GREGORIAN
METHOD:PUBLISH
X-ORIGINAL-URL:https://hopeandpassion.org
X-WR-CALDESC:Events for Hope and Passion Ministries
REFRESH-INTERVAL;VALUE=DURATION:PT1H
X-Robots-Tag:noindex
X-PUBLISHED-TTL:PT1H
BEGIN:VTIMEZONE
TZID:UTC
BEGIN:STANDARD
TZOFFSETFROM:+0000
TZOFFSETTO:+0000
TZNAME:UTC
DTSTART:20240101T000000
END:STANDARD
END:VTIMEZONE
BEGIN:VEVENT
DTSTART;TZID=UTC:20251228T093000
DTEND;TZID=UTC:20251228T110000
DTSTAMP:20260423T195948
CREATED:20251202T200446Z
LAST-MODIFIED:20251213T165712Z
UID:10225-1766914200-1766919600@hopeandpassion.org
SUMMARY:Donegal C&MA Church Sunday Morning Message
DESCRIPTION:
URL:https://hopeandpassion.org/event/donegal-cma-church-sunday-morning-message-103/
LOCATION:Donegal Christian & Missionary Alliance Church\, 210 Loyalhanna St.\, Donegal\, PA\, 15628\, United States
ATTACH;FMTTYPE=image/jpeg:https://hopeandpassion.org/wp-content/uploads/2025/12/Daniel-12-28-25.jpg
END:VEVENT
BEGIN:VEVENT
DTSTART;TZID=UTC:20251228T100000
DTEND;TZID=UTC:20251228T110000
DTSTAMP:20260423T195948
CREATED:20251202T200524Z
LAST-MODIFIED:20251213T165737Z
UID:10227-1766916000-1766919600@hopeandpassion.org
SUMMARY:Hope & Passion Ministries Sunday Morning Message
DESCRIPTION:
URL:https://hopeandpassion.org/event/hope-passion-ministries-sunday-morning-message-195/
LOCATION:Facebook Livestream @ Hope & Passion Ministries\, Inc. Facebook Page
ATTACH;FMTTYPE=image/jpeg:https://hopeandpassion.org/wp-content/uploads/2025/12/Daniel-12-28-25.jpg
END:VEVENT
END:VCALENDAR