BEGIN:VCALENDAR
VERSION:2.0
PRODID:-//Hope and Passion Ministries - ECPv6.15.18//NONSGML v1.0//EN
CALSCALE:GREGORIAN
METHOD:PUBLISH
X-WR-CALNAME:Hope and Passion Ministries
X-ORIGINAL-URL:https://hopeandpassion.org
X-WR-CALDESC:Events for Hope and Passion Ministries
REFRESH-INTERVAL;VALUE=DURATION:PT1H
X-Robots-Tag:noindex
X-PUBLISHED-TTL:PT1H
BEGIN:VTIMEZONE
TZID:UTC
BEGIN:STANDARD
TZOFFSETFROM:+0000
TZOFFSETTO:+0000
TZNAME:UTC
DTSTART:20230101T000000
END:STANDARD
END:VTIMEZONE
BEGIN:VEVENT
DTSTART;TZID=UTC:20250311T183000
DTEND;TZID=UTC:20250311T193000
DTSTAMP:20260424T122219
CREATED:20250307T001539Z
LAST-MODIFIED:20250307T001539Z
UID:9814-1741717800-1741721400@hopeandpassion.org
SUMMARY:Hope & Passion Ministries Tuesday Bible Study
DESCRIPTION:
URL:https://hopeandpassion.org/event/hope-passion-ministries-tuesday-bible-study-112/
LOCATION:Facebook Livestream @ Hope & Passion Ministries\, Inc. Facebook Page
ATTACH;FMTTYPE=image/jpeg:https://hopeandpassion.org/wp-content/uploads/2025/03/Rapture-Second-Coming-Noahs-Ark-Enoch-Part-2-03-11-25.jpg
END:VEVENT
BEGIN:VEVENT
DTSTART;TZID=UTC:20250309T100000
DTEND;TZID=UTC:20250309T110000
DTSTAMP:20260424T122219
CREATED:20250224T213324Z
LAST-MODIFIED:20250224T213324Z
UID:9799-1741514400-1741518000@hopeandpassion.org
SUMMARY:Hope & Passion Ministries Sunday Morning Message
DESCRIPTION:
URL:https://hopeandpassion.org/event/hope-passion-ministries-sunday-morning-message-158/
LOCATION:Facebook Livestream @ Hope & Passion Ministries\, Inc. Facebook Page
ATTACH;FMTTYPE=image/jpeg:https://hopeandpassion.org/wp-content/uploads/2025/02/Darkness-Defying-Destiny-03-09-25.jpg
END:VEVENT
BEGIN:VEVENT
DTSTART;TZID=UTC:20250309T093000
DTEND;TZID=UTC:20250309T110000
DTSTAMP:20260424T122219
CREATED:20250224T213210Z
LAST-MODIFIED:20250224T213210Z
UID:9797-1741512600-1741518000@hopeandpassion.org
SUMMARY:Donegal C&MA Church Sunday Morning Message
DESCRIPTION:
URL:https://hopeandpassion.org/event/donegal-cma-church-sunday-morning-message-69/
LOCATION:Donegal Christian & Missionary Alliance Church\, 210 Loyalhanna St.\, Donegal\, PA\, 15628\, United States
ATTACH;FMTTYPE=image/jpeg:https://hopeandpassion.org/wp-content/uploads/2025/02/Darkness-Defying-Destiny-03-09-25.jpg
END:VEVENT
BEGIN:VEVENT
DTSTART;TZID=UTC:20250304T183000
DTEND;TZID=UTC:20250304T193000
DTSTAMP:20260424T122219
CREATED:20250204T205319Z
LAST-MODIFIED:20250224T213104Z
UID:9766-1741113000-1741116600@hopeandpassion.org
SUMMARY:Hope & Passion Ministries Tuesday Bible Study
DESCRIPTION:
URL:https://hopeandpassion.org/event/hope-passion-ministries-tuesday-bible-study-111/
LOCATION:Facebook Livestream @ Hope & Passion Ministries\, Inc. Facebook Page
ATTACH;FMTTYPE=image/jpeg:https://hopeandpassion.org/wp-content/uploads/2025/02/Rapture-Second-Coming-Noahs-Ark-Part-1-03-04-25-Revised.jpg
END:VEVENT
BEGIN:VEVENT
DTSTART;TZID=UTC:20250302T100000
DTEND;TZID=UTC:20250302T110000
DTSTAMP:20260424T122219
CREATED:20250216T210700Z
LAST-MODIFIED:20250224T213040Z
UID:9785-1740909600-1740913200@hopeandpassion.org
SUMMARY:Hope & Passion Ministries Sunday Morning Message
DESCRIPTION:
URL:https://hopeandpassion.org/event/hope-passion-ministries-sunday-morning-message-157/
LOCATION:Facebook Livestream @ Hope & Passion Ministries\, Inc. Facebook Page
ATTACH;FMTTYPE=image/jpeg:https://hopeandpassion.org/wp-content/uploads/2025/02/Daniel-03-02-25-Revised-Date.jpg
END:VEVENT
BEGIN:VEVENT
DTSTART;TZID=UTC:20250302T093000
DTEND;TZID=UTC:20250302T110000
DTSTAMP:20260424T122219
CREATED:20250216T210605Z
LAST-MODIFIED:20250224T213005Z
UID:9783-1740907800-1740913200@hopeandpassion.org
SUMMARY:Donegal C&MA Church Sunday Morning Message
DESCRIPTION:
URL:https://hopeandpassion.org/event/donegal-cma-church-sunday-morning-message-68/
LOCATION:Donegal Christian & Missionary Alliance Church\, 210 Loyalhanna St.\, Donegal\, PA\, 15628\, United States
ATTACH;FMTTYPE=image/jpeg:https://hopeandpassion.org/wp-content/uploads/2025/02/Daniel-03-02-25-Revised-Date.jpg
END:VEVENT
BEGIN:VEVENT
DTSTART;TZID=UTC:20250223T100000
DTEND;TZID=UTC:20250223T110000
DTSTAMP:20260424T122219
CREATED:20250204T210554Z
LAST-MODIFIED:20250204T210554Z
UID:9775-1740304800-1740308400@hopeandpassion.org
SUMMARY:Hope & Passion Ministries Sunday Morning Message
DESCRIPTION:
URL:https://hopeandpassion.org/event/hope-passion-ministries-sunday-morning-message-156/
ATTACH;FMTTYPE=image/jpeg:https://hopeandpassion.org/wp-content/uploads/2025/02/Romans-02-23-25.jpg
END:VEVENT
BEGIN:VEVENT
DTSTART;TZID=UTC:20250223T093000
DTEND;TZID=UTC:20250223T110000
DTSTAMP:20260424T122219
CREATED:20250204T205939Z
LAST-MODIFIED:20250204T205939Z
UID:9772-1740303000-1740308400@hopeandpassion.org
SUMMARY:Donegal C&MA Church Sunday Morning Message
DESCRIPTION:
URL:https://hopeandpassion.org/event/donegal-cma-church-sunday-morning-message-67/
LOCATION:Donegal Christian & Missionary Alliance Church\, 210 Loyalhanna St.\, Donegal\, PA\, 15628\, United States
ATTACH;FMTTYPE=image/jpeg:https://hopeandpassion.org/wp-content/uploads/2025/02/Romans-02-23-25.jpg
END:VEVENT
BEGIN:VEVENT
DTSTART;TZID=UTC:20250218T183000
DTEND;TZID=UTC:20250218T193000
DTSTAMP:20260424T122219
CREATED:20250216T210831Z
LAST-MODIFIED:20250216T210831Z
UID:9787-1739903400-1739907000@hopeandpassion.org
SUMMARY:CANCELLED - Hope & Passion Ministries Tuesday Bible Study
DESCRIPTION:
URL:https://hopeandpassion.org/event/cancelled-hope-passion-ministries-tuesday-bible-study-8/
LOCATION:Facebook Livestream @ Hope & Passion Ministries\, Inc. Facebook Page
END:VEVENT
BEGIN:VEVENT
DTSTART;TZID=UTC:20250216T100000
DTEND;TZID=UTC:20250216T110000
DTSTAMP:20260424T122219
CREATED:20250204T205712Z
LAST-MODIFIED:20250204T205712Z
UID:9770-1739700000-1739703600@hopeandpassion.org
SUMMARY:Hope & Passion Ministries Sunday Morning Message
DESCRIPTION:
URL:https://hopeandpassion.org/event/hope-passion-ministries-sunday-morning-message-155/
LOCATION:Facebook Livestream @ Hope & Passion Ministries\, Inc. Facebook Page
ATTACH;FMTTYPE=image/jpeg:https://hopeandpassion.org/wp-content/uploads/2025/02/Daniel-02-16-25.jpg
END:VEVENT
BEGIN:VEVENT
DTSTART;TZID=UTC:20250216T093000
DTEND;TZID=UTC:20250216T110000
DTSTAMP:20260424T122219
CREATED:20250204T205614Z
LAST-MODIFIED:20250204T205614Z
UID:9768-1739698200-1739703600@hopeandpassion.org
SUMMARY:Donegal C&MA Church Sunday Morning Message
DESCRIPTION:
URL:https://hopeandpassion.org/event/donegal-cma-church-sunday-morning-message-66/
LOCATION:Donegal Christian & Missionary Alliance Church\, 210 Loyalhanna St.\, Donegal\, PA\, 15628\, United States
ATTACH;FMTTYPE=image/jpeg:https://hopeandpassion.org/wp-content/uploads/2025/02/Daniel-02-16-25.jpg
END:VEVENT
BEGIN:VEVENT
DTSTART;TZID=UTC:20250211T183000
DTEND;TZID=UTC:20250211T193000
DTSTAMP:20260424T122219
CREATED:20250204T204853Z
LAST-MODIFIED:20250204T204955Z
UID:9764-1739298600-1739302200@hopeandpassion.org
SUMMARY:CANCELLED - Hope & Passion Ministries Tuesday Bible Study
DESCRIPTION:
URL:https://hopeandpassion.org/event/cancelled-hope-passion-ministries-tuesday-bible-study-7/
LOCATION:Facebook Livestream @ Hope & Passion Ministries\, Inc. Facebook Page
END:VEVENT
BEGIN:VEVENT
DTSTART;TZID=UTC:20250209T100000
DTEND;TZID=UTC:20250209T110000
DTSTAMP:20260424T122219
CREATED:20250125T190624Z
LAST-MODIFIED:20250204T210002Z
UID:9744-1739095200-1739098800@hopeandpassion.org
SUMMARY:Hope & Passion Ministries Sunday Morning Message & Baptism
DESCRIPTION:
URL:https://hopeandpassion.org/event/hope-passion-ministries-sunday-morning-message-154/
ATTACH;FMTTYPE=image/jpeg:https://hopeandpassion.org/wp-content/uploads/2025/01/Romans-02-09-25-Replacement.jpg
END:VEVENT
BEGIN:VEVENT
DTSTART;TZID=UTC:20250209T093000
DTEND;TZID=UTC:20250209T110000
DTSTAMP:20260424T122219
CREATED:20250125T190548Z
LAST-MODIFIED:20250125T190548Z
UID:9742-1739093400-1739098800@hopeandpassion.org
SUMMARY:Donegal C&MA Church Sunday Morning Message
DESCRIPTION:
URL:https://hopeandpassion.org/event/donegal-cma-church-sunday-morning-message-65/
ATTACH;FMTTYPE=image/jpeg:https://hopeandpassion.org/wp-content/uploads/2025/01/Romans-02-09-25-Replacement.jpg
END:VEVENT
BEGIN:VEVENT
DTSTART;TZID=UTC:20250204T183000
DTEND;TZID=UTC:20250204T193000
DTSTAMP:20260424T122219
CREATED:20250125T190511Z
LAST-MODIFIED:20250125T190511Z
UID:9740-1738693800-1738697400@hopeandpassion.org
SUMMARY:Hope & Passion Ministries Tuesday Bible Study
DESCRIPTION:
URL:https://hopeandpassion.org/event/hope-passion-ministries-tuesday-bible-study-110/
LOCATION:Facebook Livestream @ Hope & Passion Ministries\, Inc. Facebook Page
ATTACH;FMTTYPE=image/jpeg:https://hopeandpassion.org/wp-content/uploads/2025/01/Genesis-02-04-25-Replacement.jpg
END:VEVENT
BEGIN:VEVENT
DTSTART;TZID=UTC:20250202T100000
DTEND;TZID=UTC:20250202T110000
DTSTAMP:20260424T122219
CREATED:20250114T145702Z
LAST-MODIFIED:20250125T190421Z
UID:9728-1738490400-1738494000@hopeandpassion.org
SUMMARY:Hope & Passion Ministries Sunday Morning Message
DESCRIPTION:
URL:https://hopeandpassion.org/event/hope-passion-ministries-sunday-morning-message-153/
LOCATION:Facebook Livestream @ Hope & Passion Ministries\, Inc. Facebook Page
ATTACH;FMTTYPE=image/jpeg:https://hopeandpassion.org/wp-content/uploads/2025/01/Daniel-02-02-25-Replacement.jpg
END:VEVENT
BEGIN:VEVENT
DTSTART;TZID=UTC:20250202T093000
DTEND;TZID=UTC:20250202T110000
DTSTAMP:20260424T122219
CREATED:20250114T142629Z
LAST-MODIFIED:20250125T190400Z
UID:9725-1738488600-1738494000@hopeandpassion.org
SUMMARY:Donegal C&MA Church Sunday Morning Message
DESCRIPTION:
URL:https://hopeandpassion.org/event/donegal-cma-church-sunday-morning-message-64/
LOCATION:Donegal Christian & Missionary Alliance Church\, 210 Loyalhanna St.\, Donegal\, PA\, 15628\, United States
ATTACH;FMTTYPE=image/jpeg:https://hopeandpassion.org/wp-content/uploads/2025/01/Daniel-02-02-25-Replacement.jpg
END:VEVENT
BEGIN:VEVENT
DTSTART;TZID=UTC:20250126T100000
DTEND;TZID=UTC:20250126T110000
DTSTAMP:20260424T122219
CREATED:20241230T200539Z
LAST-MODIFIED:20250125T213715Z
UID:9713-1737885600-1737889200@hopeandpassion.org
SUMMARY:CANCELLED LIVESTREAM - Hope & Passion Ministries Sunday Morning Message
DESCRIPTION:Audio message available on YouTube for today.
URL:https://hopeandpassion.org/event/hope-passion-ministries-tuesday-bible-study-109/
LOCATION:Facebook Livestream @ Hope & Passion Ministries\, Inc. Facebook Page
ATTACH;FMTTYPE=image/jpeg:https://hopeandpassion.org/wp-content/uploads/2024/12/What-if-Jesus-Sailed-You-Right-Into-the-Storm-03-08-15.jpg
END:VEVENT
BEGIN:VEVENT
DTSTART;TZID=UTC:20250126T093000
DTEND;TZID=UTC:20250126T110000
DTSTAMP:20260424T122219
CREATED:20241230T200501Z
LAST-MODIFIED:20250125T213737Z
UID:9711-1737883800-1737889200@hopeandpassion.org
SUMMARY:CANCELLED IN-PERSON - Donegal C&MA Church Sunday Morning Message
DESCRIPTION:Audio message available on YouTube for today.
URL:https://hopeandpassion.org/event/donegal-cma-church-sunday-morning-message-63/
LOCATION:Donegal Christian & Missionary Alliance Church\, 210 Loyalhanna St.\, Donegal\, PA\, 15628\, United States
ATTACH;FMTTYPE=image/jpeg:https://hopeandpassion.org/wp-content/uploads/2024/12/What-if-Jesus-Sailed-You-Right-Into-the-Storm-03-08-15.jpg
END:VEVENT
BEGIN:VEVENT
DTSTART;TZID=UTC:20250121T183000
DTEND;TZID=UTC:20250121T193000
DTSTAMP:20260424T122219
CREATED:20241215T215037Z
LAST-MODIFIED:20250121T012346Z
UID:9688-1737484200-1737487800@hopeandpassion.org
SUMMARY:CANCELLED - Hope & Passion Ministries Tuesday Bible Study
DESCRIPTION:
URL:https://hopeandpassion.org/event/hope-passion-ministries-tuesday-bible-study-108/
LOCATION:Facebook Livestream @ Hope & Passion Ministries\, Inc. Facebook Page
END:VEVENT
BEGIN:VEVENT
DTSTART;TZID=UTC:20250119T100000
DTEND;TZID=UTC:20250119T110000
DTSTAMP:20260424T122219
CREATED:20241230T200310Z
LAST-MODIFIED:20241230T200310Z
UID:9709-1737280800-1737284400@hopeandpassion.org
SUMMARY:Hope & Passion Ministries Sunday Morning Message
DESCRIPTION:
URL:https://hopeandpassion.org/event/hope-passion-ministries-sunday-morning-message-152/
LOCATION:Facebook Livestream @ Hope & Passion Ministries\, Inc. Facebook Page
ATTACH;FMTTYPE=image/jpeg:https://hopeandpassion.org/wp-content/uploads/2024/12/Daniel-01-12-25.jpg
END:VEVENT
BEGIN:VEVENT
DTSTART;TZID=UTC:20250119T093000
DTEND;TZID=UTC:20250119T110000
DTSTAMP:20260424T122219
CREATED:20241230T200223Z
LAST-MODIFIED:20241230T200223Z
UID:9707-1737279000-1737284400@hopeandpassion.org
SUMMARY:Donegal C&MA Church Sunday Morning Message
DESCRIPTION:
URL:https://hopeandpassion.org/event/donegal-cma-church-sunday-morning-message-62/
LOCATION:Donegal Christian & Missionary Alliance Church\, 210 Loyalhanna St.\, Donegal\, PA\, 15628\, United States
ATTACH;FMTTYPE=image/jpeg:https://hopeandpassion.org/wp-content/uploads/2024/12/Romans-01-19-25.jpg
END:VEVENT
BEGIN:VEVENT
DTSTART;TZID=UTC:20250114T183000
DTEND;TZID=UTC:20250114T193000
DTSTAMP:20260424T122219
CREATED:20241215T214947Z
LAST-MODIFIED:20250110T182447Z
UID:9686-1736879400-1736883000@hopeandpassion.org
SUMMARY:Hope & Passion Ministries Tuesday Bible Study
DESCRIPTION:
URL:https://hopeandpassion.org/event/hope-passion-ministries-tuesday-bible-study-107/
LOCATION:Facebook Livestream @ Hope & Passion Ministries\, Inc. Facebook Page
ATTACH;FMTTYPE=image/jpeg:https://hopeandpassion.org/wp-content/uploads/2025/01/Genesis-01-14-25.jpg
END:VEVENT
BEGIN:VEVENT
DTSTART;TZID=UTC:20250112T100000
DTEND;TZID=UTC:20250112T110000
DTSTAMP:20260424T122219
CREATED:20241215T215401Z
LAST-MODIFIED:20241230T200359Z
UID:9698-1736676000-1736679600@hopeandpassion.org
SUMMARY:Hope & Passion Ministries Sunday Morning Message
DESCRIPTION:
URL:https://hopeandpassion.org/event/hope-passion-ministries-sunday-morning-message-151/
LOCATION:Facebook Livestream @ Hope & Passion Ministries\, Inc. Facebook Page
ATTACH;FMTTYPE=image/jpeg:https://hopeandpassion.org/wp-content/uploads/2024/12/Daniel-01-12-25.jpg
END:VEVENT
BEGIN:VEVENT
DTSTART;TZID=UTC:20250112T093000
DTEND;TZID=UTC:20250112T110000
DTSTAMP:20260424T122219
CREATED:20241215T215321Z
LAST-MODIFIED:20241230T200342Z
UID:9696-1736674200-1736679600@hopeandpassion.org
SUMMARY:Donegal C&MA Church Sunday Morning Message
DESCRIPTION:
URL:https://hopeandpassion.org/event/donegal-cma-church-sunday-morning-message-61/
LOCATION:Donegal Christian & Missionary Alliance Church\, 210 Loyalhanna St.\, Donegal\, PA\, 15628\, United States
ATTACH;FMTTYPE=image/jpeg:https://hopeandpassion.org/wp-content/uploads/2024/12/Daniel-01-12-25.jpg
END:VEVENT
BEGIN:VEVENT
DTSTART;TZID=UTC:20250107T183000
DTEND;TZID=UTC:20250107T193000
DTSTAMP:20260424T122219
CREATED:20241215T214905Z
LAST-MODIFIED:20250105T220302Z
UID:9684-1736274600-1736278200@hopeandpassion.org
SUMMARY:Hope & Passion Ministries Tuesday Bible Study
DESCRIPTION:
URL:https://hopeandpassion.org/event/hope-passion-ministries-tuesday-bible-study-106/
LOCATION:Facebook Livestream @ Hope & Passion Ministries\, Inc. Facebook Page
ATTACH;FMTTYPE=image/jpeg:https://hopeandpassion.org/wp-content/uploads/2025/01/Genesis-01-07-25.jpg
END:VEVENT
BEGIN:VEVENT
DTSTART;TZID=UTC:20250105T100000
DTEND;TZID=UTC:20250105T110000
DTSTAMP:20260424T122219
CREATED:20241215T215227Z
LAST-MODIFIED:20241216T225343Z
UID:9694-1736071200-1736074800@hopeandpassion.org
SUMMARY:Hope & Passion Ministries Sunday Morning Message
DESCRIPTION:
URL:https://hopeandpassion.org/event/hope-passion-ministries-sunday-morning-message-150/
LOCATION:Facebook Livestream @ Hope & Passion Ministries\, Inc. Facebook Page
ATTACH;FMTTYPE=image/jpeg:https://hopeandpassion.org/wp-content/uploads/2024/12/Romans-01-05-24.jpg
END:VEVENT
BEGIN:VEVENT
DTSTART;TZID=UTC:20250105T093000
DTEND;TZID=UTC:20250105T110000
DTSTAMP:20260424T122219
CREATED:20241215T215118Z
LAST-MODIFIED:20241216T225315Z
UID:9690-1736069400-1736074800@hopeandpassion.org
SUMMARY:Donegal C&MA Church Sunday Morning Message
DESCRIPTION:
URL:https://hopeandpassion.org/event/hope-passion-ministries-sunday-morning-message-149/
LOCATION:Donegal Christian & Missionary Alliance Church\, 210 Loyalhanna St.\, Donegal\, PA\, 15628\, United States
ATTACH;FMTTYPE=image/jpeg:https://hopeandpassion.org/wp-content/uploads/2024/12/Romans-01-05-24.jpg
END:VEVENT
BEGIN:VEVENT
DTSTART;TZID=UTC:20241229T100000
DTEND;TZID=UTC:20241229T110000
DTSTAMP:20260424T122219
CREATED:20241203T225851Z
LAST-MODIFIED:20241215T214723Z
UID:9668-1735466400-1735470000@hopeandpassion.org
SUMMARY:Hope & Passion Ministries Sunday Morning Message
DESCRIPTION:
URL:https://hopeandpassion.org/event/hope-passion-ministries-sunday-morning-message-148/
LOCATION:Facebook Livestream @ Hope & Passion Ministries\, Inc. Facebook Page
ATTACH;FMTTYPE=image/jpeg:https://hopeandpassion.org/wp-content/uploads/2024/12/Daniel-12-29-24.jpg
END:VEVENT
BEGIN:VEVENT
DTSTART;TZID=UTC:20241229T093000
DTEND;TZID=UTC:20241229T110000
DTSTAMP:20260424T122219
CREATED:20241203T225816Z
LAST-MODIFIED:20241215T214702Z
UID:9666-1735464600-1735470000@hopeandpassion.org
SUMMARY:Donegal C&MA Church Sunday Morning Message
DESCRIPTION:
URL:https://hopeandpassion.org/event/donegal-cma-church-sunday-morning-message-60/
LOCATION:Donegal Christian & Missionary Alliance Church\, 210 Loyalhanna St.\, Donegal\, PA\, 15628\, United States
ATTACH;FMTTYPE=image/jpeg:https://hopeandpassion.org/wp-content/uploads/2024/12/Daniel-12-29-24.jpg
END:VEVENT
END:VCALENDAR