BEGIN:VCALENDAR
VERSION:2.0
PRODID:-//Hope and Passion Ministries - ECPv6.15.18//NONSGML v1.0//EN
CALSCALE:GREGORIAN
METHOD:PUBLISH
X-ORIGINAL-URL:https://hopeandpassion.org
X-WR-CALDESC:Events for Hope and Passion Ministries
REFRESH-INTERVAL;VALUE=DURATION:PT1H
X-Robots-Tag:noindex
X-PUBLISHED-TTL:PT1H
BEGIN:VTIMEZONE
TZID:UTC
BEGIN:STANDARD
TZOFFSETFROM:+0000
TZOFFSETTO:+0000
TZNAME:UTC
DTSTART:20250101T000000
END:STANDARD
END:VTIMEZONE
BEGIN:VEVENT
DTSTART;TZID=UTC:20260201T093000
DTEND;TZID=UTC:20260201T113000
DTSTAMP:20260423T211329
CREATED:20260111T231524Z
LAST-MODIFIED:20260120T235413Z
UID:10282-1769938200-1769945400@hopeandpassion.org
SUMMARY:Donegal C&MA Church Sunday Morning Message
DESCRIPTION:
URL:https://hopeandpassion.org/event/donegal-cma-church-sunday-morning-message-108/
LOCATION:Donegal Christian & Missionary Alliance Church\, 210 Loyalhanna St.\, Donegal\, PA\, 15628\, United States
ATTACH;FMTTYPE=image/jpeg:https://hopeandpassion.org/wp-content/uploads/2026/01/Romans-02-01-26.jpg
END:VEVENT
BEGIN:VEVENT
DTSTART;TZID=UTC:20260201T100000
DTEND;TZID=UTC:20260201T110000
DTSTAMP:20260423T211329
CREATED:20260111T232002Z
LAST-MODIFIED:20260120T235427Z
UID:10292-1769940000-1769943600@hopeandpassion.org
SUMMARY:Hope & Passion Ministries Sunday Morning Message
DESCRIPTION:
URL:https://hopeandpassion.org/event/hope-passion-ministries-sunday-morning-message-200/
LOCATION:Facebook Livestream @ Hope & Passion Ministries\, Inc. Facebook Page
ATTACH;FMTTYPE=image/jpeg:https://hopeandpassion.org/wp-content/uploads/2026/01/Romans-02-01-26.jpg
END:VEVENT
BEGIN:VEVENT
DTSTART;TZID=UTC:20260203T183000
DTEND;TZID=UTC:20260203T193000
DTSTAMP:20260423T211329
CREATED:20260111T231250Z
LAST-MODIFIED:20260128T201039Z
UID:10272-1770143400-1770147000@hopeandpassion.org
SUMMARY:Hope & Passion Ministries Tuesday Bible Study
DESCRIPTION:
URL:https://hopeandpassion.org/event/hope-passion-ministries-tuesday-bible-study-138/
LOCATION:Facebook Livestream @ Hope & Passion Ministries\, Inc. Facebook Page
ATTACH;FMTTYPE=image/jpeg:https://hopeandpassion.org/wp-content/uploads/2026/01/Genesis-02-03-26.jpg
END:VEVENT
BEGIN:VEVENT
DTSTART;TZID=UTC:20260208T093000
DTEND;TZID=UTC:20260208T103000
DTSTAMP:20260423T211329
CREATED:20260111T231552Z
LAST-MODIFIED:20260128T201106Z
UID:10284-1770543000-1770546600@hopeandpassion.org
SUMMARY:Donegal C&MA Church Sunday Morning Message
DESCRIPTION:
URL:https://hopeandpassion.org/event/donegal-cma-church-sunday-morning-message-109/
LOCATION:Donegal Christian & Missionary Alliance Church\, 210 Loyalhanna St.\, Donegal\, PA\, 15628\, United States
ATTACH;FMTTYPE=image/jpeg:https://hopeandpassion.org/wp-content/uploads/2026/01/Daniel-02-08-26.jpg
END:VEVENT
BEGIN:VEVENT
DTSTART;TZID=UTC:20260208T100000
DTEND;TZID=UTC:20260208T110000
DTSTAMP:20260423T211329
CREATED:20260111T232024Z
LAST-MODIFIED:20260128T201221Z
UID:10294-1770544800-1770548400@hopeandpassion.org
SUMMARY:Hope & Passion Ministries Sunday Morning Message
DESCRIPTION:
URL:https://hopeandpassion.org/event/hope-passion-ministries-sunday-morning-message-201/
LOCATION:Facebook Livestream @ Hope & Passion Ministries\, Inc. Facebook Page
ATTACH;FMTTYPE=image/jpeg:https://hopeandpassion.org/wp-content/uploads/2026/01/Daniel-02-08-26.jpg
END:VEVENT
BEGIN:VEVENT
DTSTART;TZID=UTC:20260210T181500
DTEND;TZID=UTC:20260210T200000
DTSTAMP:20260423T211329
CREATED:20260111T231315Z
LAST-MODIFIED:20260210T011715Z
UID:10274-1770747300-1770753600@hopeandpassion.org
SUMMARY:Hope & Passion Ministries Q&A Zoom: Heaven & Our Resurrection
DESCRIPTION:Here is the Zoom link for the Q & A Session with Shelli about Heaven! Please join by 6:15 pm EDT\, Tuesday\, February 10 to ensure you are connected and have your video on. We will admit you to the Zoom meeting from the virtual waiting room from 6:15 – 6:30 pm EDT. At 6:30 pm EDT\, we will begin taking one question at a time. You may ask anything concerning Heaven\, our kind of existence in Heaven\, our bodily resurrection at the return of Christ\, and/or our glorified bodies in the New Heavens & New Earth. Shelli will do her best to answer your inquiries!\n\nTopic: Q&A – Heaven & Our Resurrection\nTime: Feb 10\, 2026 06:15 PM Eastern Time (US and Canada)\nJoin Zoom Meeting\nhttps://us02web.zoom.us/j/89209501708?pwd=cVtY22iGap7OytUZJhbCjoa41pSQhc.1\nMeeting ID: 892 0950 1708\nPasscode: 686179
URL:https://hopeandpassion.org/event/hope-passion-ministries-tuesday-bible-study-139/
ATTACH;FMTTYPE=image/jpeg:https://hopeandpassion.org/wp-content/uploads/2026/02/QA-Zoom-Heaven-Our-Resurrection-02-09-26.jpg
END:VEVENT
BEGIN:VEVENT
DTSTART;TZID=UTC:20260215T093000
DTEND;TZID=UTC:20260215T110000
DTSTAMP:20260423T211329
CREATED:20260203T170847Z
LAST-MODIFIED:20260203T170847Z
UID:10320-1771147800-1771153200@hopeandpassion.org
SUMMARY:Donegal C&MA Church Sunday Morning Message
DESCRIPTION:
URL:https://hopeandpassion.org/event/donegal-cma-church-sunday-morning-message-110/
LOCATION:Donegal Christian & Missionary Alliance Church\, 210 Loyalhanna St.\, Donegal\, PA\, 15628\, United States
ATTACH;FMTTYPE=image/jpeg:https://hopeandpassion.org/wp-content/uploads/2026/02/Romans-02-15-26.jpg
END:VEVENT
BEGIN:VEVENT
DTSTART;TZID=UTC:20260215T100000
DTEND;TZID=UTC:20260215T110000
DTSTAMP:20260423T211329
CREATED:20260203T170928Z
LAST-MODIFIED:20260203T170928Z
UID:10322-1771149600-1771153200@hopeandpassion.org
SUMMARY:Hope & Passion Ministries Sunday Morning Message
DESCRIPTION:
URL:https://hopeandpassion.org/event/hope-passion-ministries-sunday-morning-message-202/
LOCATION:Facebook Livestream @ Hope & Passion Ministries\, Inc. Facebook Page
ATTACH;FMTTYPE=image/jpeg:https://hopeandpassion.org/wp-content/uploads/2026/02/Romans-02-15-26.jpg
END:VEVENT
BEGIN:VEVENT
DTSTART;TZID=UTC:20260217T183000
DTEND;TZID=UTC:20260217T193000
DTSTAMP:20260423T211329
CREATED:20260111T231338Z
LAST-MODIFIED:20260210T011351Z
UID:10276-1771353000-1771356600@hopeandpassion.org
SUMMARY:Hope & Passion Ministries Tuesday Bible Study
DESCRIPTION:
URL:https://hopeandpassion.org/event/hope-passion-ministries-tuesday-bible-study-140/
LOCATION:Facebook Livestream @ Hope & Passion Ministries\, Inc. Facebook Page
ATTACH;FMTTYPE=image/jpeg:https://hopeandpassion.org/wp-content/uploads/2026/02/Genesis-02-17-26.jpg
END:VEVENT
BEGIN:VEVENT
DTSTART;TZID=UTC:20260222T093000
DTEND;TZID=UTC:20260222T110000
DTSTAMP:20260423T211329
CREATED:20260203T171029Z
LAST-MODIFIED:20260210T011823Z
UID:10324-1771752600-1771758000@hopeandpassion.org
SUMMARY:Donegal C&MA Church Sunday Morning Message
DESCRIPTION:
URL:https://hopeandpassion.org/event/donegal-cma-church-sunday-morning-message-111/
LOCATION:Donegal Christian & Missionary Alliance Church\, 210 Loyalhanna St.\, Donegal\, PA\, 15628\, United States
ATTACH;FMTTYPE=image/jpeg:https://hopeandpassion.org/wp-content/uploads/2026/02/Daniel-02-22-26.jpg
END:VEVENT
BEGIN:VEVENT
DTSTART;TZID=UTC:20260222T100000
DTEND;TZID=UTC:20260222T110000
DTSTAMP:20260423T211329
CREATED:20260203T171100Z
LAST-MODIFIED:20260210T011838Z
UID:10326-1771754400-1771758000@hopeandpassion.org
SUMMARY:Hope & Passion Ministries Sunday Morning Message
DESCRIPTION:
URL:https://hopeandpassion.org/event/hope-passion-ministries-sunday-morning-message-203/
LOCATION:Facebook Livestream @ Hope & Passion Ministries\, Inc. Facebook Page
ATTACH;FMTTYPE=image/jpeg:https://hopeandpassion.org/wp-content/uploads/2026/02/Daniel-02-22-26.jpg
END:VEVENT
BEGIN:VEVENT
DTSTART;TZID=UTC:20260301T093000
DTEND;TZID=UTC:20260301T110000
DTSTAMP:20260423T211329
CREATED:20260210T011938Z
LAST-MODIFIED:20260303T194543Z
UID:10342-1772357400-1772362800@hopeandpassion.org
SUMMARY:Donegal C&MA Church Sunday Morning Message
DESCRIPTION:
URL:https://hopeandpassion.org/event/donegal-cma-church-sunday-morning-message-112/
LOCATION:Donegal Christian & Missionary Alliance Church\, 210 Loyalhanna St.\, Donegal\, PA\, 15628\, United States
ATTACH;FMTTYPE=image/jpeg:https://hopeandpassion.org/wp-content/uploads/2026/02/Biblical-Breakdown-of-Current-Events-03-01-26.jpg
END:VEVENT
BEGIN:VEVENT
DTSTART;TZID=UTC:20260301T100000
DTEND;TZID=UTC:20260301T110000
DTSTAMP:20260423T211329
CREATED:20260210T011909Z
LAST-MODIFIED:20260303T194601Z
UID:10340-1772359200-1772362800@hopeandpassion.org
SUMMARY:Hope & Passion Ministries Sunday Morning Message
DESCRIPTION:
URL:https://hopeandpassion.org/event/hope-passion-ministries-sunday-morning-message-204/
LOCATION:Facebook Livestream @ Hope & Passion Ministries\, Inc. Facebook Page
ATTACH;FMTTYPE=image/jpeg:https://hopeandpassion.org/wp-content/uploads/2026/02/Biblical-Breakdown-of-Current-Events-03-01-26.jpg
END:VEVENT
BEGIN:VEVENT
DTSTART;TZID=UTC:20260303T183000
DTEND;TZID=UTC:20260303T193000
DTSTAMP:20260423T211329
CREATED:20260210T012025Z
LAST-MODIFIED:20260223T233024Z
UID:10344-1772562600-1772566200@hopeandpassion.org
SUMMARY:Hope & Passion Ministries Tuesday Bible Study
DESCRIPTION:
URL:https://hopeandpassion.org/event/hope-passion-ministries-tuesday-bible-study-141/
LOCATION:Facebook Livestream @ Hope & Passion Ministries\, Inc. Facebook Page
ATTACH;FMTTYPE=image/jpeg:https://hopeandpassion.org/wp-content/uploads/2026/02/Genesis-03-03-26.jpg
END:VEVENT
BEGIN:VEVENT
DTSTART;TZID=UTC:20260308T093000
DTEND;TZID=UTC:20260308T110000
DTSTAMP:20260423T211329
CREATED:20260223T233130Z
LAST-MODIFIED:20260303T194640Z
UID:10353-1772962200-1772967600@hopeandpassion.org
SUMMARY:Donegal C&MA Church Sunday Morning Message
DESCRIPTION:
URL:https://hopeandpassion.org/event/donegal-cma-church-sunday-morning-message-113/
LOCATION:Donegal Christian & Missionary Alliance Church\, 210 Loyalhanna St.\, Donegal\, PA\, 15628\, United States
ATTACH;FMTTYPE=image/jpeg:https://hopeandpassion.org/wp-content/uploads/2026/03/Romans-03-08-26.jpg
END:VEVENT
BEGIN:VEVENT
DTSTART;TZID=UTC:20260308T100000
DTEND;TZID=UTC:20260308T110000
DTSTAMP:20260423T211329
CREATED:20260223T233211Z
LAST-MODIFIED:20260303T194656Z
UID:10355-1772964000-1772967600@hopeandpassion.org
SUMMARY:Hope & Passion Ministries Sunday Morning Message
DESCRIPTION:
URL:https://hopeandpassion.org/event/hope-passion-ministries-sunday-morning-message-205/
LOCATION:Facebook Livestream @ Hope & Passion Ministries\, Inc. Facebook Page
ATTACH;FMTTYPE=image/jpeg:https://hopeandpassion.org/wp-content/uploads/2026/03/Romans-03-08-26.jpg
END:VEVENT
BEGIN:VEVENT
DTSTART;TZID=UTC:20260310T183000
DTEND;TZID=UTC:20260310T193000
DTSTAMP:20260423T211329
CREATED:20260223T233246Z
LAST-MODIFIED:20260303T194119Z
UID:10357-1773167400-1773171000@hopeandpassion.org
SUMMARY:CANCELLED - Hope & Passion Ministries Tuesday Bible Study
DESCRIPTION:
URL:https://hopeandpassion.org/event/hope-passion-ministries-tuesday-bible-study-142/
LOCATION:Facebook Livestream @ Hope & Passion Ministries\, Inc. Facebook Page
END:VEVENT
BEGIN:VEVENT
DTSTART;TZID=UTC:20260315T093000
DTEND;TZID=UTC:20260315T110000
DTSTAMP:20260423T211329
CREATED:20260223T233323Z
LAST-MODIFIED:20260303T194715Z
UID:10359-1773567000-1773572400@hopeandpassion.org
SUMMARY:Donegal C&MA Church Sunday Morning Message
DESCRIPTION:
URL:https://hopeandpassion.org/event/donegal-cma-church-sunday-morning-message-114/
LOCATION:Donegal Christian & Missionary Alliance Church\, 210 Loyalhanna St.\, Donegal\, PA\, 15628\, United States
ATTACH;FMTTYPE=image/jpeg:https://hopeandpassion.org/wp-content/uploads/2026/03/Daniel-03-15-26.jpg
END:VEVENT
BEGIN:VEVENT
DTSTART;TZID=UTC:20260315T100000
DTEND;TZID=UTC:20260315T110000
DTSTAMP:20260423T211329
CREATED:20260223T233402Z
LAST-MODIFIED:20260303T194731Z
UID:10361-1773568800-1773572400@hopeandpassion.org
SUMMARY:Hope & Passion Ministries Sunday Morning Message
DESCRIPTION:
URL:https://hopeandpassion.org/event/hope-passion-ministries-sunday-morning-message-206/
LOCATION:Facebook Livestream @ Hope & Passion Ministries\, Inc. Facebook Page
ATTACH;FMTTYPE=image/jpeg:https://hopeandpassion.org/wp-content/uploads/2026/03/Daniel-03-15-26.jpg
END:VEVENT
BEGIN:VEVENT
DTSTART;TZID=UTC:20260317T183000
DTEND;TZID=UTC:20260317T193000
DTSTAMP:20260423T211329
CREATED:20260223T233450Z
LAST-MODIFIED:20260303T200002Z
UID:10363-1773772200-1773775800@hopeandpassion.org
SUMMARY:Hope & Passion Ministries Tuesday Communion
DESCRIPTION:
URL:https://hopeandpassion.org/event/hope-passion-ministries-tuesday-bible-study-143/
LOCATION:Facebook Livestream @ Hope & Passion Ministries\, Inc. Facebook Page
ATTACH;FMTTYPE=image/jpeg:https://hopeandpassion.org/wp-content/uploads/2026/03/Dysfunction-Disappears-When-Why-Communion-Service-03-17-26.jpg
END:VEVENT
BEGIN:VEVENT
DTSTART;TZID=UTC:20260322T093000
DTEND;TZID=UTC:20260322T110000
DTSTAMP:20260423T211329
CREATED:20260303T200041Z
LAST-MODIFIED:20260303T200041Z
UID:10377-1774171800-1774177200@hopeandpassion.org
SUMMARY:Donegal C&MA Church Sunday Morning Message
DESCRIPTION:
URL:https://hopeandpassion.org/event/donegal-cma-church-sunday-morning-message-115/
LOCATION:Donegal Christian & Missionary Alliance Church\, 210 Loyalhanna St.\, Donegal\, PA\, 15628\, United States
ATTACH;FMTTYPE=image/jpeg:https://hopeandpassion.org/wp-content/uploads/2026/03/Romans-03-22-26.jpg
END:VEVENT
BEGIN:VEVENT
DTSTART;TZID=UTC:20260322T100000
DTEND;TZID=UTC:20260322T110000
DTSTAMP:20260423T211329
CREATED:20260303T200112Z
LAST-MODIFIED:20260303T200112Z
UID:10379-1774173600-1774177200@hopeandpassion.org
SUMMARY:Hope & Passion Ministries Sunday Morning Message
DESCRIPTION:
URL:https://hopeandpassion.org/event/hope-passion-ministries-sunday-morning-message-207/
LOCATION:Facebook Livestream @ Hope & Passion Ministries\, Inc. Facebook Page
ATTACH;FMTTYPE=image/jpeg:https://hopeandpassion.org/wp-content/uploads/2026/03/Romans-03-22-26.jpg
END:VEVENT
BEGIN:VEVENT
DTSTART;TZID=UTC:20260329T093000
DTEND;TZID=UTC:20260329T110000
DTSTAMP:20260423T211329
CREATED:20260303T200212Z
LAST-MODIFIED:20260318T213353Z
UID:10383-1774776600-1774782000@hopeandpassion.org
SUMMARY:Donegal C&MA Church Sunday Morning Message
DESCRIPTION:
URL:https://hopeandpassion.org/event/donegal-cma-church-sunday-morning-message-116/
LOCATION:Donegal Christian & Missionary Alliance Church\, 210 Loyalhanna St.\, Donegal\, PA\, 15628\, United States
ATTACH;FMTTYPE=image/jpeg:https://hopeandpassion.org/wp-content/uploads/2026/03/Daniel-03-29-26.jpg
END:VEVENT
BEGIN:VEVENT
DTSTART;TZID=UTC:20260329T100000
DTEND;TZID=UTC:20260329T110000
DTSTAMP:20260423T211329
CREATED:20260303T200141Z
LAST-MODIFIED:20260318T213407Z
UID:10381-1774778400-1774782000@hopeandpassion.org
SUMMARY:Hope & Passion Ministries Sunday Morning Message
DESCRIPTION:
URL:https://hopeandpassion.org/event/hope-passion-ministries-sunday-morning-message-208/
LOCATION:Facebook Livestream @ Hope & Passion Ministries\, Inc. Facebook Page
ATTACH;FMTTYPE=image/jpeg:https://hopeandpassion.org/wp-content/uploads/2026/03/Daniel-03-29-26.jpg
END:VEVENT
BEGIN:VEVENT
DTSTART;TZID=UTC:20260403T120000
DTEND;TZID=UTC:20260403T130000
DTSTAMP:20260423T211329
CREATED:20260331T012820Z
LAST-MODIFIED:20260331T012820Z
UID:10415-1775217600-1775221200@hopeandpassion.org
SUMMARY:Hope & Passion Ministries Good Friday Communion Service
DESCRIPTION:
URL:https://hopeandpassion.org/event/hope-passion-ministries-good-friday-communion-service-2/
LOCATION:Facebook Livestream @ Hope & Passion Ministries\, Inc. Facebook Page
ATTACH;FMTTYPE=image/jpeg:https://hopeandpassion.org/wp-content/uploads/2026/03/Good-Friday-Communion-Service-04-03-26.jpg
END:VEVENT
BEGIN:VEVENT
DTSTART;TZID=UTC:20260405T093000
DTEND;TZID=UTC:20260405T110000
DTSTAMP:20260423T211329
CREATED:20260303T200330Z
LAST-MODIFIED:20260327T223304Z
UID:10387-1775381400-1775386800@hopeandpassion.org
SUMMARY:Donegal C&MA Church Sunday Morning Message
DESCRIPTION:
URL:https://hopeandpassion.org/event/donegal-cma-church-sunday-morning-message-117/
LOCATION:Donegal Christian & Missionary Alliance Church\, 210 Loyalhanna St.\, Donegal\, PA\, 15628\, United States
ATTACH;FMTTYPE=image/jpeg:https://hopeandpassion.org/wp-content/uploads/2026/03/The-Resurrection-You-Might-Have-Missed-04-05-26.jpg
END:VEVENT
BEGIN:VEVENT
DTSTART;TZID=UTC:20260405T100000
DTEND;TZID=UTC:20260405T110000
DTSTAMP:20260423T211329
CREATED:20260303T200358Z
LAST-MODIFIED:20260327T223322Z
UID:10389-1775383200-1775386800@hopeandpassion.org
SUMMARY:Hope & Passion Ministries Sunday Morning Message
DESCRIPTION:
URL:https://hopeandpassion.org/event/hope-passion-ministries-sunday-morning-message-209/
LOCATION:Facebook Livestream @ Hope & Passion Ministries\, Inc. Facebook Page
ATTACH;FMTTYPE=image/jpeg:https://hopeandpassion.org/wp-content/uploads/2026/03/The-Resurrection-You-Might-Have-Missed-04-05-26.jpg
END:VEVENT
BEGIN:VEVENT
DTSTART;TZID=UTC:20260407T183000
DTEND;TZID=UTC:20260407T193000
DTSTAMP:20260423T211329
CREATED:20260303T200301Z
LAST-MODIFIED:20260408T185905Z
UID:10385-1775586600-1775590200@hopeandpassion.org
SUMMARY:CANCELLED - Hope & Passion Ministries Tuesday Bible Study
DESCRIPTION:
URL:https://hopeandpassion.org/event/hope-passion-ministries-tuesday-bible-study-144/
LOCATION:Facebook Livestream @ Hope & Passion Ministries\, Inc. Facebook Page
END:VEVENT
BEGIN:VEVENT
DTSTART;TZID=UTC:20260412T090000
DTEND;TZID=UTC:20260412T100000
DTSTAMP:20260423T211329
CREATED:20260327T223518Z
LAST-MODIFIED:20260327T223518Z
UID:10408-1775984400-1775988000@hopeandpassion.org
SUMMARY:Hope & Passion Ministries Sunday Morning Message
DESCRIPTION:
URL:https://hopeandpassion.org/event/hope-passion-ministries-sunday-morning-message-210/
LOCATION:Facebook Livestream @ Hope & Passion Ministries\, Inc. Facebook Page
ATTACH;FMTTYPE=image/jpeg:https://hopeandpassion.org/wp-content/uploads/2026/03/Romans-04-12-26-1.jpg
END:VEVENT
BEGIN:VEVENT
DTSTART;TZID=UTC:20260412T093000
DTEND;TZID=UTC:20260412T110000
DTSTAMP:20260423T211329
CREATED:20260327T223435Z
LAST-MODIFIED:20260327T223435Z
UID:10406-1775986200-1775991600@hopeandpassion.org
SUMMARY:Donegal C&MA Church Sunday Morning Message
DESCRIPTION:
URL:https://hopeandpassion.org/event/donegal-cma-church-sunday-morning-message-118/
LOCATION:Donegal Christian & Missionary Alliance Church\, 210 Loyalhanna St.\, Donegal\, PA\, 15628\, United States
ATTACH;FMTTYPE=image/jpeg:https://hopeandpassion.org/wp-content/uploads/2026/03/Romans-04-12-26-1.jpg
END:VEVENT
END:VCALENDAR