BEGIN:VCALENDAR
VERSION:2.0
PRODID:-//Hope and Passion Ministries - ECPv6.15.18//NONSGML v1.0//EN
CALSCALE:GREGORIAN
METHOD:PUBLISH
X-ORIGINAL-URL:https://hopeandpassion.org
X-WR-CALDESC:Events for Hope and Passion Ministries
REFRESH-INTERVAL;VALUE=DURATION:PT1H
X-Robots-Tag:noindex
X-PUBLISHED-TTL:PT1H
BEGIN:VTIMEZONE
TZID:UTC
BEGIN:STANDARD
TZOFFSETFROM:+0000
TZOFFSETTO:+0000
TZNAME:UTC
DTSTART:20250101T000000
END:STANDARD
END:VTIMEZONE
BEGIN:VEVENT
DTSTART;TZID=UTC:20260616T183000
DTEND;TZID=UTC:20260616T193000
DTSTAMP:20260423T211329
CREATED:20260421T175858Z
LAST-MODIFIED:20260421T175858Z
UID:10475-1781634600-1781638200@hopeandpassion.org
SUMMARY:Hope & Passion Ministries Tuesday Bible Study
DESCRIPTION:
URL:https://hopeandpassion.org/event/hope-passion-ministries-tuesday-bible-study-151/
LOCATION:Facebook Livestream @ Hope & Passion Ministries\, Inc. Facebook Page
END:VEVENT
BEGIN:VEVENT
DTSTART;TZID=UTC:20260707T183000
DTEND;TZID=UTC:20260707T193000
DTSTAMP:20260423T211329
CREATED:20260421T175936Z
LAST-MODIFIED:20260421T175936Z
UID:10477-1783449000-1783452600@hopeandpassion.org
SUMMARY:Hope & Passion Ministries Tuesday Bible Study
DESCRIPTION:
URL:https://hopeandpassion.org/event/hope-passion-ministries-tuesday-bible-study-152/
LOCATION:Facebook Livestream @ Hope & Passion Ministries\, Inc. Facebook Page
END:VEVENT
BEGIN:VEVENT
DTSTART;TZID=UTC:20260711T170000
DTEND;TZID=UTC:20260711T183000
DTSTAMP:20260423T211329
CREATED:20250825T163624Z
LAST-MODIFIED:20260303T200445Z
UID:10079-1783789200-1783794600@hopeandpassion.org
SUMMARY:Hope & Passion Ministries Baptism Service
DESCRIPTION:Do you desire to be baptized in water in obedience to Jesus? Contact us at www.hopeandpassion.org or e-mail us a hope.passion.ministries@verizon.net! Shelli will be holding a baptism event in July 2026 in Donegal\, PA!
URL:https://hopeandpassion.org/event/july-2026-date-tbd-hope-passion-ministries-baptism-service/
LOCATION:Donegal Christian & Missionary Alliance Church\, 210 Loyalhanna St.\, Donegal\, PA\, 15628\, United States
ATTACH;FMTTYPE=image/jpeg:https://hopeandpassion.org/wp-content/uploads/2025/08/Baptism-07-2026.jpg
END:VEVENT
BEGIN:VEVENT
DTSTART;TZID=UTC:20260714T183000
DTEND;TZID=UTC:20260714T193000
DTSTAMP:20260423T211329
CREATED:20260421T180005Z
LAST-MODIFIED:20260421T180102Z
UID:10479-1784053800-1784057400@hopeandpassion.org
SUMMARY:Hope & Passion Ministries Tuesday Bible Study
DESCRIPTION:
URL:https://hopeandpassion.org/event/hope-passion-ministries-tuesday-bible-study-153/
LOCATION:Facebook Livestream @ Hope & Passion Ministries\, Inc. Facebook Page
END:VEVENT
END:VCALENDAR