BEGIN:VCALENDAR
VERSION:2.0
PRODID:-//Hope and Passion Ministries - ECPv6.15.18//NONSGML v1.0//EN
CALSCALE:GREGORIAN
METHOD:PUBLISH
X-WR-CALNAME:Hope and Passion Ministries
X-ORIGINAL-URL:https://hopeandpassion.org
X-WR-CALDESC:Events for Hope and Passion Ministries
REFRESH-INTERVAL;VALUE=DURATION:PT1H
X-Robots-Tag:noindex
X-PUBLISHED-TTL:PT1H
BEGIN:VTIMEZONE
TZID:UTC
BEGIN:STANDARD
TZOFFSETFROM:+0000
TZOFFSETTO:+0000
TZNAME:UTC
DTSTART:20240101T000000
END:STANDARD
END:VTIMEZONE
BEGIN:VEVENT
DTSTART;TZID=UTC:20250309T100000
DTEND;TZID=UTC:20250309T110000
DTSTAMP:20260425T121714
CREATED:20250224T213324Z
LAST-MODIFIED:20250224T213324Z
UID:9799-1741514400-1741518000@hopeandpassion.org
SUMMARY:Hope & Passion Ministries Sunday Morning Message
DESCRIPTION:
URL:https://hopeandpassion.org/event/hope-passion-ministries-sunday-morning-message-158/
LOCATION:Facebook Livestream @ Hope & Passion Ministries\, Inc. Facebook Page
ATTACH;FMTTYPE=image/jpeg:https://hopeandpassion.org/wp-content/uploads/2025/02/Darkness-Defying-Destiny-03-09-25.jpg
END:VEVENT
BEGIN:VEVENT
DTSTART;TZID=UTC:20250311T183000
DTEND;TZID=UTC:20250311T193000
DTSTAMP:20260425T121714
CREATED:20250307T001539Z
LAST-MODIFIED:20250307T001539Z
UID:9814-1741717800-1741721400@hopeandpassion.org
SUMMARY:Hope & Passion Ministries Tuesday Bible Study
DESCRIPTION:
URL:https://hopeandpassion.org/event/hope-passion-ministries-tuesday-bible-study-112/
LOCATION:Facebook Livestream @ Hope & Passion Ministries\, Inc. Facebook Page
ATTACH;FMTTYPE=image/jpeg:https://hopeandpassion.org/wp-content/uploads/2025/03/Rapture-Second-Coming-Noahs-Ark-Enoch-Part-2-03-11-25.jpg
END:VEVENT
BEGIN:VEVENT
DTSTART;TZID=UTC:20250316T093000
DTEND;TZID=UTC:20250316T110000
DTSTAMP:20260425T121714
CREATED:20250224T213419Z
LAST-MODIFIED:20250224T213752Z
UID:9801-1742117400-1742122800@hopeandpassion.org
SUMMARY:Donegal C&MA Church Sunday Morning Message
DESCRIPTION:
URL:https://hopeandpassion.org/event/donegal-cma-church-sunday-morning-message-70/
LOCATION:Donegal Christian & Missionary Alliance Church\, 210 Loyalhanna St.\, Donegal\, PA\, 15628\, United States
ATTACH;FMTTYPE=image/jpeg:https://hopeandpassion.org/wp-content/uploads/2025/02/Romans-03-16-25.jpg
END:VEVENT
BEGIN:VEVENT
DTSTART;TZID=UTC:20250316T100000
DTEND;TZID=UTC:20250316T110000
DTSTAMP:20260425T121714
CREATED:20250224T213615Z
LAST-MODIFIED:20250224T213615Z
UID:9803-1742119200-1742122800@hopeandpassion.org
SUMMARY:Hope & Passion Ministries Sunday Morning Message
DESCRIPTION:
URL:https://hopeandpassion.org/event/hope-passion-ministries-sunday-morning-message-159/
ATTACH;FMTTYPE=image/jpeg:https://hopeandpassion.org/wp-content/uploads/2025/02/Romans-03-16-25.jpg
END:VEVENT
BEGIN:VEVENT
DTSTART;TZID=UTC:20250318T063000
DTEND;TZID=UTC:20250318T193000
DTSTAMP:20260425T121714
CREATED:20250307T001624Z
LAST-MODIFIED:20250317T225536Z
UID:9816-1742279400-1742326200@hopeandpassion.org
SUMMARY:CANCELLED - Hope & Passion Ministries Tuesday Bible Study
DESCRIPTION:
URL:https://hopeandpassion.org/event/hope-passion-ministries-tuesday-bible-study-113/
LOCATION:Facebook Livestream @ Hope & Passion Ministries\, Inc. Facebook Page
END:VEVENT
BEGIN:VEVENT
DTSTART;TZID=UTC:20250323T093000
DTEND;TZID=UTC:20250323T110000
DTSTAMP:20260425T121714
CREATED:20250306T234002Z
LAST-MODIFIED:20250306T234002Z
UID:9806-1742722200-1742727600@hopeandpassion.org
SUMMARY:Donegal C&MA Church Sunday Morning Message
DESCRIPTION:
URL:https://hopeandpassion.org/event/donegal-cma-church-sunday-morning-message-71/
LOCATION:Donegal Christian & Missionary Alliance Church\, 210 Loyalhanna St.\, Donegal\, PA\, 15628\, United States
ATTACH;FMTTYPE=image/jpeg:https://hopeandpassion.org/wp-content/uploads/2025/03/Daniel-03-23-25.jpg
END:VEVENT
BEGIN:VEVENT
DTSTART;TZID=UTC:20250323T100000
DTEND;TZID=UTC:20250323T110000
DTSTAMP:20260425T121714
CREATED:20250306T234046Z
LAST-MODIFIED:20250306T234046Z
UID:9810-1742724000-1742727600@hopeandpassion.org
SUMMARY:Hope & Passion Ministries Sunday Morning Message
DESCRIPTION:
URL:https://hopeandpassion.org/event/hope-passion-ministries-sunday-morning-message-160/
LOCATION:Facebook Livestream @ Hope & Passion Ministries\, Inc. Facebook Page
ATTACH;FMTTYPE=image/jpeg:https://hopeandpassion.org/wp-content/uploads/2025/03/Daniel-03-23-25.jpg
END:VEVENT
BEGIN:VEVENT
DTSTART;TZID=UTC:20250330T093000
DTEND;TZID=UTC:20250330T110000
DTSTAMP:20260425T121714
CREATED:20250307T001712Z
LAST-MODIFIED:20250317T225622Z
UID:9818-1743327000-1743332400@hopeandpassion.org
SUMMARY:Donegal C&MA Church Sunday Morning Message
DESCRIPTION:
URL:https://hopeandpassion.org/event/donegal-cma-church-sunday-morning-message-72/
LOCATION:Donegal Christian & Missionary Alliance Church\, 210 Loyalhanna St.\, Donegal\, PA\, 15628\, United States
ATTACH;FMTTYPE=image/jpeg:https://hopeandpassion.org/wp-content/uploads/2025/03/Romans-03-30-25.jpg
END:VEVENT
BEGIN:VEVENT
DTSTART;TZID=UTC:20250330T100000
DTEND;TZID=UTC:20250330T230000
DTSTAMP:20260425T121714
CREATED:20250307T001746Z
LAST-MODIFIED:20250317T225643Z
UID:9820-1743328800-1743375600@hopeandpassion.org
SUMMARY:Hope & Passion Ministries Sunday Morning Message
DESCRIPTION:
URL:https://hopeandpassion.org/event/hope-passion-ministries-sunday-morning-message-161/
LOCATION:Facebook Livestream @ Hope & Passion Ministries\, Inc. Facebook Page
ATTACH;FMTTYPE=image/jpeg:https://hopeandpassion.org/wp-content/uploads/2025/03/Romans-03-30-25.jpg
END:VEVENT
BEGIN:VEVENT
DTSTART;TZID=UTC:20250401T183000
DTEND;TZID=UTC:20250401T193000
DTSTAMP:20260425T121714
CREATED:20250307T002240Z
LAST-MODIFIED:20250328T184436Z
UID:9827-1743532200-1743535800@hopeandpassion.org
SUMMARY:Hope & Passion Ministries Tuesday Bible Study
DESCRIPTION:
URL:https://hopeandpassion.org/event/hope-passion-ministries-tuesday-bible-study-114/
LOCATION:Facebook Livestream @ Hope & Passion Ministries\, Inc. Facebook Page
ATTACH;FMTTYPE=image/jpeg:https://hopeandpassion.org/wp-content/uploads/2025/03/Rapture-Second-Coming-Noahs-Art-Part-3-04-01-25.jpg
END:VEVENT
BEGIN:VEVENT
DTSTART;TZID=UTC:20250406T100000
DTEND;TZID=UTC:20250406T230000
DTSTAMP:20260425T121714
CREATED:20250307T001829Z
LAST-MODIFIED:20250328T145020Z
UID:9822-1743933600-1743980400@hopeandpassion.org
SUMMARY:Hope & Passion Ministries Sunday Morning Recorded Message - No Donegal C&MA Today
DESCRIPTION:H&P will post a recorded message on YouTube. We will not be in-person at Donegal Christian & Missionary Alliance church this week. It is their Missions Conference Sunday.
URL:https://hopeandpassion.org/event/hope-passion-ministries-sunday-morning-message-162/
LOCATION:Facebook Livestream @ Hope & Passion Ministries\, Inc. Facebook Page
ATTACH;FMTTYPE=image/jpeg:https://hopeandpassion.org/wp-content/uploads/2025/03/Big-Picture-God-04-06-25.jpg
END:VEVENT
BEGIN:VEVENT
DTSTART;TZID=UTC:20250408T183000
DTEND;TZID=UTC:20250408T193000
DTSTAMP:20260425T121714
CREATED:20250307T002313Z
LAST-MODIFIED:20250404T203511Z
UID:9829-1744137000-1744140600@hopeandpassion.org
SUMMARY:Hope & Passion Ministries Tuesday Bible Study
DESCRIPTION:
URL:https://hopeandpassion.org/event/hope-passion-ministries-tuesday-bible-study-115/
LOCATION:Facebook Livestream @ Hope & Passion Ministries\, Inc. Facebook Page
ATTACH;FMTTYPE=image/jpeg:https://hopeandpassion.org/wp-content/uploads/2025/04/Rapture-Second-Coming-Noahs-Ark-Part-4-04-08-25.jpg
END:VEVENT
BEGIN:VEVENT
DTSTART;TZID=UTC:20250413T093000
DTEND;TZID=UTC:20250413T110000
DTSTAMP:20260425T121714
CREATED:20250307T002425Z
LAST-MODIFIED:20250317T230953Z
UID:9833-1744536600-1744542000@hopeandpassion.org
SUMMARY:Donegal C&MA Church Sunday Morning Message
DESCRIPTION:
URL:https://hopeandpassion.org/event/donegal-cma-church-sunday-morning-message-73/
LOCATION:Donegal Christian & Missionary Alliance Church\, 210 Loyalhanna St.\, Donegal\, PA\, 15628\, United States
ATTACH;FMTTYPE=image/jpeg:https://hopeandpassion.org/wp-content/uploads/2025/03/Daniel-04-13-25.jpg
END:VEVENT
BEGIN:VEVENT
DTSTART;TZID=UTC:20250413T100000
DTEND;TZID=UTC:20250413T110000
DTSTAMP:20260425T121714
CREATED:20250307T002517Z
LAST-MODIFIED:20250317T230938Z
UID:9835-1744538400-1744542000@hopeandpassion.org
SUMMARY:Hope & Passion Ministries Sunday Morning Message
DESCRIPTION:
URL:https://hopeandpassion.org/event/hope-passion-ministries-sunday-morning-message-163/
LOCATION:Facebook Livestream @ Hope & Passion Ministries\, Inc. Facebook Page
ATTACH;FMTTYPE=image/jpeg:https://hopeandpassion.org/wp-content/uploads/2025/03/Daniel-04-13-25.jpg
END:VEVENT
BEGIN:VEVENT
DTSTART;TZID=UTC:20250415T183000
DTEND;TZID=UTC:20250415T193000
DTSTAMP:20260425T121714
CREATED:20250307T002343Z
LAST-MODIFIED:20250404T203554Z
UID:9831-1744741800-1744745400@hopeandpassion.org
SUMMARY:CANCELLED - Hope & Passion Ministries Tuesday Bible Study
DESCRIPTION:
URL:https://hopeandpassion.org/event/hope-passion-ministries-tuesday-bible-study-116/
LOCATION:Facebook Livestream @ Hope & Passion Ministries\, Inc. Facebook Page
END:VEVENT
BEGIN:VEVENT
DTSTART;TZID=UTC:20250418T120000
DTEND;TZID=UTC:20250418T130000
DTSTAMP:20260425T121714
CREATED:20250328T143355Z
LAST-MODIFIED:20250328T145147Z
UID:9859-1744977600-1744981200@hopeandpassion.org
SUMMARY:Hope & Passion Ministries Good Friday Communion Service
DESCRIPTION:
URL:https://hopeandpassion.org/event/hope-passion-ministries-good-friday-communion-service/
LOCATION:Facebook Livestream @ Hope & Passion Ministries\, Inc. Facebook Page
ATTACH;FMTTYPE=image/jpeg:https://hopeandpassion.org/wp-content/uploads/2025/03/Good-Friday-Communion-Service-04-18-25.jpg
END:VEVENT
BEGIN:VEVENT
DTSTART;TZID=UTC:20250420T093000
DTEND;TZID=UTC:20250420T110000
DTSTAMP:20260425T121714
CREATED:20250307T002604Z
LAST-MODIFIED:20250328T145224Z
UID:9837-1745141400-1745146800@hopeandpassion.org
SUMMARY:Donegal C&MA Church Sunday Morning Message
DESCRIPTION:
URL:https://hopeandpassion.org/event/donegal-cma-church-sunday-morning-message-74/
LOCATION:Donegal Christian & Missionary Alliance Church\, 210 Loyalhanna St.\, Donegal\, PA\, 15628\, United States
ATTACH;FMTTYPE=image/jpeg:https://hopeandpassion.org/wp-content/uploads/2025/03/Things-Into-Which-Angels-Long-to-Look-Resurrection-Sunday-04-20-25.jpg
END:VEVENT
BEGIN:VEVENT
DTSTART;TZID=UTC:20250420T100000
DTEND;TZID=UTC:20250420T110000
DTSTAMP:20260425T121714
CREATED:20250307T002644Z
LAST-MODIFIED:20250328T145253Z
UID:9839-1745143200-1745146800@hopeandpassion.org
SUMMARY:Hope & Passion Ministries Sunday Morning Message
DESCRIPTION:
URL:https://hopeandpassion.org/event/hope-passion-ministries-sunday-morning-message-164/
LOCATION:Facebook Livestream @ Hope & Passion Ministries\, Inc. Facebook Page
ATTACH;FMTTYPE=image/jpeg:https://hopeandpassion.org/wp-content/uploads/2025/03/Things-Into-Which-Angels-Long-to-Look-Resurrection-Sunday-04-20-25.jpg
END:VEVENT
BEGIN:VEVENT
DTSTART;TZID=UTC:20250427T093000
DTEND;TZID=UTC:20250427T110000
DTSTAMP:20260425T121714
CREATED:20250307T002744Z
LAST-MODIFIED:20250328T190736Z
UID:9841-1745746200-1745751600@hopeandpassion.org
SUMMARY:Donegal C&MA Church Sunday Morning Message
DESCRIPTION:
URL:https://hopeandpassion.org/event/donegal-cma-church-sunday-morning-message-75/
LOCATION:Donegal Christian & Missionary Alliance Church\, 210 Loyalhanna St.\, Donegal\, PA\, 15628\, United States
ATTACH;FMTTYPE=image/jpeg:https://hopeandpassion.org/wp-content/uploads/2025/03/Romans-04-27-25.jpg
END:VEVENT
BEGIN:VEVENT
DTSTART;TZID=UTC:20250427T100000
DTEND;TZID=UTC:20250427T110000
DTSTAMP:20260425T121714
CREATED:20250307T002824Z
LAST-MODIFIED:20250328T190753Z
UID:9843-1745748000-1745751600@hopeandpassion.org
SUMMARY:Hope & Passion Ministries Sunday Morning Message
DESCRIPTION:
URL:https://hopeandpassion.org/event/hope-passion-ministries-sunday-morning-message-165/
LOCATION:Facebook Livestream @ Hope & Passion Ministries\, Inc. Facebook Page
ATTACH;FMTTYPE=image/jpeg:https://hopeandpassion.org/wp-content/uploads/2025/03/Romans-04-27-25.jpg
END:VEVENT
BEGIN:VEVENT
DTSTART;TZID=UTC:20250504T093000
DTEND;TZID=UTC:20250504T110000
DTSTAMP:20260425T121714
CREATED:20250422T232356Z
LAST-MODIFIED:20250422T232356Z
UID:9886-1746351000-1746356400@hopeandpassion.org
SUMMARY:Donegal C&MA Church Sunday Morning Message
DESCRIPTION:
URL:https://hopeandpassion.org/event/donegal-cma-church-sunday-morning-message-76/
LOCATION:Donegal Christian & Missionary Alliance Church\, 210 Loyalhanna St.\, Donegal\, PA\, 15628\, United States
ATTACH;FMTTYPE=image/jpeg:https://hopeandpassion.org/wp-content/uploads/2025/04/Daniel-05-04-25.jpg
END:VEVENT
BEGIN:VEVENT
DTSTART;TZID=UTC:20250504T100000
DTEND;TZID=UTC:20250504T110000
DTSTAMP:20260425T121714
CREATED:20250422T232433Z
LAST-MODIFIED:20250422T232433Z
UID:9888-1746352800-1746356400@hopeandpassion.org
SUMMARY:Hope & Passion Ministries Sunday Morning Message
DESCRIPTION:
URL:https://hopeandpassion.org/event/hope-passion-ministries-sunday-morning-message-166/
LOCATION:Facebook Livestream @ Hope & Passion Ministries\, Inc. Facebook Page
ATTACH;FMTTYPE=image/jpeg:https://hopeandpassion.org/wp-content/uploads/2025/04/Daniel-05-04-25.jpg
END:VEVENT
BEGIN:VEVENT
DTSTART;TZID=UTC:20250506T183000
DTEND;TZID=UTC:20250506T193000
DTSTAMP:20260425T121714
CREATED:20250422T232520Z
LAST-MODIFIED:20250422T232520Z
UID:9890-1746556200-1746559800@hopeandpassion.org
SUMMARY:Hope & Passion Ministries Tuesday Bible Study
DESCRIPTION:
URL:https://hopeandpassion.org/event/hope-passion-ministries-tuesday-bible-study-117/
LOCATION:Facebook Livestream @ Hope & Passion Ministries\, Inc. Facebook Page
ATTACH;FMTTYPE=image/jpeg:https://hopeandpassion.org/wp-content/uploads/2025/04/Rapture-Second-Coming-Noahs-Ark-Part-5-05-06-25.jpg
END:VEVENT
BEGIN:VEVENT
DTSTART;TZID=UTC:20250511T093000
DTEND;TZID=UTC:20250511T110000
DTSTAMP:20260425T121714
CREATED:20250422T232603Z
LAST-MODIFIED:20250422T232603Z
UID:9892-1746955800-1746961200@hopeandpassion.org
SUMMARY:Donegal C&MA Church Sunday Morning Message
DESCRIPTION:
URL:https://hopeandpassion.org/event/donegal-cma-church-sunday-morning-message-77/
LOCATION:Donegal Christian & Missionary Alliance Church\, 210 Loyalhanna St.\, Donegal\, PA\, 15628\, United States
ATTACH;FMTTYPE=image/jpeg:https://hopeandpassion.org/wp-content/uploads/2025/04/Romans-05-11-25.jpg
END:VEVENT
BEGIN:VEVENT
DTSTART;TZID=UTC:20250511T100000
DTEND;TZID=UTC:20250511T110000
DTSTAMP:20260425T121714
CREATED:20250422T232649Z
LAST-MODIFIED:20250422T232649Z
UID:9894-1746957600-1746961200@hopeandpassion.org
SUMMARY:Hope & Passion Ministries Sunday Morning Message
DESCRIPTION:
URL:https://hopeandpassion.org/event/hope-passion-ministries-sunday-morning-message-167/
LOCATION:Facebook Livestream @ Hope & Passion Ministries\, Inc. Facebook Page
ATTACH;FMTTYPE=image/jpeg:https://hopeandpassion.org/wp-content/uploads/2025/04/Romans-05-11-25.jpg
END:VEVENT
BEGIN:VEVENT
DTSTART;TZID=UTC:20250513T183000
DTEND;TZID=UTC:20250513T193000
DTSTAMP:20260425T121714
CREATED:20250422T232805Z
LAST-MODIFIED:20250507T150916Z
UID:9896-1747161000-1747164600@hopeandpassion.org
SUMMARY:Hope & Passion Ministries Tuesday Bible Study
DESCRIPTION:
URL:https://hopeandpassion.org/event/hope-passion-ministries-tuesday-bible-study-118/
LOCATION:Facebook Livestream @ Hope & Passion Ministries\, Inc. Facebook Page
ATTACH;FMTTYPE=image/jpeg:https://hopeandpassion.org/wp-content/uploads/2025/04/Rapture-Second-Coming-Noahs-Ark-Connecting-the-Dots-Part-6-05-13-25.jpg
END:VEVENT
BEGIN:VEVENT
DTSTART;TZID=UTC:20250518T093000
DTEND;TZID=UTC:20250518T110000
DTSTAMP:20260425T121714
CREATED:20250422T232920Z
LAST-MODIFIED:20250430T190008Z
UID:9900-1747560600-1747566000@hopeandpassion.org
SUMMARY:Donegal C&MA Church Sunday Morning Message
DESCRIPTION:
URL:https://hopeandpassion.org/event/donegal-cma-church-sunday-morning-message-78/
LOCATION:Donegal Christian & Missionary Alliance Church\, 210 Loyalhanna St.\, Donegal\, PA\, 15628\, United States
ATTACH;FMTTYPE=image/jpeg:https://hopeandpassion.org/wp-content/uploads/2025/04/Daniel-05-18-25.jpg
END:VEVENT
BEGIN:VEVENT
DTSTART;TZID=UTC:20250518T100000
DTEND;TZID=UTC:20250518T110000
DTSTAMP:20260425T121714
CREATED:20250422T233003Z
LAST-MODIFIED:20250430T190041Z
UID:9902-1747562400-1747566000@hopeandpassion.org
SUMMARY:Hope & Passion Ministries Sunday Morning Message
DESCRIPTION:
URL:https://hopeandpassion.org/event/hope-passion-ministries-sunday-morning-message-168/
LOCATION:Facebook Livestream @ Hope & Passion Ministries\, Inc. Facebook Page
ATTACH;FMTTYPE=image/jpeg:https://hopeandpassion.org/wp-content/uploads/2025/04/Daniel-05-18-25.jpg
END:VEVENT
BEGIN:VEVENT
DTSTART;TZID=UTC:20250520T183000
DTEND;TZID=UTC:20250520T193000
DTSTAMP:20260425T121714
CREATED:20250422T232837Z
LAST-MODIFIED:20250516T151501Z
UID:9898-1747765800-1747769400@hopeandpassion.org
SUMMARY:CANCELLED - Hope & Passion Ministries Tuesday Bible Study
DESCRIPTION:
URL:https://hopeandpassion.org/event/hope-passion-ministries-tuesday-bible-study-119/
LOCATION:Facebook Livestream @ Hope & Passion Ministries\, Inc. Facebook Page
END:VEVENT
BEGIN:VEVENT
DTSTART;TZID=UTC:20250525T093000
DTEND;TZID=UTC:20250525T110000
DTSTAMP:20260425T121714
CREATED:20250506T132919Z
LAST-MODIFIED:20250506T132919Z
UID:9912-1748165400-1748170800@hopeandpassion.org
SUMMARY:Donegal C&MA Church Sunday Morning Message
DESCRIPTION:
URL:https://hopeandpassion.org/event/donegal-cma-church-sunday-morning-message-79/
LOCATION:Donegal Christian & Missionary Alliance Church\, 210 Loyalhanna St.\, Donegal\, PA\, 15628\, United States
ATTACH;FMTTYPE=image/jpeg:https://hopeandpassion.org/wp-content/uploads/2025/05/Romans-05-25-25.jpg
END:VEVENT
END:VCALENDAR