BEGIN:VCALENDAR
VERSION:2.0
PRODID:-//Hope and Passion Ministries - ECPv6.15.18//NONSGML v1.0//EN
CALSCALE:GREGORIAN
METHOD:PUBLISH
X-WR-CALNAME:Hope and Passion Ministries
X-ORIGINAL-URL:https://hopeandpassion.org
X-WR-CALDESC:Events for Hope and Passion Ministries
REFRESH-INTERVAL;VALUE=DURATION:PT1H
X-Robots-Tag:noindex
X-PUBLISHED-TTL:PT1H
BEGIN:VTIMEZONE
TZID:UTC
BEGIN:STANDARD
TZOFFSETFROM:+0000
TZOFFSETTO:+0000
TZNAME:UTC
DTSTART:20220101T000000
END:STANDARD
END:VTIMEZONE
BEGIN:VEVENT
DTSTART;TZID=UTC:20231105T110000
DTEND;TZID=UTC:20231105T120000
DTSTAMP:20260425T111425
CREATED:20230521T211549Z
LAST-MODIFIED:20230521T211631Z
UID:8696-1699182000-1699185600@hopeandpassion.org
SUMMARY:Latrobe Presbyterian Church Sunday Morning Message
DESCRIPTION:
URL:https://hopeandpassion.org/event/latrobe-presbyterian-church-sunday-morning-message/
LOCATION:Latrobe Presbyterian Church\, 340 Spring St.\, Latrobe\, PA\, 15650\, United States
END:VEVENT
BEGIN:VEVENT
DTSTART;TZID=UTC:20231105T100000
DTEND;TZID=UTC:20231105T110000
DTSTAMP:20260425T111425
CREATED:20231015T225128Z
LAST-MODIFIED:20231015T225128Z
UID:8966-1699178400-1699182000@hopeandpassion.org
SUMMARY:Hope & Passion Ministries Sunday Morning Message
DESCRIPTION:
URL:https://hopeandpassion.org/event/hope-passion-ministries-sunday-morning-message-94/
LOCATION:Facebook Livestream @ Hope & Passion Ministries\, Inc. Facebook Page
ATTACH;FMTTYPE=image/jpeg:https://hopeandpassion.org/wp-content/uploads/2023/10/Other-Worldly-Peace-in-a-Shaking-Universe-11-05-23.jpg
END:VEVENT
BEGIN:VEVENT
DTSTART;TZID=UTC:20231029T100000
DTEND;TZID=UTC:20231029T110000
DTSTAMP:20260425T111425
CREATED:20231011T220721Z
LAST-MODIFIED:20231011T220721Z
UID:8961-1698573600-1698577200@hopeandpassion.org
SUMMARY:Hope & Passion Ministries Sunday Morning Message
DESCRIPTION:
URL:https://hopeandpassion.org/event/hope-passion-ministries-sunday-morning-message-93/
LOCATION:Facebook Livestream @ Hope & Passion Ministries\, Inc. Facebook Page
ATTACH;FMTTYPE=image/jpeg:https://hopeandpassion.org/wp-content/uploads/2023/10/Romans-10-29-23.jpg
END:VEVENT
BEGIN:VEVENT
DTSTART;TZID=UTC:20231029T093000
DTEND;TZID=UTC:20231029T110000
DTSTAMP:20260425T111425
CREATED:20231011T220636Z
LAST-MODIFIED:20231011T220636Z
UID:8959-1698571800-1698577200@hopeandpassion.org
SUMMARY:Donegal C&MA Church Sunday Morning Message
DESCRIPTION:
URL:https://hopeandpassion.org/event/donegal-cma-church-sunday-morning-message-7/
LOCATION:Donegal Christian & Missionary Alliance Church\, 210 Loyalhanna St.\, Donegal\, PA\, 15628\, United States
ATTACH;FMTTYPE=image/jpeg:https://hopeandpassion.org/wp-content/uploads/2023/10/Romans-10-29-23.jpg
END:VEVENT
BEGIN:VEVENT
DTSTART;TZID=UTC:20231022T100000
DTEND;TZID=UTC:20231022T110000
DTSTAMP:20260425T111425
CREATED:20231003T204547Z
LAST-MODIFIED:20231003T204547Z
UID:8950-1697968800-1697972400@hopeandpassion.org
SUMMARY:Hope & Passion Ministries Sunday Morning Message
DESCRIPTION:
URL:https://hopeandpassion.org/event/hope-passion-ministries-sunday-morning-message-92/
LOCATION:Facebook Livestream @ Hope & Passion Ministries\, Inc. Facebook Page
ATTACH;FMTTYPE=image/jpeg:https://hopeandpassion.org/wp-content/uploads/2023/10/Daniel-10-22-23.jpg
END:VEVENT
BEGIN:VEVENT
DTSTART;TZID=UTC:20231022T093000
DTEND;TZID=UTC:20231022T100000
DTSTAMP:20260425T111425
CREATED:20231003T204331Z
LAST-MODIFIED:20231003T204331Z
UID:8948-1697967000-1697968800@hopeandpassion.org
SUMMARY:Donegal C&MA Church Sunday Morning Message
DESCRIPTION:
URL:https://hopeandpassion.org/event/donegal-cma-church-sunday-morning-message-6/
LOCATION:Donegal Christian & Missionary Alliance Church\, 210 Loyalhanna St.\, Donegal\, PA\, 15628\, United States
ATTACH;FMTTYPE=image/jpeg:https://hopeandpassion.org/wp-content/uploads/2023/10/Daniel-10-22-23.jpg
END:VEVENT
BEGIN:VEVENT
DTSTART;TZID=UTC:20231017T183000
DTEND;TZID=UTC:20231017T193000
DTSTAMP:20260425T111425
CREATED:20230918T164511Z
LAST-MODIFIED:20231003T204156Z
UID:8923-1697567400-1697571000@hopeandpassion.org
SUMMARY:Hope & Passion Ministries: Women in Ministry - Part 1
DESCRIPTION:
URL:https://hopeandpassion.org/event/hope-passion-ministries-tuesday-bible-study-69/
LOCATION:Facebook Livestream @ Hope & Passion Ministries\, Inc. Facebook Page
ATTACH;FMTTYPE=image/jpeg:https://hopeandpassion.org/wp-content/uploads/2023/10/Women-in-Ministry-10-17-23.jpg
END:VEVENT
BEGIN:VEVENT
DTSTART;TZID=UTC:20231015T100000
DTEND;TZID=UTC:20231015T110000
DTSTAMP:20260425T111425
CREATED:20230926T191013Z
LAST-MODIFIED:20231003T204618Z
UID:8940-1697364000-1697367600@hopeandpassion.org
SUMMARY:Hope & Passion Ministries Sunday Morning Message
DESCRIPTION:
URL:https://hopeandpassion.org/event/hope-passion-ministries-tuesday-bible-study-73/
LOCATION:Facebook Livestream @ Hope & Passion Ministries\, Inc. Facebook Page
ATTACH;FMTTYPE=image/jpeg:https://hopeandpassion.org/wp-content/uploads/2023/09/Romans-10-15-23.jpg
END:VEVENT
BEGIN:VEVENT
DTSTART;TZID=UTC:20231015T093000
DTEND;TZID=UTC:20231015T110000
DTSTAMP:20260425T111425
CREATED:20230926T190918Z
LAST-MODIFIED:20230926T190918Z
UID:8938-1697362200-1697367600@hopeandpassion.org
SUMMARY:Donegal C&MA Church Sunday Morning Message
DESCRIPTION:
URL:https://hopeandpassion.org/event/donegal-cma-church-sunday-morning-message-5/
LOCATION:Donegal Christian & Missionary Alliance Church\, 210 Loyalhanna St.\, Donegal\, PA\, 15628\, United States
ATTACH;FMTTYPE=image/jpeg:https://hopeandpassion.org/wp-content/uploads/2023/09/Romans-10-15-23.jpg
END:VEVENT
BEGIN:VEVENT
DTSTART;TZID=UTC:20231010T183000
DTEND;TZID=UTC:20231010T193000
DTSTAMP:20260425T111425
CREATED:20230918T164439Z
LAST-MODIFIED:20231006T191823Z
UID:8921-1696962600-1696966200@hopeandpassion.org
SUMMARY:Hope & Passion Ministries Tuesday Bible Study
DESCRIPTION:
URL:https://hopeandpassion.org/event/hope-passion-ministries-tuesday-bible-study-68/
LOCATION:Facebook Livestream @ Hope & Passion Ministries\, Inc. Facebook Page
ATTACH;FMTTYPE=image/jpeg:https://hopeandpassion.org/wp-content/uploads/2023/10/Genesis-10-10-23.jpg
END:VEVENT
BEGIN:VEVENT
DTSTART;TZID=UTC:20231008T100000
DTEND;TZID=UTC:20231008T110000
DTSTAMP:20260425T111425
CREATED:20230918T164743Z
LAST-MODIFIED:20230918T164743Z
UID:8931-1696759200-1696762800@hopeandpassion.org
SUMMARY:Hope & Passion Ministries Sunday Morning Message
DESCRIPTION:
URL:https://hopeandpassion.org/event/hope-passion-ministries-sunday-morning-message-91/
LOCATION:Facebook Livestream @ Hope & Passion Ministries\, Inc. Facebook Page
ATTACH;FMTTYPE=image/jpeg:https://hopeandpassion.org/wp-content/uploads/2023/09/Revelation-10-08-23.jpg
END:VEVENT
BEGIN:VEVENT
DTSTART;TZID=UTC:20231008T093000
DTEND;TZID=UTC:20231008T110000
DTSTAMP:20260425T111425
CREATED:20230918T163430Z
LAST-MODIFIED:20230918T163430Z
UID:8915-1696757400-1696762800@hopeandpassion.org
SUMMARY:Donegal C&MA Church Sunday Morning Message
DESCRIPTION:
URL:https://hopeandpassion.org/event/donegal-cma-church-sunday-morning-message-4/
LOCATION:Donegal Christian & Missionary Alliance Church\, 210 Loyalhanna St.\, Donegal\, PA\, 15628\, United States
ATTACH;FMTTYPE=image/jpeg:https://hopeandpassion.org/wp-content/uploads/2023/09/Revelation-10-08-23.jpg
END:VEVENT
BEGIN:VEVENT
DTSTART;TZID=UTC:20231003T183000
DTEND;TZID=UTC:20231003T193000
DTSTAMP:20260425T111425
CREATED:20230918T164406Z
LAST-MODIFIED:20230926T190248Z
UID:8919-1696357800-1696361400@hopeandpassion.org
SUMMARY:Hope & Passion Ministries Tuesday Bible Study
DESCRIPTION:
URL:https://hopeandpassion.org/event/hope-passion-ministries-tuesday-bible-study-67/
LOCATION:Facebook Livestream @ Hope & Passion Ministries\, Inc. Facebook Page
ATTACH;FMTTYPE=image/jpeg:https://hopeandpassion.org/wp-content/uploads/2023/09/Genesis-10-03-23.jpg
END:VEVENT
BEGIN:VEVENT
DTSTART;TZID=UTC:20231001T100000
DTEND;TZID=UTC:20231001T110000
DTSTAMP:20260425T111425
CREATED:20230911T185034Z
LAST-MODIFIED:20230918T163331Z
UID:8907-1696154400-1696158000@hopeandpassion.org
SUMMARY:Hope & Passion Ministries Sunday Morning Message
DESCRIPTION:
URL:https://hopeandpassion.org/event/hope-passion-ministries-sunday-morning-message-90/
LOCATION:Facebook Livestream @ Hope & Passion Ministries\, Inc. Facebook Page
ATTACH;FMTTYPE=image/jpeg:https://hopeandpassion.org/wp-content/uploads/2023/09/Revelation-10-01-23.jpg
END:VEVENT
BEGIN:VEVENT
DTSTART;TZID=UTC:20231001T093000
DTEND;TZID=UTC:20231001T110000
DTSTAMP:20260425T111425
CREATED:20230911T184933Z
LAST-MODIFIED:20230918T163308Z
UID:8905-1696152600-1696158000@hopeandpassion.org
SUMMARY:Donegal C&MA Church Sunday Morning Message
DESCRIPTION:
URL:https://hopeandpassion.org/event/donegal-cma-church-sunday-morning-message-3/
LOCATION:Donegal Christian & Missionary Alliance Church\, 210 Loyalhanna St.\, Donegal\, PA\, 15628\, United States
ATTACH;FMTTYPE=image/jpeg:https://hopeandpassion.org/wp-content/uploads/2023/09/Revelation-10-01-23.jpg
END:VEVENT
BEGIN:VEVENT
DTSTART;TZID=UTC:20230924T100000
DTEND;TZID=UTC:20230924T110000
DTSTAMP:20260425T111425
CREATED:20230911T121244Z
LAST-MODIFIED:20230911T121244Z
UID:8899-1695549600-1695553200@hopeandpassion.org
SUMMARY:Hope & Passion Ministries Sunday Morning Message
DESCRIPTION:
URL:https://hopeandpassion.org/event/hope-passion-ministries-sunday-morning-message-89/
LOCATION:Facebook Livestream @ Hope & Passion Ministries\, Inc. Facebook Page
ATTACH;FMTTYPE=image/jpeg:https://hopeandpassion.org/wp-content/uploads/2023/09/Revelation-09-24-23.jpg
END:VEVENT
BEGIN:VEVENT
DTSTART;TZID=UTC:20230924T093000
DTEND;TZID=UTC:20230924T110000
DTSTAMP:20260425T111425
CREATED:20230911T121148Z
LAST-MODIFIED:20230911T121148Z
UID:8897-1695547800-1695553200@hopeandpassion.org
SUMMARY:Donegal C&MA Church Sunday Morning Message
DESCRIPTION:
URL:https://hopeandpassion.org/event/donegal-cma-church-sunday-morning-message-2/
LOCATION:Donegal Christian & Missionary Alliance Church\, 210 Loyalhanna St.\, Donegal\, PA\, 15628\, United States
ATTACH;FMTTYPE=image/jpeg:https://hopeandpassion.org/wp-content/uploads/2023/09/Revelation-09-24-23.jpg
END:VEVENT
BEGIN:VEVENT
DTSTART;TZID=UTC:20230919T183000
DTEND;TZID=UTC:20230919T193000
DTSTAMP:20260425T111425
CREATED:20230918T164333Z
LAST-MODIFIED:20230918T164333Z
UID:8917-1695148200-1695151800@hopeandpassion.org
SUMMARY:Hope & Passion Ministries Tuesday Bible Study
DESCRIPTION:
URL:https://hopeandpassion.org/event/hope-passion-ministries-tuesday-bible-study-66/
LOCATION:Facebook Livestream @ Hope & Passion Ministries\, Inc. Facebook Page
ATTACH;FMTTYPE=image/jpeg:https://hopeandpassion.org/wp-content/uploads/2023/09/Genesis-09-19-23.jpg
END:VEVENT
BEGIN:VEVENT
DTSTART;TZID=UTC:20230917T100000
DTEND;TZID=UTC:20230917T110000
DTSTAMP:20260425T111425
CREATED:20230901T195154Z
LAST-MODIFIED:20230901T195154Z
UID:8888-1694944800-1694948400@hopeandpassion.org
SUMMARY:Hope & Passion Ministries Sunday Morning Message
DESCRIPTION:
URL:https://hopeandpassion.org/event/hope-passion-ministries-sunday-morning-message-88/
LOCATION:Facebook Livestream @ Hope & Passion Ministries\, Inc. Facebook Page
ATTACH;FMTTYPE=image/jpeg:https://hopeandpassion.org/wp-content/uploads/2023/07/Revelation-09-17-23.jpg
END:VEVENT
BEGIN:VEVENT
DTSTART;TZID=UTC:20230917T093000
DTEND;TZID=UTC:20230917T110000
DTSTAMP:20260425T111425
CREATED:20230901T195104Z
LAST-MODIFIED:20230901T195104Z
UID:8886-1694943000-1694948400@hopeandpassion.org
SUMMARY:Donegal C&MA Church Sunday Morning Message
DESCRIPTION:
URL:https://hopeandpassion.org/event/donegal-cma-church-sunday-morning-message/
LOCATION:Donegal Christian & Missionary Alliance Church\, 210 Loyalhanna St.\, Donegal\, PA\, 15628\, United States
ATTACH;FMTTYPE=image/jpeg:https://hopeandpassion.org/wp-content/uploads/2023/07/Revelation-09-17-23.jpg
END:VEVENT
BEGIN:VEVENT
DTSTART;TZID=UTC:20230912T183000
DTEND;TZID=UTC:20230912T193000
DTSTAMP:20260425T111425
CREATED:20230911T121706Z
LAST-MODIFIED:20230911T121706Z
UID:8901-1694543400-1694547000@hopeandpassion.org
SUMMARY:Hope & Passion Ministries Tuesday Bible Study
DESCRIPTION:
URL:https://hopeandpassion.org/event/hope-passion-ministries-tuesday-bible-study-65/
LOCATION:Facebook Livestream @ Hope & Passion Ministries\, Inc. Facebook Page
ATTACH;FMTTYPE=image/jpeg:https://hopeandpassion.org/wp-content/uploads/2023/09/Genesis-09-12-23.jpg
END:VEVENT
BEGIN:VEVENT
DTSTART;TZID=UTC:20230910T100000
DTEND;TZID=UTC:20230910T110000
DTSTAMP:20260425T111425
CREATED:20230717T234013Z
LAST-MODIFIED:20230901T195003Z
UID:8863-1694340000-1694343600@hopeandpassion.org
SUMMARY:Hope & Passion Ministries Sunday Morning Message
DESCRIPTION:
URL:https://hopeandpassion.org/event/hope-passion-ministries-sunday-morning-message-82/
LOCATION:Facebook Livestream @ Hope & Passion Ministries\, Inc. Facebook Page
ATTACH;FMTTYPE=image/jpeg:https://hopeandpassion.org/wp-content/uploads/2023/07/I-Never-Knew-You-09-10-23.jpg
END:VEVENT
BEGIN:VEVENT
DTSTART;TZID=UTC:20230910T093000
DTEND;TZID=UTC:20230910T110000
DTSTAMP:20260425T111425
CREATED:20230717T233922Z
LAST-MODIFIED:20250715T013051Z
UID:8859-1694338200-1694343600@hopeandpassion.org
SUMMARY:Donegal C&MA @ Mammoth Park
DESCRIPTION:Shelli is the speaker for Donegal Christian & Missionary Alliance Church’s Annual Church Picnic at Mammoth Park\, 171 County Park Rd\, Mount Pleasant\, PA 15666\, Pavilion # 11. Service begins at 10 am. There will be singing\, offering\, and then the morning message. Following the service\, there will be a picnic. Everyone is requested to bring an entree to share (there is electric for crockpots to keep food warm until after the service). Donegal will provide the table settings. After the picnic there will be fun\, organized games for youth and adults. Bring your lawn chairs for more comfortable seating.
URL:https://hopeandpassion.org/event/donegal-alliance-church-sunday-morning-message-47/
LOCATION:Mammoth Park\, 171 County Park Rd\, Mount Pleasant\, PA 15666\, PA\, United States
ATTACH;FMTTYPE=image/jpeg:https://hopeandpassion.org/wp-content/uploads/2023/07/I-Never-Knew-You-09-10-23.jpg
END:VEVENT
BEGIN:VEVENT
DTSTART;TZID=UTC:20230905T183000
DTEND;TZID=UTC:20230905T193000
DTSTAMP:20260425T111425
CREATED:20230804T040002Z
LAST-MODIFIED:20230804T040002Z
UID:8874-1693938600-1693942200@hopeandpassion.org
SUMMARY:Hope & Passion Ministries Tuesday Bible Study
DESCRIPTION:
URL:https://hopeandpassion.org/event/hope-passion-ministries-tuesday-bible-study-64/
LOCATION:Facebook Livestream @ Hope & Passion Ministries\, Inc. Facebook Page
ATTACH;FMTTYPE=image/jpeg:https://hopeandpassion.org/wp-content/uploads/2023/08/Genesis-09-05-23.jpg
END:VEVENT
BEGIN:VEVENT
DTSTART;TZID=UTC:20230903T100000
DTEND;TZID=UTC:20230903T230000
DTSTAMP:20260425T111425
CREATED:20230717T215932Z
LAST-MODIFIED:20230717T215932Z
UID:8814-1693735200-1693782000@hopeandpassion.org
SUMMARY:Hope & Passion Ministries Sunday Morning Message
DESCRIPTION:
URL:https://hopeandpassion.org/event/hope-passion-ministries-sunday-morning-message-83/
LOCATION:Facebook Livestream @ Hope & Passion Ministries\, Inc. Facebook Page
ATTACH;FMTTYPE=image/jpeg:https://hopeandpassion.org/wp-content/uploads/2023/07/Revelation-09-03-23.jpg
END:VEVENT
BEGIN:VEVENT
DTSTART;TZID=UTC:20230903T093000
DTEND;TZID=UTC:20230903T110000
DTSTAMP:20260425T111425
CREATED:20230717T215851Z
LAST-MODIFIED:20230804T040054Z
UID:8812-1693733400-1693738800@hopeandpassion.org
SUMMARY:Donegal C&MA Church Sunday Morning Message
DESCRIPTION:
URL:https://hopeandpassion.org/event/donegal-alliance-church-sunday-morning-message-46/
LOCATION:Donegal Christian & Missionary Alliance Church\, 210 Loyalhanna St.\, Donegal\, PA\, 15628\, United States
ATTACH;FMTTYPE=image/jpeg:https://hopeandpassion.org/wp-content/uploads/2023/07/Revelation-09-03-23.jpg
END:VEVENT
BEGIN:VEVENT
DTSTART;TZID=UTC:20230829T183000
DTEND;TZID=UTC:20230829T193000
DTSTAMP:20260425T111425
CREATED:20230717T225726Z
LAST-MODIFIED:20230717T225726Z
UID:8854-1693333800-1693337400@hopeandpassion.org
SUMMARY:Hope & Passion Ministries Tuesday Bible Study
DESCRIPTION:
URL:https://hopeandpassion.org/event/hope-passion-ministries-tuesday-bible-study-63/
LOCATION:Facebook Livestream @ Hope & Passion Ministries\, Inc. Facebook Page
ATTACH;FMTTYPE=image/jpeg:https://hopeandpassion.org/wp-content/uploads/2023/07/Vacation-08-29-23-Genesis.jpg
END:VEVENT
BEGIN:VEVENT
DTSTART;TZID=UTC:20230827T100000
DTEND;TZID=UTC:20230827T110000
DTSTAMP:20260425T111425
CREATED:20230717T225352Z
LAST-MODIFIED:20230717T225352Z
UID:8844-1693130400-1693134000@hopeandpassion.org
SUMMARY:Hope & Passion Ministries Sunday Morning Message
DESCRIPTION:
URL:https://hopeandpassion.org/event/hope-passion-ministries-sunday-morning-message-87/
LOCATION:Facebook Livestream @ Hope & Passion Ministries\, Inc. Facebook Page
ATTACH;FMTTYPE=image/jpeg:https://hopeandpassion.org/wp-content/uploads/2023/07/Vacation-08-27-23-The-Judgment-Seat-of-Christ.jpg
END:VEVENT
BEGIN:VEVENT
DTSTART;TZID=UTC:20230822T183000
DTEND;TZID=UTC:20230822T193000
DTSTAMP:20260425T111425
CREATED:20230717T225646Z
LAST-MODIFIED:20230717T225646Z
UID:8852-1692729000-1692732600@hopeandpassion.org
SUMMARY:Hope & Passion Ministries Tuesday Bible Study
DESCRIPTION:
URL:https://hopeandpassion.org/event/hope-passion-ministries-tuesday-bible-study-62/
LOCATION:Facebook Livestream @ Hope & Passion Ministries\, Inc. Facebook Page
ATTACH;FMTTYPE=image/jpeg:https://hopeandpassion.org/wp-content/uploads/2023/07/Vacation-08-22-23-Genesis.jpg
END:VEVENT
BEGIN:VEVENT
DTSTART;TZID=UTC:20230820T100000
DTEND;TZID=UTC:20230820T110000
DTSTAMP:20260425T111425
CREATED:20230717T225309Z
LAST-MODIFIED:20230717T225309Z
UID:8842-1692525600-1692529200@hopeandpassion.org
SUMMARY:Hope & Passion Ministries Sunday Morning Message
DESCRIPTION:
URL:https://hopeandpassion.org/event/hope-passion-ministries-sunday-morning-message-86/
LOCATION:Facebook Livestream @ Hope & Passion Ministries\, Inc. Facebook Page
ATTACH;FMTTYPE=image/jpeg:https://hopeandpassion.org/wp-content/uploads/2023/07/Vacation-08-20-23-The-Proof-of-Purchase-That-Will-Get-You-Through.jpg
END:VEVENT
END:VCALENDAR