BEGIN:VCALENDAR
VERSION:2.0
PRODID:-//Hope and Passion Ministries - ECPv6.15.18//NONSGML v1.0//EN
CALSCALE:GREGORIAN
METHOD:PUBLISH
X-WR-CALNAME:Hope and Passion Ministries
X-ORIGINAL-URL:https://hopeandpassion.org
X-WR-CALDESC:Events for Hope and Passion Ministries
REFRESH-INTERVAL;VALUE=DURATION:PT1H
X-Robots-Tag:noindex
X-PUBLISHED-TTL:PT1H
BEGIN:VTIMEZONE
TZID:UTC
BEGIN:STANDARD
TZOFFSETFROM:+0000
TZOFFSETTO:+0000
TZNAME:UTC
DTSTART:20220101T000000
END:STANDARD
END:VTIMEZONE
BEGIN:VEVENT
DTSTART;TZID=UTC:20230910T093000
DTEND;TZID=UTC:20230910T110000
DTSTAMP:20260425T102443
CREATED:20230717T233922Z
LAST-MODIFIED:20250715T013051Z
UID:8859-1694338200-1694343600@hopeandpassion.org
SUMMARY:Donegal C&MA @ Mammoth Park
DESCRIPTION:Shelli is the speaker for Donegal Christian & Missionary Alliance Church’s Annual Church Picnic at Mammoth Park\, 171 County Park Rd\, Mount Pleasant\, PA 15666\, Pavilion # 11. Service begins at 10 am. There will be singing\, offering\, and then the morning message. Following the service\, there will be a picnic. Everyone is requested to bring an entree to share (there is electric for crockpots to keep food warm until after the service). Donegal will provide the table settings. After the picnic there will be fun\, organized games for youth and adults. Bring your lawn chairs for more comfortable seating.
URL:https://hopeandpassion.org/event/donegal-alliance-church-sunday-morning-message-47/
LOCATION:Mammoth Park\, 171 County Park Rd\, Mount Pleasant\, PA 15666\, PA\, United States
ATTACH;FMTTYPE=image/jpeg:https://hopeandpassion.org/wp-content/uploads/2023/07/I-Never-Knew-You-09-10-23.jpg
END:VEVENT
BEGIN:VEVENT
DTSTART;TZID=UTC:20230905T183000
DTEND;TZID=UTC:20230905T193000
DTSTAMP:20260425T102443
CREATED:20230804T040002Z
LAST-MODIFIED:20230804T040002Z
UID:8874-1693938600-1693942200@hopeandpassion.org
SUMMARY:Hope & Passion Ministries Tuesday Bible Study
DESCRIPTION:
URL:https://hopeandpassion.org/event/hope-passion-ministries-tuesday-bible-study-64/
LOCATION:Facebook Livestream @ Hope & Passion Ministries\, Inc. Facebook Page
ATTACH;FMTTYPE=image/jpeg:https://hopeandpassion.org/wp-content/uploads/2023/08/Genesis-09-05-23.jpg
END:VEVENT
BEGIN:VEVENT
DTSTART;TZID=UTC:20230903T100000
DTEND;TZID=UTC:20230903T230000
DTSTAMP:20260425T102443
CREATED:20230717T215932Z
LAST-MODIFIED:20230717T215932Z
UID:8814-1693735200-1693782000@hopeandpassion.org
SUMMARY:Hope & Passion Ministries Sunday Morning Message
DESCRIPTION:
URL:https://hopeandpassion.org/event/hope-passion-ministries-sunday-morning-message-83/
LOCATION:Facebook Livestream @ Hope & Passion Ministries\, Inc. Facebook Page
ATTACH;FMTTYPE=image/jpeg:https://hopeandpassion.org/wp-content/uploads/2023/07/Revelation-09-03-23.jpg
END:VEVENT
BEGIN:VEVENT
DTSTART;TZID=UTC:20230903T093000
DTEND;TZID=UTC:20230903T110000
DTSTAMP:20260425T102443
CREATED:20230717T215851Z
LAST-MODIFIED:20230804T040054Z
UID:8812-1693733400-1693738800@hopeandpassion.org
SUMMARY:Donegal C&MA Church Sunday Morning Message
DESCRIPTION:
URL:https://hopeandpassion.org/event/donegal-alliance-church-sunday-morning-message-46/
LOCATION:Donegal Christian & Missionary Alliance Church\, 210 Loyalhanna St.\, Donegal\, PA\, 15628\, United States
ATTACH;FMTTYPE=image/jpeg:https://hopeandpassion.org/wp-content/uploads/2023/07/Revelation-09-03-23.jpg
END:VEVENT
BEGIN:VEVENT
DTSTART;TZID=UTC:20230829T183000
DTEND;TZID=UTC:20230829T193000
DTSTAMP:20260425T102443
CREATED:20230717T225726Z
LAST-MODIFIED:20230717T225726Z
UID:8854-1693333800-1693337400@hopeandpassion.org
SUMMARY:Hope & Passion Ministries Tuesday Bible Study
DESCRIPTION:
URL:https://hopeandpassion.org/event/hope-passion-ministries-tuesday-bible-study-63/
LOCATION:Facebook Livestream @ Hope & Passion Ministries\, Inc. Facebook Page
ATTACH;FMTTYPE=image/jpeg:https://hopeandpassion.org/wp-content/uploads/2023/07/Vacation-08-29-23-Genesis.jpg
END:VEVENT
BEGIN:VEVENT
DTSTART;TZID=UTC:20230827T100000
DTEND;TZID=UTC:20230827T110000
DTSTAMP:20260425T102443
CREATED:20230717T225352Z
LAST-MODIFIED:20230717T225352Z
UID:8844-1693130400-1693134000@hopeandpassion.org
SUMMARY:Hope & Passion Ministries Sunday Morning Message
DESCRIPTION:
URL:https://hopeandpassion.org/event/hope-passion-ministries-sunday-morning-message-87/
LOCATION:Facebook Livestream @ Hope & Passion Ministries\, Inc. Facebook Page
ATTACH;FMTTYPE=image/jpeg:https://hopeandpassion.org/wp-content/uploads/2023/07/Vacation-08-27-23-The-Judgment-Seat-of-Christ.jpg
END:VEVENT
BEGIN:VEVENT
DTSTART;TZID=UTC:20230822T183000
DTEND;TZID=UTC:20230822T193000
DTSTAMP:20260425T102443
CREATED:20230717T225646Z
LAST-MODIFIED:20230717T225646Z
UID:8852-1692729000-1692732600@hopeandpassion.org
SUMMARY:Hope & Passion Ministries Tuesday Bible Study
DESCRIPTION:
URL:https://hopeandpassion.org/event/hope-passion-ministries-tuesday-bible-study-62/
LOCATION:Facebook Livestream @ Hope & Passion Ministries\, Inc. Facebook Page
ATTACH;FMTTYPE=image/jpeg:https://hopeandpassion.org/wp-content/uploads/2023/07/Vacation-08-22-23-Genesis.jpg
END:VEVENT
BEGIN:VEVENT
DTSTART;TZID=UTC:20230820T100000
DTEND;TZID=UTC:20230820T110000
DTSTAMP:20260425T102443
CREATED:20230717T225309Z
LAST-MODIFIED:20230717T225309Z
UID:8842-1692525600-1692529200@hopeandpassion.org
SUMMARY:Hope & Passion Ministries Sunday Morning Message
DESCRIPTION:
URL:https://hopeandpassion.org/event/hope-passion-ministries-sunday-morning-message-86/
LOCATION:Facebook Livestream @ Hope & Passion Ministries\, Inc. Facebook Page
ATTACH;FMTTYPE=image/jpeg:https://hopeandpassion.org/wp-content/uploads/2023/07/Vacation-08-20-23-The-Proof-of-Purchase-That-Will-Get-You-Through.jpg
END:VEVENT
BEGIN:VEVENT
DTSTART;TZID=UTC:20230815T183000
DTEND;TZID=UTC:20230815T193000
DTSTAMP:20260425T102443
CREATED:20230717T225555Z
LAST-MODIFIED:20230717T225555Z
UID:8850-1692124200-1692127800@hopeandpassion.org
SUMMARY:Hope & Passion Ministries Tuesday Bible Study
DESCRIPTION:
URL:https://hopeandpassion.org/event/hope-passion-ministries-tuesday-bible-study-61/
LOCATION:Facebook Livestream @ Hope & Passion Ministries\, Inc. Facebook Page
ATTACH;FMTTYPE=image/jpeg:https://hopeandpassion.org/wp-content/uploads/2023/07/Vacation-08-15-23-Genesis.jpg
END:VEVENT
BEGIN:VEVENT
DTSTART;TZID=UTC:20230813T100000
DTEND;TZID=UTC:20230813T110000
DTSTAMP:20260425T102443
CREATED:20230717T225214Z
LAST-MODIFIED:20230717T225214Z
UID:8840-1691920800-1691924400@hopeandpassion.org
SUMMARY:Hope & Passion Ministries Sunday Morning Message
DESCRIPTION:
URL:https://hopeandpassion.org/event/hope-passion-ministries-sunday-morning-message-85/
LOCATION:Facebook Livestream @ Hope & Passion Ministries\, Inc. Facebook Page
ATTACH;FMTTYPE=image/jpeg:https://hopeandpassion.org/wp-content/uploads/2023/07/Vacation-08-13-23-Could-You-Be-Deceived-by-the-Death-Grip-of-Religion.jpg
END:VEVENT
BEGIN:VEVENT
DTSTART;TZID=UTC:20230808T183000
DTEND;TZID=UTC:20230808T193000
DTSTAMP:20260425T102443
CREATED:20230717T225517Z
LAST-MODIFIED:20230717T225517Z
UID:8848-1691519400-1691523000@hopeandpassion.org
SUMMARY:Hope & Passion Ministries Tuesday Bible Study
DESCRIPTION:
URL:https://hopeandpassion.org/event/hope-passion-ministries-tuesday-bible-study-60/
LOCATION:Facebook Livestream @ Hope & Passion Ministries\, Inc. Facebook Page
ATTACH;FMTTYPE=image/jpeg:https://hopeandpassion.org/wp-content/uploads/2023/07/Vacation-08-08-23-Genesis.jpg
END:VEVENT
BEGIN:VEVENT
DTSTART;TZID=UTC:20230806T100000
DTEND;TZID=UTC:20230806T110000
DTSTAMP:20260425T102443
CREATED:20230717T225132Z
LAST-MODIFIED:20230717T225132Z
UID:8838-1691316000-1691319600@hopeandpassion.org
SUMMARY:Hope & Passion Ministries Sunday Morning Message
DESCRIPTION:
URL:https://hopeandpassion.org/event/hope-passion-ministries-sunday-morning-message-84/
LOCATION:Facebook Livestream @ Hope & Passion Ministries\, Inc. Facebook Page
ATTACH;FMTTYPE=image/jpeg:https://hopeandpassion.org/wp-content/uploads/2023/07/Vacation-08-06-23-Why-Does-God-Let-Us-Hurt.jpg
END:VEVENT
BEGIN:VEVENT
DTSTART;TZID=UTC:20230801T183000
DTEND;TZID=UTC:20230801T193000
DTSTAMP:20260425T102443
CREATED:20230717T225440Z
LAST-MODIFIED:20230717T225440Z
UID:8846-1690914600-1690918200@hopeandpassion.org
SUMMARY:Hope & Passion Ministries Tuesday Bible Study
DESCRIPTION:
URL:https://hopeandpassion.org/event/hope-passion-ministries-tuesday-bible-study-59/
LOCATION:Facebook Livestream @ Hope & Passion Ministries\, Inc. Facebook Page
ATTACH;FMTTYPE=image/jpeg:https://hopeandpassion.org/wp-content/uploads/2023/07/Vacation-08-01-23-Genesis.jpg
END:VEVENT
BEGIN:VEVENT
DTSTART;VALUE=DATE:20230801
DTEND;VALUE=DATE:20230901
DTSTAMP:20260425T102443
CREATED:20230717T230809Z
LAST-MODIFIED:20230717T230809Z
UID:8856-1690848000-1693526399@hopeandpassion.org
SUMMARY:Shelli is on Vacation
DESCRIPTION:
URL:https://hopeandpassion.org/event/shelli-is-on-vacation-2/
ATTACH;FMTTYPE=image/jpeg:https://hopeandpassion.org/wp-content/uploads/2023/07/Vacation-Sign-Passion-Point-Sign-08-01-23-to-08-31-23.jpg
END:VEVENT
BEGIN:VEVENT
DTSTART;TZID=UTC:20230730T100000
DTEND;TZID=UTC:20230730T110000
DTSTAMP:20260425T102443
CREATED:20230707T182417Z
LAST-MODIFIED:20230717T225838Z
UID:8798-1690711200-1690714800@hopeandpassion.org
SUMMARY:Hope & Passion Ministries Sunday Morning Message
DESCRIPTION:
URL:https://hopeandpassion.org/event/hope-passion-ministries-sunday-morning-message-81/
LOCATION:Facebook Livestream @ Hope & Passion Ministries\, Inc. Facebook Page
ATTACH;FMTTYPE=image/jpeg:https://hopeandpassion.org/wp-content/uploads/2023/07/Revelation-07-30-23.jpg
END:VEVENT
BEGIN:VEVENT
DTSTART;TZID=UTC:20230730T093000
DTEND;TZID=UTC:20230730T110000
DTSTAMP:20260425T102443
CREATED:20230707T182332Z
LAST-MODIFIED:20230707T182332Z
UID:8796-1690709400-1690714800@hopeandpassion.org
SUMMARY:Donegal Alliance Church Sunday Morning Message
DESCRIPTION:
URL:https://hopeandpassion.org/event/donegal-alliance-church-sunday-morning-message-45/
LOCATION:Donegal Christian & Missionary Alliance Church\, 210 Loyalhanna St.\, Donegal\, PA\, 15628\, United States
ATTACH;FMTTYPE=image/jpeg:https://hopeandpassion.org/wp-content/uploads/2023/07/Revelation-07-30-23.jpg
END:VEVENT
BEGIN:VEVENT
DTSTART;TZID=UTC:20230723T100000
DTEND;TZID=UTC:20230723T110000
DTSTAMP:20260425T102443
CREATED:20230707T180940Z
LAST-MODIFIED:20230707T180940Z
UID:8792-1690106400-1690110000@hopeandpassion.org
SUMMARY:Hope & Passion Ministries Sunday Morning Message
DESCRIPTION:
URL:https://hopeandpassion.org/event/hope-passion-ministries-sunday-morning-message-80/
LOCATION:Facebook Livestream @ Hope & Passion Ministries\, Inc. Facebook Page
ATTACH;FMTTYPE=image/jpeg:https://hopeandpassion.org/wp-content/uploads/2023/07/Revelation-07-23-23.jpg
END:VEVENT
BEGIN:VEVENT
DTSTART;TZID=UTC:20230723T093000
DTEND;TZID=UTC:20230723T110000
DTSTAMP:20260425T102443
CREATED:20230707T181034Z
LAST-MODIFIED:20230707T181532Z
UID:8794-1690104600-1690110000@hopeandpassion.org
SUMMARY:Donegal Alliance Church Sunday Morning Message
DESCRIPTION:
URL:https://hopeandpassion.org/event/donegal-alliance-church-sunday-morning-message-44/
LOCATION:Donegal Christian & Missionary Alliance Church\, 210 Loyalhanna St.\, Donegal\, PA\, 15628\, United States
ATTACH;FMTTYPE=image/jpeg:https://hopeandpassion.org/wp-content/uploads/2023/07/Revelation-07-23-23.jpg
END:VEVENT
BEGIN:VEVENT
DTSTART;TZID=UTC:20230718T183000
DTEND;TZID=UTC:20230718T193000
DTSTAMP:20260425T102443
CREATED:20230625T192036Z
LAST-MODIFIED:20230717T215756Z
UID:8774-1689705000-1689708600@hopeandpassion.org
SUMMARY:Hope & Passion Ministries Tuesday Bible Study
DESCRIPTION:
URL:https://hopeandpassion.org/event/hope-passion-ministries-tuesday-bible-study-58/
LOCATION:Facebook Livestream @ Hope & Passion Ministries\, Inc. Facebook Page
ATTACH;FMTTYPE=image/jpeg:https://hopeandpassion.org/wp-content/uploads/2023/07/Genesis-07-18-23.jpg
END:VEVENT
BEGIN:VEVENT
DTSTART;TZID=UTC:20230716T100000
DTEND;TZID=UTC:20230716T110000
DTSTAMP:20260425T102443
CREATED:20230625T192220Z
LAST-MODIFIED:20230630T182341Z
UID:8778-1689501600-1689505200@hopeandpassion.org
SUMMARY:Hope & Passion Ministries Sunday Morning Message
DESCRIPTION:
URL:https://hopeandpassion.org/event/donegal-alliance-church-sunday-morning-message-43/
LOCATION:Facebook Livestream @ Hope & Passion Ministries\, Inc. Facebook Page
ATTACH;FMTTYPE=image/jpeg:https://hopeandpassion.org/wp-content/uploads/2023/06/Revelation-07-16-23.jpg
END:VEVENT
BEGIN:VEVENT
DTSTART;TZID=UTC:20230716T093000
DTEND;TZID=UTC:20230716T110000
DTSTAMP:20260425T102443
CREATED:20230625T192129Z
LAST-MODIFIED:20230630T182322Z
UID:8776-1689499800-1689505200@hopeandpassion.org
SUMMARY:Donegal Alliance Church Sunday Morning Message
DESCRIPTION:
URL:https://hopeandpassion.org/event/donegal-alliance-church-sunday-morning-message-42/
LOCATION:Donegal Christian & Missionary Alliance Church\, 210 Loyalhanna St.\, Donegal\, PA\, 15628\, United States
ATTACH;FMTTYPE=image/jpeg:https://hopeandpassion.org/wp-content/uploads/2023/06/Revelation-07-16-23.jpg
END:VEVENT
BEGIN:VEVENT
DTSTART;TZID=UTC:20230711T183000
DTEND;TZID=UTC:20230711T193000
DTSTAMP:20260425T102443
CREATED:20230625T192006Z
LAST-MODIFIED:20230630T182257Z
UID:8772-1689100200-1689103800@hopeandpassion.org
SUMMARY:Hope & Passion Ministries Tuesday Bible Study
DESCRIPTION:
URL:https://hopeandpassion.org/event/hope-passion-ministries-tuesday-bible-study-57/
LOCATION:Facebook Livestream @ Hope & Passion Ministries\, Inc. Facebook Page
ATTACH;FMTTYPE=image/jpeg:https://hopeandpassion.org/wp-content/uploads/2023/06/Genesis-07-11-23.jpg
END:VEVENT
BEGIN:VEVENT
DTSTART;TZID=UTC:20230710T190000
DTEND;TZID=UTC:20230710T200000
DTSTAMP:20260425T102443
CREATED:20230623T204502Z
LAST-MODIFIED:20240630T223625Z
UID:8765-1689015600-1689019200@hopeandpassion.org
SUMMARY:Mary & Martha Ministries
DESCRIPTION:Friends of Hope and Passion Ministries are welcome to attend. Event will be held in the sanctuary.
URL:https://hopeandpassion.org/event/mary-martha-ministries/
LOCATION:New Hope Assembly of God\, 900 Peairs Rd.\, Elizabeth\, 15037\, United States
END:VEVENT
BEGIN:VEVENT
DTSTART;TZID=UTC:20230709T100000
DTEND;TZID=UTC:20230709T110000
DTSTAMP:20260425T102443
CREATED:20230619T170555Z
LAST-MODIFIED:20230619T170555Z
UID:8762-1688896800-1688900400@hopeandpassion.org
SUMMARY:Hope & Passion Ministries Sunday Morning Message
DESCRIPTION:
URL:https://hopeandpassion.org/event/hope-passion-ministries-sunday-morning-message-79/
LOCATION:Facebook Livestream @ Hope & Passion Ministries\, Inc. Facebook Page
ATTACH;FMTTYPE=image/jpeg:https://hopeandpassion.org/wp-content/uploads/2023/06/Revelation-07-09-23.jpg
END:VEVENT
BEGIN:VEVENT
DTSTART;TZID=UTC:20230709T093000
DTEND;TZID=UTC:20230709T110000
DTSTAMP:20260425T102443
CREATED:20230619T170513Z
LAST-MODIFIED:20230619T170513Z
UID:8760-1688895000-1688900400@hopeandpassion.org
SUMMARY:Donegal Alliance Church Sunday Morning Message
DESCRIPTION:
URL:https://hopeandpassion.org/event/donegal-alliance-church-sunday-morning-message-41/
LOCATION:Donegal Christian & Missionary Alliance Church\, 210 Loyalhanna St.\, Donegal\, PA\, 15628\, United States
ATTACH;FMTTYPE=image/jpeg:https://hopeandpassion.org/wp-content/uploads/2023/06/Revelation-07-09-23.jpg
END:VEVENT
BEGIN:VEVENT
DTSTART;TZID=UTC:20230704T183000
DTEND;TZID=UTC:20230704T193000
DTSTAMP:20260425T102443
CREATED:20230625T191802Z
LAST-MODIFIED:20230625T191915Z
UID:8769-1688495400-1688499000@hopeandpassion.org
SUMMARY:CANCELLED - Hope & Passion Ministries Tuesday Bible Study
DESCRIPTION:
URL:https://hopeandpassion.org/event/cancelled-hope-passion-ministries-tuesday-bible-study-2/
END:VEVENT
BEGIN:VEVENT
DTSTART;TZID=UTC:20230702T100000
DTEND;TZID=UTC:20230702T110000
DTSTAMP:20260425T102443
CREATED:20230606T182243Z
LAST-MODIFIED:20230606T182319Z
UID:8736-1688292000-1688295600@hopeandpassion.org
SUMMARY:Hope & Passion Ministries Sunday Morning Message
DESCRIPTION:
URL:https://hopeandpassion.org/event/hope-passion-ministries-sunday-morning-message-78/
LOCATION:Facebook Livestream @ Hope & Passion Ministries\, Inc. Facebook Page
ATTACH;FMTTYPE=image/jpeg:https://hopeandpassion.org/wp-content/uploads/2023/06/Revelation-07-02-23.jpg
END:VEVENT
BEGIN:VEVENT
DTSTART;TZID=UTC:20230702T093000
DTEND;TZID=UTC:20230702T110000
DTSTAMP:20260425T102443
CREATED:20230606T182204Z
LAST-MODIFIED:20230606T182235Z
UID:8734-1688290200-1688295600@hopeandpassion.org
SUMMARY:Donegal Alliance Church Sunday Morning Message
DESCRIPTION:
URL:https://hopeandpassion.org/event/donegal-alliance-church-sunday-morning-message-40/
LOCATION:Donegal Christian & Missionary Alliance Church\, 210 Loyalhanna St.\, Donegal\, PA\, 15628\, United States
ATTACH;FMTTYPE=image/jpeg:https://hopeandpassion.org/wp-content/uploads/2023/06/Revelation-07-02-23.jpg
END:VEVENT
BEGIN:VEVENT
DTSTART;TZID=UTC:20230625T100000
DTEND;TZID=UTC:20230625T230000
DTSTAMP:20260425T102443
CREATED:20230606T181528Z
LAST-MODIFIED:20230606T182151Z
UID:8732-1687687200-1687734000@hopeandpassion.org
SUMMARY:Hope & Passion Ministries Sunday Morning Message
DESCRIPTION:
URL:https://hopeandpassion.org/event/hope-passion-ministries-sunday-morning-message-77/
LOCATION:Facebook Livestream @ Hope & Passion Ministries\, Inc. Facebook Page
ATTACH;FMTTYPE=image/jpeg:https://hopeandpassion.org/wp-content/uploads/2023/06/Revelation-06-25-23-REVISED.jpg
END:VEVENT
BEGIN:VEVENT
DTSTART;TZID=UTC:20230625T093000
DTEND;TZID=UTC:20230625T110000
DTSTAMP:20260425T102443
CREATED:20230606T181304Z
LAST-MODIFIED:20230606T181515Z
UID:8730-1687685400-1687690800@hopeandpassion.org
SUMMARY:Donegal Alliance Church Sunday Morning Message
DESCRIPTION:
URL:https://hopeandpassion.org/event/donegal-alliance-church-sunday-morning-message-39/
LOCATION:Donegal Christian & Missionary Alliance Church\, 210 Loyalhanna St.\, Donegal\, PA\, 15628\, United States
ATTACH;FMTTYPE=image/jpeg:https://hopeandpassion.org/wp-content/uploads/2023/06/Revelation-06-25-23-REVISED.jpg
END:VEVENT
END:VCALENDAR