BEGIN:VCALENDAR
VERSION:2.0
PRODID:-//Hope and Passion Ministries - ECPv6.15.18//NONSGML v1.0//EN
CALSCALE:GREGORIAN
METHOD:PUBLISH
X-WR-CALNAME:Hope and Passion Ministries
X-ORIGINAL-URL:https://hopeandpassion.org
X-WR-CALDESC:Events for Hope and Passion Ministries
REFRESH-INTERVAL;VALUE=DURATION:PT1H
X-Robots-Tag:noindex
X-PUBLISHED-TTL:PT1H
BEGIN:VTIMEZONE
TZID:UTC
BEGIN:STANDARD
TZOFFSETFROM:+0000
TZOFFSETTO:+0000
TZNAME:UTC
DTSTART:20240101T000000
END:STANDARD
END:VTIMEZONE
BEGIN:VEVENT
DTSTART;TZID=UTC:20260217T183000
DTEND;TZID=UTC:20260217T193000
DTSTAMP:20260423T174844
CREATED:20260111T231338Z
LAST-MODIFIED:20260210T011351Z
UID:10276-1771353000-1771356600@hopeandpassion.org
SUMMARY:Hope & Passion Ministries Tuesday Bible Study
DESCRIPTION:
URL:https://hopeandpassion.org/event/hope-passion-ministries-tuesday-bible-study-140/
LOCATION:Facebook Livestream @ Hope & Passion Ministries\, Inc. Facebook Page
ATTACH;FMTTYPE=image/jpeg:https://hopeandpassion.org/wp-content/uploads/2026/02/Genesis-02-17-26.jpg
END:VEVENT
BEGIN:VEVENT
DTSTART;TZID=UTC:20260215T100000
DTEND;TZID=UTC:20260215T110000
DTSTAMP:20260423T174844
CREATED:20260203T170928Z
LAST-MODIFIED:20260203T170928Z
UID:10322-1771149600-1771153200@hopeandpassion.org
SUMMARY:Hope & Passion Ministries Sunday Morning Message
DESCRIPTION:
URL:https://hopeandpassion.org/event/hope-passion-ministries-sunday-morning-message-202/
LOCATION:Facebook Livestream @ Hope & Passion Ministries\, Inc. Facebook Page
ATTACH;FMTTYPE=image/jpeg:https://hopeandpassion.org/wp-content/uploads/2026/02/Romans-02-15-26.jpg
END:VEVENT
BEGIN:VEVENT
DTSTART;TZID=UTC:20260215T093000
DTEND;TZID=UTC:20260215T110000
DTSTAMP:20260423T174844
CREATED:20260203T170847Z
LAST-MODIFIED:20260203T170847Z
UID:10320-1771147800-1771153200@hopeandpassion.org
SUMMARY:Donegal C&MA Church Sunday Morning Message
DESCRIPTION:
URL:https://hopeandpassion.org/event/donegal-cma-church-sunday-morning-message-110/
LOCATION:Donegal Christian & Missionary Alliance Church\, 210 Loyalhanna St.\, Donegal\, PA\, 15628\, United States
ATTACH;FMTTYPE=image/jpeg:https://hopeandpassion.org/wp-content/uploads/2026/02/Romans-02-15-26.jpg
END:VEVENT
BEGIN:VEVENT
DTSTART;TZID=UTC:20260210T181500
DTEND;TZID=UTC:20260210T200000
DTSTAMP:20260423T174844
CREATED:20260111T231315Z
LAST-MODIFIED:20260210T011715Z
UID:10274-1770747300-1770753600@hopeandpassion.org
SUMMARY:Hope & Passion Ministries Q&A Zoom: Heaven & Our Resurrection
DESCRIPTION:Here is the Zoom link for the Q & A Session with Shelli about Heaven! Please join by 6:15 pm EDT\, Tuesday\, February 10 to ensure you are connected and have your video on. We will admit you to the Zoom meeting from the virtual waiting room from 6:15 – 6:30 pm EDT. At 6:30 pm EDT\, we will begin taking one question at a time. You may ask anything concerning Heaven\, our kind of existence in Heaven\, our bodily resurrection at the return of Christ\, and/or our glorified bodies in the New Heavens & New Earth. Shelli will do her best to answer your inquiries!\n\nTopic: Q&A – Heaven & Our Resurrection\nTime: Feb 10\, 2026 06:15 PM Eastern Time (US and Canada)\nJoin Zoom Meeting\nhttps://us02web.zoom.us/j/89209501708?pwd=cVtY22iGap7OytUZJhbCjoa41pSQhc.1\nMeeting ID: 892 0950 1708\nPasscode: 686179
URL:https://hopeandpassion.org/event/hope-passion-ministries-tuesday-bible-study-139/
ATTACH;FMTTYPE=image/jpeg:https://hopeandpassion.org/wp-content/uploads/2026/02/QA-Zoom-Heaven-Our-Resurrection-02-09-26.jpg
END:VEVENT
BEGIN:VEVENT
DTSTART;TZID=UTC:20260208T100000
DTEND;TZID=UTC:20260208T110000
DTSTAMP:20260423T174844
CREATED:20260111T232024Z
LAST-MODIFIED:20260128T201221Z
UID:10294-1770544800-1770548400@hopeandpassion.org
SUMMARY:Hope & Passion Ministries Sunday Morning Message
DESCRIPTION:
URL:https://hopeandpassion.org/event/hope-passion-ministries-sunday-morning-message-201/
LOCATION:Facebook Livestream @ Hope & Passion Ministries\, Inc. Facebook Page
ATTACH;FMTTYPE=image/jpeg:https://hopeandpassion.org/wp-content/uploads/2026/01/Daniel-02-08-26.jpg
END:VEVENT
BEGIN:VEVENT
DTSTART;TZID=UTC:20260208T093000
DTEND;TZID=UTC:20260208T103000
DTSTAMP:20260423T174844
CREATED:20260111T231552Z
LAST-MODIFIED:20260128T201106Z
UID:10284-1770543000-1770546600@hopeandpassion.org
SUMMARY:Donegal C&MA Church Sunday Morning Message
DESCRIPTION:
URL:https://hopeandpassion.org/event/donegal-cma-church-sunday-morning-message-109/
LOCATION:Donegal Christian & Missionary Alliance Church\, 210 Loyalhanna St.\, Donegal\, PA\, 15628\, United States
ATTACH;FMTTYPE=image/jpeg:https://hopeandpassion.org/wp-content/uploads/2026/01/Daniel-02-08-26.jpg
END:VEVENT
BEGIN:VEVENT
DTSTART;TZID=UTC:20260203T183000
DTEND;TZID=UTC:20260203T193000
DTSTAMP:20260423T174844
CREATED:20260111T231250Z
LAST-MODIFIED:20260128T201039Z
UID:10272-1770143400-1770147000@hopeandpassion.org
SUMMARY:Hope & Passion Ministries Tuesday Bible Study
DESCRIPTION:
URL:https://hopeandpassion.org/event/hope-passion-ministries-tuesday-bible-study-138/
LOCATION:Facebook Livestream @ Hope & Passion Ministries\, Inc. Facebook Page
ATTACH;FMTTYPE=image/jpeg:https://hopeandpassion.org/wp-content/uploads/2026/01/Genesis-02-03-26.jpg
END:VEVENT
BEGIN:VEVENT
DTSTART;TZID=UTC:20260201T100000
DTEND;TZID=UTC:20260201T110000
DTSTAMP:20260423T174844
CREATED:20260111T232002Z
LAST-MODIFIED:20260120T235427Z
UID:10292-1769940000-1769943600@hopeandpassion.org
SUMMARY:Hope & Passion Ministries Sunday Morning Message
DESCRIPTION:
URL:https://hopeandpassion.org/event/hope-passion-ministries-sunday-morning-message-200/
LOCATION:Facebook Livestream @ Hope & Passion Ministries\, Inc. Facebook Page
ATTACH;FMTTYPE=image/jpeg:https://hopeandpassion.org/wp-content/uploads/2026/01/Romans-02-01-26.jpg
END:VEVENT
BEGIN:VEVENT
DTSTART;TZID=UTC:20260201T093000
DTEND;TZID=UTC:20260201T113000
DTSTAMP:20260423T174844
CREATED:20260111T231524Z
LAST-MODIFIED:20260120T235413Z
UID:10282-1769938200-1769945400@hopeandpassion.org
SUMMARY:Donegal C&MA Church Sunday Morning Message
DESCRIPTION:
URL:https://hopeandpassion.org/event/donegal-cma-church-sunday-morning-message-108/
LOCATION:Donegal Christian & Missionary Alliance Church\, 210 Loyalhanna St.\, Donegal\, PA\, 15628\, United States
ATTACH;FMTTYPE=image/jpeg:https://hopeandpassion.org/wp-content/uploads/2026/01/Romans-02-01-26.jpg
END:VEVENT
BEGIN:VEVENT
DTSTART;TZID=UTC:20260127T183000
DTEND;TZID=UTC:20260127T193000
DTSTAMP:20260423T174844
CREATED:20260119T153327Z
LAST-MODIFIED:20260120T235355Z
UID:10304-1769538600-1769542200@hopeandpassion.org
SUMMARY:Hope & Passion Ministries Tuesday Communion
DESCRIPTION:
URL:https://hopeandpassion.org/event/hope-passion-ministries-tuesday-communion-4/
ATTACH;FMTTYPE=image/jpeg:https://hopeandpassion.org/wp-content/uploads/2026/01/Communion-01-27-26.jpg
END:VEVENT
BEGIN:VEVENT
DTSTART;TZID=UTC:20260125T100000
DTEND;TZID=UTC:20260125T110000
DTSTAMP:20260423T174844
CREATED:20260111T231712Z
LAST-MODIFIED:20260113T162036Z
UID:10288-1769335200-1769338800@hopeandpassion.org
SUMMARY:Hope & Passion Ministries Sunday Morning Message
DESCRIPTION:
URL:https://hopeandpassion.org/event/hope-passion-ministries-sunday-morning-message-199/
LOCATION:Facebook Livestream @ Hope & Passion Ministries\, Inc. Facebook Page
ATTACH;FMTTYPE=image/jpeg:https://hopeandpassion.org/wp-content/uploads/2026/01/Daniel-01-25-26.jpg
END:VEVENT
BEGIN:VEVENT
DTSTART;TZID=UTC:20260125T100000
DTEND;TZID=UTC:20260125T110000
DTSTAMP:20260423T174844
CREATED:20260111T231506Z
LAST-MODIFIED:20260203T171453Z
UID:10280-1769335200-1769338800@hopeandpassion.org
SUMMARY:CANCELLED IN-PERSON - ONLINE ONLY - Donegal C&MA Church Sunday Morning Message
DESCRIPTION:Cancelled in-person church due to snow/ice storm. Please go to the Facebook Page to view Today’s Message!
URL:https://hopeandpassion.org/event/donegal-cma-church-sunday-morning-message-107/
LOCATION:Facebook Livestream @ Hope & Passion Ministries\, Inc. Facebook Page
ATTACH;FMTTYPE=image/jpeg:https://hopeandpassion.org/wp-content/uploads/2026/01/Daniel-01-25-26.jpg
END:VEVENT
BEGIN:VEVENT
DTSTART;TZID=UTC:20260120T183000
DTEND;TZID=UTC:20260120T193000
DTSTAMP:20260423T174844
CREATED:20260111T231222Z
LAST-MODIFIED:20260119T153208Z
UID:10270-1768933800-1768937400@hopeandpassion.org
SUMMARY:CANCELLED - Hope & Passion Ministries Tuesday Bible Study
DESCRIPTION:
URL:https://hopeandpassion.org/event/hope-passion-ministries-tuesday-bible-study-137/
LOCATION:Facebook Livestream @ Hope & Passion Ministries\, Inc. Facebook Page
END:VEVENT
BEGIN:VEVENT
DTSTART;TZID=UTC:20260118T100000
DTEND;TZID=UTC:20260118T110000
DTSTAMP:20260423T174844
CREATED:20260111T231644Z
LAST-MODIFIED:20260111T231644Z
UID:10286-1768730400-1768734000@hopeandpassion.org
SUMMARY:Hope & Passion Ministries Sunday Morning Message
DESCRIPTION:
URL:https://hopeandpassion.org/event/hope-passion-ministries-sunday-morning-message-198/
LOCATION:Facebook Livestream @ Hope & Passion Ministries\, Inc. Facebook Page
ATTACH;FMTTYPE=image/jpeg:https://hopeandpassion.org/wp-content/uploads/2026/01/Romans-01-18-26.jpg
END:VEVENT
BEGIN:VEVENT
DTSTART;TZID=UTC:20260118T093000
DTEND;TZID=UTC:20260118T110000
DTSTAMP:20260423T174844
CREATED:20260111T231446Z
LAST-MODIFIED:20260111T231446Z
UID:10278-1768728600-1768734000@hopeandpassion.org
SUMMARY:Donegal C&MA Church Sunday Morning Message
DESCRIPTION:
URL:https://hopeandpassion.org/event/donegal-cma-church-sunday-morning-message-106/
LOCATION:Donegal Christian & Missionary Alliance Church\, 210 Loyalhanna St.\, Donegal\, PA\, 15628\, United States
ATTACH;FMTTYPE=image/jpeg:https://hopeandpassion.org/wp-content/uploads/2026/01/Romans-01-18-26.jpg
END:VEVENT
BEGIN:VEVENT
DTSTART;TZID=UTC:20260113T183000
DTEND;TZID=UTC:20260113T193000
DTSTAMP:20260423T174844
CREATED:20260111T231152Z
LAST-MODIFIED:20260111T231152Z
UID:10268-1768329000-1768332600@hopeandpassion.org
SUMMARY:Hope & Passion Ministries Tuesday Bible Study
DESCRIPTION:
URL:https://hopeandpassion.org/event/hope-passion-ministries-tuesday-bible-study-136/
LOCATION:Facebook Livestream @ Hope & Passion Ministries\, Inc. Facebook Page
ATTACH;FMTTYPE=image/jpeg:https://hopeandpassion.org/wp-content/uploads/2026/01/Genesis-01-13-26.jpg
END:VEVENT
BEGIN:VEVENT
DTSTART;TZID=UTC:20260111T100000
DTEND;TZID=UTC:20260111T110000
DTSTAMP:20260423T174844
CREATED:20260111T231116Z
LAST-MODIFIED:20260111T231116Z
UID:10266-1768125600-1768129200@hopeandpassion.org
SUMMARY:Hope & Passion Ministries Sunday Morning Message
DESCRIPTION:
URL:https://hopeandpassion.org/event/hope-passion-ministries-sunday-morning-message-197/
LOCATION:Facebook Livestream @ Hope & Passion Ministries\, Inc. Facebook Page
ATTACH;FMTTYPE=image/jpeg:https://hopeandpassion.org/wp-content/uploads/2026/01/Daniel-01-11-26.jpg
END:VEVENT
BEGIN:VEVENT
DTSTART;TZID=UTC:20260111T093000
DTEND;TZID=UTC:20260111T110000
DTSTAMP:20260423T174844
CREATED:20260111T231045Z
LAST-MODIFIED:20260111T231045Z
UID:10262-1768123800-1768129200@hopeandpassion.org
SUMMARY:Donegal C&MA Church Sunday Morning Message
DESCRIPTION:
URL:https://hopeandpassion.org/event/donegal-cma-church-sunday-morning-message-105/
LOCATION:Donegal Christian & Missionary Alliance Church\, 210 Loyalhanna St.\, Donegal\, PA\, 15628\, United States
ATTACH;FMTTYPE=image/jpeg:https://hopeandpassion.org/wp-content/uploads/2026/01/Daniel-01-11-26.jpg
END:VEVENT
BEGIN:VEVENT
DTSTART;TZID=UTC:20260106T183000
DTEND;TZID=UTC:20260106T193000
DTSTAMP:20260423T174844
CREATED:20251202T200558Z
LAST-MODIFIED:20251219T171615Z
UID:10229-1767724200-1767727800@hopeandpassion.org
SUMMARY:Hope & Passion Ministries Tuesday Bible Study
DESCRIPTION:
URL:https://hopeandpassion.org/event/hope-passion-ministries-tuesday-bible-study-135/
LOCATION:Facebook Livestream @ Hope & Passion Ministries\, Inc. Facebook Page
ATTACH;FMTTYPE=image/jpeg:https://hopeandpassion.org/wp-content/uploads/2025/10/Genesis-01-06-26.jpg
END:VEVENT
BEGIN:VEVENT
DTSTART;TZID=UTC:20260104T100000
DTEND;TZID=UTC:20260104T110000
DTSTAMP:20260423T174844
CREATED:20251202T200718Z
LAST-MODIFIED:20251219T171658Z
UID:10233-1767520800-1767524400@hopeandpassion.org
SUMMARY:Hope & Passion Ministries Sunday Morning Message
DESCRIPTION:
URL:https://hopeandpassion.org/event/hope-passion-ministries-sunday-morning-message-196/
LOCATION:Facebook Livestream @ Hope & Passion Ministries\, Inc. Facebook Page
ATTACH;FMTTYPE=image/jpeg:https://hopeandpassion.org/wp-content/uploads/2025/10/Romans-01-04-26.jpg
END:VEVENT
BEGIN:VEVENT
DTSTART;TZID=UTC:20260104T093000
DTEND;TZID=UTC:20260104T110000
DTSTAMP:20260423T174844
CREATED:20251202T200646Z
LAST-MODIFIED:20251219T171639Z
UID:10231-1767519000-1767524400@hopeandpassion.org
SUMMARY:Donegal C&MA Church Sunday Morning Message
DESCRIPTION:
URL:https://hopeandpassion.org/event/donegal-cma-church-sunday-morning-message-104/
LOCATION:Donegal Christian & Missionary Alliance Church\, 210 Loyalhanna St.\, Donegal\, PA\, 15628\, United States
ATTACH;FMTTYPE=image/jpeg:https://hopeandpassion.org/wp-content/uploads/2025/10/Romans-01-04-26.jpg
END:VEVENT
BEGIN:VEVENT
DTSTART;TZID=UTC:20251228T100000
DTEND;TZID=UTC:20251228T110000
DTSTAMP:20260423T174844
CREATED:20251202T200524Z
LAST-MODIFIED:20251213T165737Z
UID:10227-1766916000-1766919600@hopeandpassion.org
SUMMARY:Hope & Passion Ministries Sunday Morning Message
DESCRIPTION:
URL:https://hopeandpassion.org/event/hope-passion-ministries-sunday-morning-message-195/
LOCATION:Facebook Livestream @ Hope & Passion Ministries\, Inc. Facebook Page
ATTACH;FMTTYPE=image/jpeg:https://hopeandpassion.org/wp-content/uploads/2025/12/Daniel-12-28-25.jpg
END:VEVENT
BEGIN:VEVENT
DTSTART;TZID=UTC:20251228T093000
DTEND;TZID=UTC:20251228T110000
DTSTAMP:20260423T174844
CREATED:20251202T200446Z
LAST-MODIFIED:20251213T165712Z
UID:10225-1766914200-1766919600@hopeandpassion.org
SUMMARY:Donegal C&MA Church Sunday Morning Message
DESCRIPTION:
URL:https://hopeandpassion.org/event/donegal-cma-church-sunday-morning-message-103/
LOCATION:Donegal Christian & Missionary Alliance Church\, 210 Loyalhanna St.\, Donegal\, PA\, 15628\, United States
ATTACH;FMTTYPE=image/jpeg:https://hopeandpassion.org/wp-content/uploads/2025/12/Daniel-12-28-25.jpg
END:VEVENT
BEGIN:VEVENT
DTSTART;TZID=UTC:20251221T140000
DTEND;TZID=UTC:20251221T160000
DTSTAMP:20260423T174844
CREATED:20251009T161436Z
LAST-MODIFIED:20251219T171548Z
UID:10150-1766325600-1766332800@hopeandpassion.org
SUMMARY:Somerset Alliance Annual Women's Christmas Tea
DESCRIPTION:RESCHEDULED FROM 12/14 TO 12/21 DUE TO WEATHER! All ladies are invited! Please RSVP by e-mailing us at hope.passion.ministries@verizon.net.
URL:https://hopeandpassion.org/event/somerset-alliance-annual-womens-christmas-tea/
LOCATION:Somerset Alliance\, 708 Stoystown Road\, Somerset\, PA\, 15501\, United States
ATTACH;FMTTYPE=image/jpeg:https://hopeandpassion.org/wp-content/uploads/2025/10/Somerset-Ladies-Tea-12-21-25-Revised-Date.jpg
END:VEVENT
BEGIN:VEVENT
DTSTART;TZID=UTC:20251221T100000
DTEND;TZID=UTC:20251221T110000
DTSTAMP:20260423T174844
CREATED:20251202T200418Z
LAST-MODIFIED:20251213T165649Z
UID:10223-1766311200-1766314800@hopeandpassion.org
SUMMARY:Hope & Passion Ministries Sunday Morning Message
DESCRIPTION:
URL:https://hopeandpassion.org/event/hope-passion-ministries-sunday-morning-message-194/
LOCATION:Facebook Livestream @ Hope & Passion Ministries\, Inc. Facebook Page
ATTACH;FMTTYPE=image/jpeg:https://hopeandpassion.org/wp-content/uploads/2025/12/Mystery-of-Godliness-Manger-to-Majesty-12-21-25.jpg
END:VEVENT
BEGIN:VEVENT
DTSTART;TZID=UTC:20251221T093000
DTEND;TZID=UTC:20251221T110000
DTSTAMP:20260423T174844
CREATED:20251202T200350Z
LAST-MODIFIED:20251213T165619Z
UID:10221-1766309400-1766314800@hopeandpassion.org
SUMMARY:Donegal C&MA Church Sunday Morning Message
DESCRIPTION:
URL:https://hopeandpassion.org/event/donegal-cma-church-sunday-morning-message-102/
LOCATION:Donegal Christian & Missionary Alliance Church\, 210 Loyalhanna St.\, Donegal\, PA\, 15628\, United States
ATTACH;FMTTYPE=image/jpeg:https://hopeandpassion.org/wp-content/uploads/2025/12/Mystery-of-Godliness-Manger-to-Majesty-12-21-25.jpg
END:VEVENT
BEGIN:VEVENT
DTSTART;TZID=UTC:20251216T183000
DTEND;TZID=UTC:20251216T193000
DTSTAMP:20260423T174844
CREATED:20251202T200305Z
LAST-MODIFIED:20251213T165555Z
UID:10219-1765909800-1765913400@hopeandpassion.org
SUMMARY:CANCELLED - Hope & Passion Ministries Tuesday Bible Study
DESCRIPTION:
URL:https://hopeandpassion.org/event/hope-passion-ministries-tuesday-bible-study-134/
LOCATION:Facebook Livestream @ Hope & Passion Ministries\, Inc. Facebook Page
END:VEVENT
BEGIN:VEVENT
DTSTART;TZID=UTC:20251214T100000
DTEND;TZID=UTC:20251214T110000
DTSTAMP:20260423T174844
CREATED:20251202T200159Z
LAST-MODIFIED:20251202T200159Z
UID:10215-1765706400-1765710000@hopeandpassion.org
SUMMARY:Hope & Passion Ministries Sunday Morning Message
DESCRIPTION:
URL:https://hopeandpassion.org/event/hope-passion-ministries-sunday-morning-message-193/
LOCATION:Facebook Livestream @ Hope & Passion Ministries\, Inc. Facebook Page
ATTACH;FMTTYPE=image/jpeg:https://hopeandpassion.org/wp-content/uploads/2025/12/Romans-12-4-25.jpg
END:VEVENT
BEGIN:VEVENT
DTSTART;TZID=UTC:20251214T093000
DTEND;TZID=UTC:20251214T110000
DTSTAMP:20260423T174844
CREATED:20251202T200118Z
LAST-MODIFIED:20251202T200118Z
UID:10213-1765704600-1765710000@hopeandpassion.org
SUMMARY:Donegal C&MA Church Sunday Morning Message
DESCRIPTION:
URL:https://hopeandpassion.org/event/donegal-cma-church-sunday-morning-message-101/
LOCATION:Donegal Christian & Missionary Alliance Church\, 210 Loyalhanna St.\, Donegal\, PA\, 15628\, United States
ATTACH;FMTTYPE=image/jpeg:https://hopeandpassion.org/wp-content/uploads/2025/12/Romans-12-4-25.jpg
END:VEVENT
BEGIN:VEVENT
DTSTART;TZID=UTC:20251209T183000
DTEND;TZID=UTC:20251209T193000
DTSTAMP:20260423T174844
CREATED:20251202T200236Z
LAST-MODIFIED:20251202T200236Z
UID:10217-1765305000-1765308600@hopeandpassion.org
SUMMARY:Hope & Passion Ministries Tuesday Bible Study
DESCRIPTION:
URL:https://hopeandpassion.org/event/hope-passion-ministries-tuesday-bible-study-133/
LOCATION:Facebook Livestream @ Hope & Passion Ministries\, Inc. Facebook Page
END:VEVENT
END:VCALENDAR