BEGIN:VCALENDAR
VERSION:2.0
PRODID:-//Hope and Passion Ministries - ECPv6.15.18//NONSGML v1.0//EN
CALSCALE:GREGORIAN
METHOD:PUBLISH
X-ORIGINAL-URL:https://hopeandpassion.org
X-WR-CALDESC:Events for Hope and Passion Ministries
REFRESH-INTERVAL;VALUE=DURATION:PT1H
X-Robots-Tag:noindex
X-PUBLISHED-TTL:PT1H
BEGIN:VTIMEZONE
TZID:UTC
BEGIN:STANDARD
TZOFFSETFROM:+0000
TZOFFSETTO:+0000
TZNAME:UTC
DTSTART:20220101T000000
END:STANDARD
END:VTIMEZONE
BEGIN:VEVENT
DTSTART;TZID=UTC:20231231T093000
DTEND;TZID=UTC:20231231T110000
DTSTAMP:20260425T145204
CREATED:20231127T223732Z
LAST-MODIFIED:20231212T211601Z
UID:9025-1704015000-1704020400@hopeandpassion.org
SUMMARY:Donegal C&MA Church Sunday Morning Message
DESCRIPTION:
URL:https://hopeandpassion.org/event/donegal-cma-church-sunday-morning-message-15/
LOCATION:Donegal Christian & Missionary Alliance Church\, 210 Loyalhanna St.\, Donegal\, PA\, 15628\, United States
ATTACH;FMTTYPE=image/jpeg:https://hopeandpassion.org/wp-content/uploads/2023/12/Daniel-12-31-23.jpg
END:VEVENT
BEGIN:VEVENT
DTSTART;TZID=UTC:20231231T100000
DTEND;TZID=UTC:20231231T110000
DTSTAMP:20260425T145204
CREATED:20231127T223926Z
LAST-MODIFIED:20231212T211633Z
UID:9031-1704016800-1704020400@hopeandpassion.org
SUMMARY:Hope & Passion Ministries Sunday Morning Message
DESCRIPTION:
URL:https://hopeandpassion.org/event/hope-passion-ministries-sunday-morning-message-102/
LOCATION:Facebook Livestream @ Hope & Passion Ministries\, Inc. Facebook Page
ATTACH;FMTTYPE=image/jpeg:https://hopeandpassion.org/wp-content/uploads/2023/12/Daniel-12-31-23.jpg
END:VEVENT
BEGIN:VEVENT
DTSTART;TZID=UTC:20240102T183000
DTEND;TZID=UTC:20240102T193000
DTSTAMP:20260425T145204
CREATED:20231226T220004Z
LAST-MODIFIED:20231226T220004Z
UID:9105-1704220200-1704223800@hopeandpassion.org
SUMMARY:CANCELLED - Hope & Passion Ministries Tuesday Bible Study
DESCRIPTION:
URL:https://hopeandpassion.org/event/cancelled-hope-passion-ministries-tuesday-bible-study-3/
LOCATION:Facebook Livestream @ Hope & Passion Ministries\, Inc. Facebook Page
END:VEVENT
BEGIN:VEVENT
DTSTART;TZID=UTC:20240107T093000
DTEND;TZID=UTC:20240107T110000
DTSTAMP:20260425T145204
CREATED:20231226T220650Z
LAST-MODIFIED:20231226T220650Z
UID:9118-1704619800-1704625200@hopeandpassion.org
SUMMARY:Donegal C&MA Church Sunday Morning Message
DESCRIPTION:
URL:https://hopeandpassion.org/event/donegal-cma-church-sunday-morning-message-16/
LOCATION:Donegal Christian & Missionary Alliance Church\, 210 Loyalhanna St.\, Donegal\, PA\, 15628\, United States
ATTACH;FMTTYPE=image/jpeg:https://hopeandpassion.org/wp-content/uploads/2023/12/Romans-01-07-23.jpg
END:VEVENT
BEGIN:VEVENT
DTSTART;TZID=UTC:20240107T100000
DTEND;TZID=UTC:20240107T110000
DTSTAMP:20260425T145204
CREATED:20231226T220552Z
LAST-MODIFIED:20231226T220552Z
UID:9116-1704621600-1704625200@hopeandpassion.org
SUMMARY:Hope & Passion Ministries Sunday Morning Message
DESCRIPTION:
URL:https://hopeandpassion.org/event/hope-passion-ministries-sunday-morning-message-103/
LOCATION:Facebook Livestream @ Hope & Passion Ministries\, Inc. Facebook Page
ATTACH;FMTTYPE=image/jpeg:https://hopeandpassion.org/wp-content/uploads/2023/12/Romans-01-07-23.jpg
END:VEVENT
BEGIN:VEVENT
DTSTART;TZID=UTC:20240109T183000
DTEND;TZID=UTC:20240109T193000
DTSTAMP:20260425T145204
CREATED:20231226T220347Z
LAST-MODIFIED:20231226T220347Z
UID:9107-1704825000-1704828600@hopeandpassion.org
SUMMARY:Hope & Passion Ministries Tuesday Bible Study
DESCRIPTION:
URL:https://hopeandpassion.org/event/hope-passion-ministries-tuesday-bible-study-77/
LOCATION:Facebook Livestream @ Hope & Passion Ministries\, Inc. Facebook Page
ATTACH;FMTTYPE=image/jpeg:https://hopeandpassion.org/wp-content/uploads/2023/12/Genesis-01-09-23.jpg
END:VEVENT
BEGIN:VEVENT
DTSTART;TZID=UTC:20240114T093000
DTEND;TZID=UTC:20240114T110000
DTSTAMP:20260425T145204
CREATED:20240102T152239Z
LAST-MODIFIED:20240102T152239Z
UID:9125-1705224600-1705230000@hopeandpassion.org
SUMMARY:Donegal C&MA Church Sunday Morning Message
DESCRIPTION:
URL:https://hopeandpassion.org/event/donegal-cma-church-sunday-morning-message-17/
LOCATION:Donegal Christian & Missionary Alliance Church\, 210 Loyalhanna St.\, Donegal\, PA\, 15628\, United States
ATTACH;FMTTYPE=image/jpeg:https://hopeandpassion.org/wp-content/uploads/2024/01/Daniel-01-14-23.jpg
END:VEVENT
BEGIN:VEVENT
DTSTART;TZID=UTC:20240114T100000
DTEND;TZID=UTC:20240114T110000
DTSTAMP:20260425T145204
CREATED:20240102T152326Z
LAST-MODIFIED:20240102T152326Z
UID:9127-1705226400-1705230000@hopeandpassion.org
SUMMARY:Hope & Passion Ministries Sunday Morning Message
DESCRIPTION:
URL:https://hopeandpassion.org/event/hope-passion-ministries-sunday-morning-message-104/
LOCATION:Facebook Livestream @ Hope & Passion Ministries\, Inc. Facebook Page
ATTACH;FMTTYPE=image/jpeg:https://hopeandpassion.org/wp-content/uploads/2024/01/Daniel-01-14-23.jpg
END:VEVENT
BEGIN:VEVENT
DTSTART;TZID=UTC:20240116T183000
DTEND;TZID=UTC:20240116T193000
DTSTAMP:20260425T145204
CREATED:20231226T220448Z
LAST-MODIFIED:20240115T015958Z
UID:9114-1705429800-1705433400@hopeandpassion.org
SUMMARY:Hope & Passion Ministries Tuesday Bible Study
DESCRIPTION:
URL:https://hopeandpassion.org/event/hope-passion-ministries-tuesday-bible-study-78/
LOCATION:Facebook Livestream @ Hope & Passion Ministries\, Inc. Facebook Page
ATTACH;FMTTYPE=image/jpeg:https://hopeandpassion.org/wp-content/uploads/2023/12/Genesis-01-16-24.jpg
END:VEVENT
BEGIN:VEVENT
DTSTART;TZID=UTC:20240121T093000
DTEND;TZID=UTC:20240121T110000
DTSTAMP:20260425T145204
CREATED:20240106T005245Z
LAST-MODIFIED:20240106T005245Z
UID:9133-1705829400-1705834800@hopeandpassion.org
SUMMARY:Donegal C&MA Church Sunday Morning Message
DESCRIPTION:
URL:https://hopeandpassion.org/event/donegal-cma-church-sunday-morning-message-18/
LOCATION:Donegal Christian & Missionary Alliance Church\, 210 Loyalhanna St.\, Donegal\, PA\, 15628\, United States
ATTACH;FMTTYPE=image/jpeg:https://hopeandpassion.org/wp-content/uploads/2024/01/How-Would-You-Respond-to-Gabriel-01-21-23.jpg
END:VEVENT
BEGIN:VEVENT
DTSTART;TZID=UTC:20240121T100000
DTEND;TZID=UTC:20240121T110000
DTSTAMP:20260425T145204
CREATED:20240106T005334Z
LAST-MODIFIED:20240106T005334Z
UID:9135-1705831200-1705834800@hopeandpassion.org
SUMMARY:Hope & Passion Ministries Sunday Morning Message
DESCRIPTION:
URL:https://hopeandpassion.org/event/hope-passion-ministries-sunday-morning-message-105/
LOCATION:Facebook Livestream @ Hope & Passion Ministries\, Inc. Facebook Page
ATTACH;FMTTYPE=image/jpeg:https://hopeandpassion.org/wp-content/uploads/2024/01/How-Would-You-Respond-to-Gabriel-01-21-23.jpg
END:VEVENT
BEGIN:VEVENT
DTSTART;TZID=UTC:20240123T183000
DTEND;TZID=UTC:20240123T193000
DTSTAMP:20260425T145204
CREATED:20240108T204612Z
LAST-MODIFIED:20240108T204612Z
UID:9144-1706034600-1706038200@hopeandpassion.org
SUMMARY:Hope & Passion Ministries Tuesday Communion
DESCRIPTION:
URL:https://hopeandpassion.org/event/hope-passion-ministries-tuesday-communion-2/
LOCATION:Facebook Livestream @ Hope & Passion Ministries\, Inc. Facebook Page
ATTACH;FMTTYPE=image/jpeg:https://hopeandpassion.org/wp-content/uploads/2024/01/Communion-01-23-24.jpg
END:VEVENT
BEGIN:VEVENT
DTSTART;TZID=UTC:20240128T093000
DTEND;TZID=UTC:20240128T110000
DTSTAMP:20260425T145204
CREATED:20240118T175848Z
LAST-MODIFIED:20240118T180601Z
UID:9164-1706434200-1706439600@hopeandpassion.org
SUMMARY:Donegal C&MA Church Sunday Morning Message
DESCRIPTION:
URL:https://hopeandpassion.org/event/donegal-cma-church-sunday-morning-message-19/
LOCATION:Donegal Christian & Missionary Alliance Church\, 210 Loyalhanna St.\, Donegal\, PA\, 15628\, United States
ATTACH;FMTTYPE=image/jpeg:https://hopeandpassion.org/wp-content/uploads/2024/01/Romans-01-28-24.jpg
END:VEVENT
BEGIN:VEVENT
DTSTART;TZID=UTC:20240128T100000
DTEND;TZID=UTC:20240128T110000
DTSTAMP:20260425T145204
CREATED:20240118T181058Z
LAST-MODIFIED:20240118T181058Z
UID:9174-1706436000-1706439600@hopeandpassion.org
SUMMARY:Hope & Passion Ministries Sunday Morning Message
DESCRIPTION:
URL:https://hopeandpassion.org/event/hope-passion-ministries-sunday-morning-message-107/
LOCATION:Facebook Livestream @ Hope & Passion Ministries\, Inc. Facebook Page
ATTACH;FMTTYPE=image/jpeg:https://hopeandpassion.org/wp-content/uploads/2024/01/Romans-01-28-24.jpg
END:VEVENT
BEGIN:VEVENT
DTSTART;TZID=UTC:20240204T093000
DTEND;TZID=UTC:20240204T100000
DTSTAMP:20260425T145204
CREATED:20240118T175947Z
LAST-MODIFIED:20240118T175947Z
UID:9166-1707039000-1707040800@hopeandpassion.org
SUMMARY:Donegal C&MA Church Sunday Morning Message
DESCRIPTION:
URL:https://hopeandpassion.org/event/donegal-cma-church-sunday-morning-message-20/
LOCATION:Donegal Christian & Missionary Alliance Church\, 210 Loyalhanna St.\, Donegal\, PA\, 15628\, United States
ATTACH;FMTTYPE=image/jpeg:https://hopeandpassion.org/wp-content/uploads/2024/01/Daniel-02-04-24.jpg
END:VEVENT
BEGIN:VEVENT
DTSTART;TZID=UTC:20240204T100000
DTEND;TZID=UTC:20240204T110000
DTSTAMP:20260425T145204
CREATED:20240118T181158Z
LAST-MODIFIED:20240118T181158Z
UID:9176-1707040800-1707044400@hopeandpassion.org
SUMMARY:Hope & Passion Ministries Sunday Morning Message
DESCRIPTION:
URL:https://hopeandpassion.org/event/hope-passion-ministries-sunday-morning-message-108/
LOCATION:Facebook Livestream @ Hope & Passion Ministries\, Inc. Facebook Page
ATTACH;FMTTYPE=image/jpeg:https://hopeandpassion.org/wp-content/uploads/2024/01/Daniel-02-04-24.jpg
END:VEVENT
BEGIN:VEVENT
DTSTART;TZID=UTC:20240206T183000
DTEND;TZID=UTC:20240206T193000
DTSTAMP:20260425T145204
CREATED:20240123T175613Z
LAST-MODIFIED:20240123T175613Z
UID:9192-1707244200-1707247800@hopeandpassion.org
SUMMARY:Hope & Passion Ministries Tuesday Bible Study
DESCRIPTION:
URL:https://hopeandpassion.org/event/hope-passion-ministries-tuesday-bible-study-79/
LOCATION:Facebook Livestream @ Hope & Passion Ministries\, Inc. Facebook Page
ATTACH;FMTTYPE=image/jpeg:https://hopeandpassion.org/wp-content/uploads/2024/01/Genesis-02-06-24.jpg
END:VEVENT
BEGIN:VEVENT
DTSTART;TZID=UTC:20240211T093000
DTEND;TZID=UTC:20240211T110000
DTSTAMP:20260425T145204
CREATED:20240118T180024Z
LAST-MODIFIED:20240123T175650Z
UID:9170-1707643800-1707649200@hopeandpassion.org
SUMMARY:Donegal C&MA Church Sunday Morning Message
DESCRIPTION:
URL:https://hopeandpassion.org/event/donegal-cma-church-sunday-morning-message-21/
LOCATION:Donegal Christian & Missionary Alliance Church\, 210 Loyalhanna St.\, Donegal\, PA\, 15628\, United States
ATTACH;FMTTYPE=image/jpeg:https://hopeandpassion.org/wp-content/uploads/2024/01/Romans-02-11-24.jpg
END:VEVENT
BEGIN:VEVENT
DTSTART;TZID=UTC:20240211T100000
DTEND;TZID=UTC:20240211T110000
DTSTAMP:20260425T145204
CREATED:20240118T181254Z
LAST-MODIFIED:20240123T175708Z
UID:9178-1707645600-1707649200@hopeandpassion.org
SUMMARY:Hope & Passion Ministries Sunday Morning Message
DESCRIPTION:
URL:https://hopeandpassion.org/event/hope-passion-ministries-sunday-morning-message-109/
LOCATION:Facebook Livestream @ Hope & Passion Ministries\, Inc. Facebook Page
ATTACH;FMTTYPE=image/jpeg:https://hopeandpassion.org/wp-content/uploads/2024/01/Romans-02-11-24.jpg
END:VEVENT
BEGIN:VEVENT
DTSTART;TZID=UTC:20240213T183000
DTEND;TZID=UTC:20240213T193000
DTSTAMP:20260425T145204
CREATED:20240210T164144Z
LAST-MODIFIED:20240210T164158Z
UID:9201-1707849000-1707852600@hopeandpassion.org
SUMMARY:Hope & Passion Ministries Tuesday Bible Study
DESCRIPTION:
URL:https://hopeandpassion.org/event/hope-passion-ministries-tuesday-bible-study-80/
LOCATION:Facebook Livestream @ Hope & Passion Ministries\, Inc. Facebook Page
ATTACH;FMTTYPE=image/jpeg:https://hopeandpassion.org/wp-content/uploads/2024/02/Genesis-02-13-24.jpg
END:VEVENT
BEGIN:VEVENT
DTSTART;TZID=UTC:20240218T093000
DTEND;TZID=UTC:20240218T110000
DTSTAMP:20260425T145204
CREATED:20240118T181450Z
LAST-MODIFIED:20240130T161219Z
UID:9180-1708248600-1708254000@hopeandpassion.org
SUMMARY:Donegal C&MA Church Sunday Morning Message
DESCRIPTION:
URL:https://hopeandpassion.org/event/donegal-cma-church-sunday-morning-message-22/
LOCATION:Donegal Christian & Missionary Alliance Church\, 210 Loyalhanna St.\, Donegal\, PA\, 15628\, United States
ATTACH;FMTTYPE=image/jpeg:https://hopeandpassion.org/wp-content/uploads/2024/01/Daniel-02-18-24.jpg
END:VEVENT
BEGIN:VEVENT
DTSTART;TZID=UTC:20240218T100000
DTEND;TZID=UTC:20240218T110000
DTSTAMP:20260425T145204
CREATED:20240118T181531Z
LAST-MODIFIED:20240130T161310Z
UID:9182-1708250400-1708254000@hopeandpassion.org
SUMMARY:Hope & Passion Ministries Sunday Morning Message
DESCRIPTION:
URL:https://hopeandpassion.org/event/hope-passion-ministries-sunday-morning-message-110/
LOCATION:Facebook Livestream @ Hope & Passion Ministries\, Inc. Facebook Page
ATTACH;FMTTYPE=image/jpeg:https://hopeandpassion.org/wp-content/uploads/2024/01/Daniel-02-18-24.jpg
END:VEVENT
BEGIN:VEVENT
DTSTART;TZID=UTC:20240220T080000
DTEND;TZID=UTC:20240220T170000
DTSTAMP:20260425T145204
CREATED:20240214T145600Z
LAST-MODIFIED:20240214T145600Z
UID:9215-1708416000-1708448400@hopeandpassion.org
SUMMARY:CANCELLED - Hope & Passion Ministries Tuesday Bible Study
DESCRIPTION:
URL:https://hopeandpassion.org/event/cancelled-hope-passion-ministries-tuesday-bible-study-4/
LOCATION:Facebook Livestream @ Hope & Passion Ministries\, Inc. Facebook Page
END:VEVENT
BEGIN:VEVENT
DTSTART;TZID=UTC:20240225T093000
DTEND;TZID=UTC:20240225T110000
DTSTAMP:20260425T145204
CREATED:20240210T164322Z
LAST-MODIFIED:20240210T164322Z
UID:9203-1708853400-1708858800@hopeandpassion.org
SUMMARY:Donegal C&MA Church Sunday Morning Message
DESCRIPTION:
URL:https://hopeandpassion.org/event/donegal-cma-church-sunday-morning-message-23/
LOCATION:Donegal Christian & Missionary Alliance Church\, 210 Loyalhanna St.\, Donegal\, PA\, 15628\, United States
ATTACH;FMTTYPE=image/jpeg:https://hopeandpassion.org/wp-content/uploads/2024/02/Romans-02-25-24.jpg
END:VEVENT
BEGIN:VEVENT
DTSTART;TZID=UTC:20240225T100000
DTEND;TZID=UTC:20240225T110000
DTSTAMP:20260425T145204
CREATED:20240210T164413Z
LAST-MODIFIED:20240210T164413Z
UID:9205-1708855200-1708858800@hopeandpassion.org
SUMMARY:Hope & Passion Ministries Sunday Morning Message
DESCRIPTION:
URL:https://hopeandpassion.org/event/hope-passion-ministries-sunday-morning-message-111/
LOCATION:Facebook Livestream @ Hope & Passion Ministries\, Inc. Facebook Page
ATTACH;FMTTYPE=image/jpeg:https://hopeandpassion.org/wp-content/uploads/2024/02/Romans-02-25-24.jpg
END:VEVENT
BEGIN:VEVENT
DTSTART;TZID=UTC:20240303T093000
DTEND;TZID=UTC:20240303T110000
DTSTAMP:20260425T145204
CREATED:20240212T224115Z
LAST-MODIFIED:20240212T224115Z
UID:9209-1709458200-1709463600@hopeandpassion.org
SUMMARY:Donegal C&MA Church Sunday Morning Message
DESCRIPTION:
URL:https://hopeandpassion.org/event/donegal-cma-church-sunday-morning-message-24/
LOCATION:Donegal Christian & Missionary Alliance Church\, 210 Loyalhanna St.\, Donegal\, PA\, 15628\, United States
ATTACH;FMTTYPE=image/jpeg:https://hopeandpassion.org/wp-content/uploads/2024/02/Daniel-03-03-24.jpg
END:VEVENT
BEGIN:VEVENT
DTSTART;TZID=UTC:20240303T100000
DTEND;TZID=UTC:20240303T110000
DTSTAMP:20260425T145204
CREATED:20240212T224204Z
LAST-MODIFIED:20240212T224204Z
UID:9211-1709460000-1709463600@hopeandpassion.org
SUMMARY:Hope & Passion Ministries Sunday Morning Message
DESCRIPTION:
URL:https://hopeandpassion.org/event/hope-passion-ministries-sunday-morning-message-112/
LOCATION:Facebook Livestream @ Hope & Passion Ministries\, Inc. Facebook Page
ATTACH;FMTTYPE=image/jpeg:https://hopeandpassion.org/wp-content/uploads/2024/02/Daniel-03-03-24.jpg
END:VEVENT
BEGIN:VEVENT
DTSTART;TZID=UTC:20240305T183000
DTEND;TZID=UTC:20240305T193000
DTSTAMP:20260425T145204
CREATED:20240212T224309Z
LAST-MODIFIED:20240220T143521Z
UID:9213-1709663400-1709667000@hopeandpassion.org
SUMMARY:Hope & Passion Ministries Tuesday Bible Study
DESCRIPTION:
URL:https://hopeandpassion.org/event/hope-passion-ministries-tuesday-bible-study-81/
LOCATION:Facebook Livestream @ Hope & Passion Ministries\, Inc. Facebook Page
ATTACH;FMTTYPE=image/jpeg:https://hopeandpassion.org/wp-content/uploads/2024/02/Actuality-of-Hell-Reality-of-Rescue-03-05-24.jpg
END:VEVENT
BEGIN:VEVENT
DTSTART;TZID=UTC:20240310T093000
DTEND;TZID=UTC:20240310T103000
DTSTAMP:20260425T145204
CREATED:20240220T143910Z
LAST-MODIFIED:20240220T143910Z
UID:9226-1710063000-1710066600@hopeandpassion.org
SUMMARY:Donegal C&MA Church Sunday Morning Message
DESCRIPTION:
URL:https://hopeandpassion.org/event/donegal-cma-church-sunday-morning-message-25/
LOCATION:Donegal Christian & Missionary Alliance Church\, 210 Loyalhanna St.\, Donegal\, PA\, 15628\, United States
ATTACH;FMTTYPE=image/jpeg:https://hopeandpassion.org/wp-content/uploads/2024/02/Romans-03-10-24.jpg
END:VEVENT
BEGIN:VEVENT
DTSTART;TZID=UTC:20240310T100000
DTEND;TZID=UTC:20240310T110000
DTSTAMP:20260425T145204
CREATED:20240220T144012Z
LAST-MODIFIED:20240220T144012Z
UID:9228-1710064800-1710068400@hopeandpassion.org
SUMMARY:Hope & Passion Ministries Sunday Morning Message
DESCRIPTION:
URL:https://hopeandpassion.org/event/hope-passion-ministries-sunday-morning-message-113/
LOCATION:Facebook Livestream @ Hope & Passion Ministries\, Inc. Facebook Page
ATTACH;FMTTYPE=image/jpeg:https://hopeandpassion.org/wp-content/uploads/2024/02/Romans-03-10-24.jpg
END:VEVENT
END:VCALENDAR