BEGIN:VCALENDAR
VERSION:2.0
PRODID:-//Hope and Passion Ministries - ECPv6.15.18//NONSGML v1.0//EN
CALSCALE:GREGORIAN
METHOD:PUBLISH
X-WR-CALNAME:Hope and Passion Ministries
X-ORIGINAL-URL:https://hopeandpassion.org
X-WR-CALDESC:Events for Hope and Passion Ministries
REFRESH-INTERVAL;VALUE=DURATION:PT1H
X-Robots-Tag:noindex
X-PUBLISHED-TTL:PT1H
BEGIN:VTIMEZONE
TZID:UTC
BEGIN:STANDARD
TZOFFSETFROM:+0000
TZOFFSETTO:+0000
TZNAME:UTC
DTSTART:20210101T000000
END:STANDARD
END:VTIMEZONE
BEGIN:VEVENT
DTSTART;TZID=UTC:20221016T100000
DTEND;TZID=UTC:20221016T230000
DTSTAMP:20260426T030515
CREATED:20220921T151524Z
LAST-MODIFIED:20220921T151524Z
UID:8136-1665914400-1665961200@hopeandpassion.org
SUMMARY:Hope & Passion Ministries Sunday Morning Message
DESCRIPTION:
URL:https://hopeandpassion.org/event/hope-passion-ministries-sunday-morning-message-41/
LOCATION:Facebook Livestream @ Hope & Passion Ministries\, Inc. Facebook Page
ATTACH;FMTTYPE=image/jpeg:https://hopeandpassion.org/wp-content/uploads/2022/09/Revelation-10-16-22.jpg
END:VEVENT
BEGIN:VEVENT
DTSTART;TZID=UTC:20221016T100000
DTEND;TZID=UTC:20221016T110000
DTSTAMP:20260426T030515
CREATED:20221003T133833Z
LAST-MODIFIED:20221003T142524Z
UID:8173-1665914400-1665918000@hopeandpassion.org
SUMMARY:Donegal Alliance Church Sunday Morning Message
DESCRIPTION:
URL:https://hopeandpassion.org/event/donegal-alliance-church-sunday-morning-message-7/
LOCATION:Donegal Christian & Missionary Alliance Church\, 210 Loyalhanna St.\, Donegal\, PA\, 15628\, United States
ATTACH;FMTTYPE=image/jpeg:https://hopeandpassion.org/wp-content/uploads/2022/09/Revelation-10-16-22.jpg
END:VEVENT
BEGIN:VEVENT
DTSTART;TZID=UTC:20221015T180000
DTEND;TZID=UTC:20221015T203000
DTSTAMP:20260426T030515
CREATED:20220505T165434Z
LAST-MODIFIED:20221003T142442Z
UID:7678-1665856800-1665865800@hopeandpassion.org
SUMMARY:Greensburg Church of the Brethren Revival Service
DESCRIPTION:Shelli Prindle is the keynote speaker.
URL:https://hopeandpassion.org/event/greensburg-church-of-the-brethren-revival-service/
LOCATION:Greensburg Church of the Brethren\, 554 Stanton St.\, Greensburg\, PA\, 15601\, United States
ATTACH;FMTTYPE=image/jpeg:https://hopeandpassion.org/wp-content/uploads/2022/08/Revival-Service-10-15-22.jpg
END:VEVENT
BEGIN:VEVENT
DTSTART;TZID=UTC:20221011T194500
DTEND;TZID=UTC:20221011T201500
DTSTAMP:20260426T030515
CREATED:20221003T203658Z
LAST-MODIFIED:20221003T203658Z
UID:8204-1665517500-1665519300@hopeandpassion.org
SUMMARY:Hope & Passion Ministries Tuesday Communion
DESCRIPTION:
URL:https://hopeandpassion.org/event/hope-passion-ministries-tuesday-communion/
LOCATION:Facebook Livestream @ Hope & Passion Ministries\, Inc. Facebook Page
ATTACH;FMTTYPE=image/jpeg:https://hopeandpassion.org/wp-content/uploads/2022/10/Communion-10-11-22.jpg
END:VEVENT
BEGIN:VEVENT
DTSTART;TZID=UTC:20221011T183000
DTEND;TZID=UTC:20221011T193000
DTSTAMP:20260426T030515
CREATED:20221003T134139Z
LAST-MODIFIED:20221006T171255Z
UID:8179-1665513000-1665516600@hopeandpassion.org
SUMMARY:Hope & Passion Ministries Tuesday Bible Study
DESCRIPTION:
URL:https://hopeandpassion.org/event/hope-passion-ministries-tuesday-bible-study-32/
LOCATION:Facebook Livestream @ Hope & Passion Ministries\, Inc. Facebook Page
ATTACH;FMTTYPE=image/jpeg:https://hopeandpassion.org/wp-content/uploads/2022/10/Genesis-10-11-22.jpg
END:VEVENT
BEGIN:VEVENT
DTSTART;TZID=UTC:20221009T110000
DTEND;TZID=UTC:20221009T120000
DTSTAMP:20260426T030515
CREATED:20220523T160411Z
LAST-MODIFIED:20220905T160021Z
UID:7726-1665313200-1665316800@hopeandpassion.org
SUMMARY:Latrobe Presbyterian Church Sunday Morning Message
DESCRIPTION:
URL:https://hopeandpassion.org/event/latrobe-united-presbyterian-church-sunday-morning-message/
LOCATION:Latrobe Presbyterian Church\, 340 Spring St.\, Latrobe\, PA\, 15650\, United States
ATTACH;FMTTYPE=image/jpeg:https://hopeandpassion.org/wp-content/uploads/2022/09/What-is-the-Great-White-Throne-Judgement-Latrobe-10-09-22.jpg
END:VEVENT
BEGIN:VEVENT
DTSTART;TZID=UTC:20221009T100000
DTEND;TZID=UTC:20221009T110000
DTSTAMP:20260426T030515
CREATED:20220830T144134Z
LAST-MODIFIED:20220921T151435Z
UID:8026-1665309600-1665313200@hopeandpassion.org
SUMMARY:Hope & Passion Ministries Sunday Morning Message
DESCRIPTION:
URL:https://hopeandpassion.org/event/hope-passion-ministries-sunday-morning-message-40/
LOCATION:Facebook Livestream @ Hope & Passion Ministries\, Inc. Facebook Page
ATTACH;FMTTYPE=image/jpeg:https://hopeandpassion.org/wp-content/uploads/2022/09/HP-10-09-22.jpg
END:VEVENT
BEGIN:VEVENT
DTSTART;TZID=UTC:20221004T183000
DTEND;TZID=UTC:20221004T193000
DTSTAMP:20260426T030515
CREATED:20220921T151332Z
LAST-MODIFIED:20220921T151332Z
UID:8134-1664908200-1664911800@hopeandpassion.org
SUMMARY:Hope & Passion Ministries Tuesday Bible Study
DESCRIPTION:
URL:https://hopeandpassion.org/event/hope-passion-ministries-tuesday-bible-study-31/
LOCATION:Facebook Livestream @ Hope & Passion Ministries\, Inc. Facebook Page
ATTACH;FMTTYPE=image/jpeg:https://hopeandpassion.org/wp-content/uploads/2022/09/Genesis-10-04-22.jpg
END:VEVENT
BEGIN:VEVENT
DTSTART;TZID=UTC:20221002T100000
DTEND;TZID=UTC:20221002T110000
DTSTAMP:20260426T030515
CREATED:20221003T133522Z
LAST-MODIFIED:20221003T133522Z
UID:8171-1664704800-1664708400@hopeandpassion.org
SUMMARY:Hope & Passion Ministries Sunday Morning Message
DESCRIPTION:
URL:https://hopeandpassion.org/event/hope-passion-ministries-sunday-morning-message-42/
LOCATION:Facebook Livestream @ Hope & Passion Ministries\, Inc. Facebook Page
ATTACH;FMTTYPE=image/jpeg:https://hopeandpassion.org/wp-content/uploads/2022/10/Revelation-10-02-22-1.jpg
END:VEVENT
BEGIN:VEVENT
DTSTART;TZID=UTC:20221002T100000
DTEND;TZID=UTC:20221002T110000
DTSTAMP:20260426T030515
CREATED:20220830T140322Z
LAST-MODIFIED:20221003T133658Z
UID:8022-1664704800-1664708400@hopeandpassion.org
SUMMARY:Donegal Alliance Church Sunday Morning Message
DESCRIPTION:
URL:https://hopeandpassion.org/event/donegal-alliance-church-sunday-morning-message-6/
LOCATION:Donegal Christian & Missionary Alliance Church\, 210 Loyalhanna St.\, Donegal\, PA\, 15628\, United States
ATTACH;FMTTYPE=image/jpeg:https://hopeandpassion.org/wp-content/uploads/2022/10/Revelation-10-02-22-1.jpg
END:VEVENT
BEGIN:VEVENT
DTSTART;TZID=UTC:20220927T183000
DTEND;TZID=UTC:20220927T193000
DTSTAMP:20260426T030515
CREATED:20220414T204308Z
LAST-MODIFIED:20220808T201134Z
UID:7619-1664303400-1664307000@hopeandpassion.org
SUMMARY:Hope & Passion Ministries Biblical Christian Apologetics Zoom Class
DESCRIPTION:
URL:https://hopeandpassion.org/event/hope-passion-ministries-biblical-christian-apologetics-zoom-class-3/
LOCATION:Zoom Class
ATTACH;FMTTYPE=image/jpeg:https://hopeandpassion.org/wp-content/uploads/2022/04/Apologetics-09-27-22.jpg
END:VEVENT
BEGIN:VEVENT
DTSTART;TZID=UTC:20220925T100000
DTEND;TZID=UTC:20220925T110000
DTSTAMP:20260426T030515
CREATED:20220830T144045Z
LAST-MODIFIED:20220905T160134Z
UID:8024-1664100000-1664103600@hopeandpassion.org
SUMMARY:Hope & Passion Ministries Sunday Morning Message
DESCRIPTION:
URL:https://hopeandpassion.org/event/hope-passion-ministries-sunday-morning-message-37/
LOCATION:Facebook Livestream @ Hope & Passion Ministries\, Inc. Facebook Page
ATTACH;FMTTYPE=image/jpeg:https://hopeandpassion.org/wp-content/uploads/2022/09/Revelation-09-25-22.jpg
END:VEVENT
BEGIN:VEVENT
DTSTART;TZID=UTC:20220925T100000
DTEND;TZID=UTC:20220925T110000
DTSTAMP:20260426T030515
CREATED:20220830T140243Z
LAST-MODIFIED:20220905T160109Z
UID:8020-1664100000-1664103600@hopeandpassion.org
SUMMARY:Donegal Alliance Church Sunday Morning Message
DESCRIPTION:
URL:https://hopeandpassion.org/event/donegal-alliance-church-sunday-morning-message-5/
LOCATION:Donegal Christian & Missionary Alliance Church\, 210 Loyalhanna St.\, Donegal\, PA\, 15628\, United States
ATTACH;FMTTYPE=image/jpeg:https://hopeandpassion.org/wp-content/uploads/2022/09/Revelation-09-25-22.jpg
END:VEVENT
BEGIN:VEVENT
DTSTART;TZID=UTC:20220920T183000
DTEND;TZID=UTC:20220920T193000
DTSTAMP:20260426T030515
CREATED:20220916T162555Z
LAST-MODIFIED:20220916T162555Z
UID:8113-1663698600-1663702200@hopeandpassion.org
SUMMARY:Hope & Passion Ministries Tuesday Bible Study
DESCRIPTION:
URL:https://hopeandpassion.org/event/hope-passion-ministries-tuesday-bible-study-30/
LOCATION:Facebook Livestream @ Hope & Passion Ministries\, Inc. Facebook Page
ATTACH;FMTTYPE=image/jpeg:https://hopeandpassion.org/wp-content/uploads/2022/09/Genesis-09-20-22.jpg
END:VEVENT
BEGIN:VEVENT
DTSTART;TZID=UTC:20220918T100000
DTEND;TZID=UTC:20220918T110000
DTSTAMP:20260426T030515
CREATED:20220830T140112Z
LAST-MODIFIED:20220830T140112Z
UID:8018-1663495200-1663498800@hopeandpassion.org
SUMMARY:Hope & Passion Ministries Sunday Morning Message
DESCRIPTION:
URL:https://hopeandpassion.org/event/hope-passion-ministries-sunday-morning-message-39/
LOCATION:Facebook Livestream @ Hope & Passion Ministries\, Inc. Facebook Page
ATTACH;FMTTYPE=image/jpeg:https://hopeandpassion.org/wp-content/uploads/2022/08/Revelation-09-18-22.jpg
END:VEVENT
BEGIN:VEVENT
DTSTART;TZID=UTC:20220918T100000
DTEND;TZID=UTC:20220918T110000
DTSTAMP:20260426T030515
CREATED:20220816T183600Z
LAST-MODIFIED:20220830T140210Z
UID:8007-1663495200-1663498800@hopeandpassion.org
SUMMARY:Donegal Alliance Church Sunday Morning Message
DESCRIPTION:
URL:https://hopeandpassion.org/event/donegal-alliance-church-sunday-morning-message-4/
LOCATION:Donegal Christian & Missionary Alliance Church\, 210 Loyalhanna St.\, Donegal\, PA\, 15628\, United States
ATTACH;FMTTYPE=image/jpeg:https://hopeandpassion.org/wp-content/uploads/2022/08/Revelation-09-18-22.jpg
END:VEVENT
BEGIN:VEVENT
DTSTART;TZID=UTC:20220913T183000
DTEND;TZID=UTC:20220913T193000
DTSTAMP:20260426T030515
CREATED:20220909T221946Z
LAST-MODIFIED:20220909T221955Z
UID:8096-1663093800-1663097400@hopeandpassion.org
SUMMARY:Hope & Passion Ministries Tuesday Bible Study
DESCRIPTION:
URL:https://hopeandpassion.org/event/hope-passion-ministries-tuesday-bible-study-29/
LOCATION:Facebook Livestream @ Hope & Passion Ministries\, Inc. Facebook Page
ATTACH;FMTTYPE=image/jpeg:https://hopeandpassion.org/wp-content/uploads/2022/09/Genesis-09-13-22.jpg
END:VEVENT
BEGIN:VEVENT
DTSTART;TZID=UTC:20220911T100000
DTEND;TZID=UTC:20220911T140000
DTSTAMP:20260426T030515
CREATED:20220414T201359Z
LAST-MODIFIED:20250715T013026Z
UID:7610-1662890400-1662904800@hopeandpassion.org
SUMMARY:Donegal C&MA @ Mammoth Park
DESCRIPTION:Shelli is the speaker for Donegal Christian & Missionary Alliance Church’s Annual Church Picnic at Mammoth Park\, 171 County Park Rd\, Mount Pleasant\, PA 15666\, Pavilion # 11. Service begins at 10 am. There will be singing\, offering\, and then the morning message. Following the service\, there will be a picnic. Everyone is requested to bring an entree to share (there is electric for crockpots to keep food warm until after the service). Donegal will provide the table settings. After the picnic there will be fun\, organized games for youth and adults. Bring your lawn chairs for more comfortable seating.
URL:https://hopeandpassion.org/event/donegal-alliance-church-sunday-morning-message-3/
LOCATION:Mammoth Park\, 171 County Park Rd\, Mount Pleasant\, PA 15666\, PA\, United States
ATTACH;FMTTYPE=image/jpeg:https://hopeandpassion.org/wp-content/uploads/2022/08/Donegal-Alliance-09-11-22.jpg
END:VEVENT
BEGIN:VEVENT
DTSTART;TZID=UTC:20220911T100000
DTEND;TZID=UTC:20220911T110000
DTSTAMP:20260426T030515
CREATED:20220815T220925Z
LAST-MODIFIED:20220815T220925Z
UID:8001-1662890400-1662894000@hopeandpassion.org
SUMMARY:Hope & Passion Ministries Sunday Morning Message
DESCRIPTION:
URL:https://hopeandpassion.org/event/hope-passion-ministries-sunday-morning-message-36/
LOCATION:Facebook Livestream @ Hope & Passion Ministries\, Inc. Facebook Page
ATTACH;FMTTYPE=image/jpeg:https://hopeandpassion.org/wp-content/uploads/2022/08/Raised-Up-With-Christ-09-11-22.jpg
END:VEVENT
BEGIN:VEVENT
DTSTART;TZID=UTC:20220906T183000
DTEND;TZID=UTC:20220906T193000
DTSTAMP:20260426T030515
CREATED:20220719T042202Z
LAST-MODIFIED:20220719T042236Z
UID:7892-1662489000-1662492600@hopeandpassion.org
SUMMARY:Hope & Passion Ministries Tuesday Bible Study
DESCRIPTION:
URL:https://hopeandpassion.org/event/hope-passion-ministries-tuesday-bible-study-24/
LOCATION:Facebook Livestream @ Hope & Passion Ministries\, Inc. Facebook Page
ATTACH;FMTTYPE=image/jpeg:https://hopeandpassion.org/wp-content/uploads/2022/07/Genesis-09-06-22.jpg
END:VEVENT
BEGIN:VEVENT
DTSTART;TZID=UTC:20220904T100000
DTEND;TZID=UTC:20220904T110000
DTSTAMP:20260426T030515
CREATED:20220828T132706Z
LAST-MODIFIED:20220828T132706Z
UID:8014-1662285600-1662289200@hopeandpassion.org
SUMMARY:Hope & Passion Ministries Sunday Morning Message
DESCRIPTION:
URL:https://hopeandpassion.org/event/hope-passion-ministries-sunday-morning-message-38/
LOCATION:Facebook Livestream @ Hope & Passion Ministries\, Inc. Facebook Page
ATTACH;FMTTYPE=image/jpeg:https://hopeandpassion.org/wp-content/uploads/2022/08/Revelation-09-04-22.jpg
END:VEVENT
BEGIN:VEVENT
DTSTART;TZID=UTC:20220828T100000
DTEND;TZID=UTC:20220828T110000
DTSTAMP:20260426T030515
CREATED:20220815T212546Z
LAST-MODIFIED:20220815T220429Z
UID:7989-1661680800-1661684400@hopeandpassion.org
SUMMARY:Hope & Passion Ministries Sunday Morning Message
DESCRIPTION:
URL:https://hopeandpassion.org/event/hope-passion-ministries-sunday-morning-message-35/
LOCATION:Facebook Livestream @ Hope & Passion Ministries\, Inc. Facebook Page
ATTACH;FMTTYPE=image/jpeg:https://hopeandpassion.org/wp-content/uploads/2022/08/What-To-Do-When-the-Enemy-Strikes-08-28-22.jpg
END:VEVENT
BEGIN:VEVENT
DTSTART;TZID=UTC:20220821T100000
DTEND;TZID=UTC:20220821T110000
DTSTAMP:20260426T030515
CREATED:20220706T164955Z
LAST-MODIFIED:20220706T164955Z
UID:7863-1661076000-1661079600@hopeandpassion.org
SUMMARY:Hope & Passion Ministries Sunday Morning Message
DESCRIPTION:
URL:https://hopeandpassion.org/event/hope-passion-ministries-sunday-morning-message-30/
LOCATION:Facebook Livestream @ Hope & Passion Ministries\, Inc. Facebook Page
ATTACH;FMTTYPE=image/jpeg:https://hopeandpassion.org/wp-content/uploads/2022/07/Revelation-08-21-22.jpg
END:VEVENT
BEGIN:VEVENT
DTSTART;TZID=UTC:20220816T183000
DTEND;TZID=UTC:20220816T193000
DTSTAMP:20260426T030515
CREATED:20220809T173118Z
LAST-MODIFIED:20220809T173118Z
UID:7948-1660674600-1660678200@hopeandpassion.org
SUMMARY:Hope & Passion Ministries Tuesday Bible Study
DESCRIPTION:
URL:https://hopeandpassion.org/event/hope-passion-ministries-tuesday-bible-study-28/
LOCATION:Facebook Livestream @ Hope & Passion Ministries\, Inc. Facebook Page
ATTACH;FMTTYPE=image/jpeg:https://hopeandpassion.org/wp-content/uploads/2022/08/EVENT-Genesis-08-16-22.jpg
END:VEVENT
BEGIN:VEVENT
DTSTART;TZID=UTC:20220814T100000
DTEND;TZID=UTC:20220814T110000
DTSTAMP:20260426T030515
CREATED:20220809T173449Z
LAST-MODIFIED:20220809T173449Z
UID:7957-1660471200-1660474800@hopeandpassion.org
SUMMARY:Hope & Passion Ministries Sunday Morning Message
DESCRIPTION:
URL:https://hopeandpassion.org/event/hope-passion-ministries-sunday-morning-message-34/
LOCATION:Facebook Livestream @ Hope & Passion Ministries\, Inc. Facebook Page
ATTACH;FMTTYPE=image/jpeg:https://hopeandpassion.org/wp-content/uploads/2022/08/EVENT-Two-Bloody-Robes-08-14-22.jpg
END:VEVENT
BEGIN:VEVENT
DTSTART;TZID=UTC:20220809T183000
DTEND;TZID=UTC:20220809T193000
DTSTAMP:20260426T030515
CREATED:20220809T173022Z
LAST-MODIFIED:20220809T173022Z
UID:7945-1660069800-1660073400@hopeandpassion.org
SUMMARY:Hope & Passion Ministries Tuesday Bible Study
DESCRIPTION:
URL:https://hopeandpassion.org/event/hope-passion-ministries-tuesday-bible-study-27/
LOCATION:Facebook Livestream @ Hope & Passion Ministries\, Inc. Facebook Page
ATTACH;FMTTYPE=image/jpeg:https://hopeandpassion.org/wp-content/uploads/2022/08/EVENT-Genesis-08-09-22.jpg
END:VEVENT
BEGIN:VEVENT
DTSTART;TZID=UTC:20220807T080000
DTEND;TZID=UTC:20220807T170000
DTSTAMP:20260426T030515
CREATED:20220809T173352Z
LAST-MODIFIED:20220809T173352Z
UID:7954-1659859200-1659891600@hopeandpassion.org
SUMMARY:Hope & Passion Ministries Sunday Morning Message
DESCRIPTION:
URL:https://hopeandpassion.org/event/hope-passion-ministries-sunday-morning-message-33/
LOCATION:Facebook Livestream @ Hope & Passion Ministries\, Inc. Facebook Page
ATTACH;FMTTYPE=image/jpeg:https://hopeandpassion.org/wp-content/uploads/2022/08/EVENT-Treasure-Worth-Everything-08-07-22.jpg
END:VEVENT
BEGIN:VEVENT
DTSTART;TZID=UTC:20220802T183000
DTEND;TZID=UTC:20220802T193000
DTSTAMP:20260426T030515
CREATED:20220809T172915Z
LAST-MODIFIED:20220809T172915Z
UID:7943-1659465000-1659468600@hopeandpassion.org
SUMMARY:Hope & Passion Ministries Tuesday Bible Study
DESCRIPTION:
URL:https://hopeandpassion.org/event/hope-passion-ministries-tuesday-bible-study-26/
LOCATION:Facebook Livestream @ Hope & Passion Ministries\, Inc. Facebook Page
ATTACH;FMTTYPE=image/jpeg:https://hopeandpassion.org/wp-content/uploads/2022/08/EVENT-Genesis-08-02-22.jpg
END:VEVENT
BEGIN:VEVENT
DTSTART;TZID=UTC:20220731T100000
DTEND;TZID=UTC:20220731T110000
DTSTAMP:20260426T030515
CREATED:20220809T173305Z
LAST-MODIFIED:20220809T173305Z
UID:7951-1659261600-1659265200@hopeandpassion.org
SUMMARY:Hope & Passion Ministries Sunday Morning Message
DESCRIPTION:
URL:https://hopeandpassion.org/event/hope-passion-ministries-sunday-morning-message-32/
LOCATION:Facebook Livestream @ Hope & Passion Ministries\, Inc. Facebook Page
ATTACH;FMTTYPE=image/jpeg:https://hopeandpassion.org/wp-content/uploads/2022/08/EVENT-Fit-for-a-King-Part-2-07-31-22.jpg
END:VEVENT
BEGIN:VEVENT
DTSTART;TZID=UTC:20220726T183000
DTEND;TZID=UTC:20220726T193000
DTSTAMP:20260426T030515
CREATED:20220809T172801Z
LAST-MODIFIED:20220809T172826Z
UID:7941-1658860200-1658863800@hopeandpassion.org
SUMMARY:Hope & Passion Ministries Tuesday Bible Study
DESCRIPTION:
URL:https://hopeandpassion.org/event/hope-passion-ministries-tuesday-bible-study-25/
LOCATION:Facebook Livestream @ Hope & Passion Ministries\, Inc. Facebook Page
ATTACH;FMTTYPE=image/jpeg:https://hopeandpassion.org/wp-content/uploads/2022/08/VIDEO-Genesis-07-26-22.jpg
END:VEVENT
END:VCALENDAR