BEGIN:VCALENDAR
VERSION:2.0
PRODID:-//Hope and Passion Ministries - ECPv6.15.18//NONSGML v1.0//EN
CALSCALE:GREGORIAN
METHOD:PUBLISH
X-WR-CALNAME:Hope and Passion Ministries
X-ORIGINAL-URL:https://hopeandpassion.org
X-WR-CALDESC:Events for Hope and Passion Ministries
REFRESH-INTERVAL;VALUE=DURATION:PT1H
X-Robots-Tag:noindex
X-PUBLISHED-TTL:PT1H
BEGIN:VTIMEZONE
TZID:UTC
BEGIN:STANDARD
TZOFFSETFROM:+0000
TZOFFSETTO:+0000
TZNAME:UTC
DTSTART:20210101T000000
END:STANDARD
END:VTIMEZONE
BEGIN:VEVENT
DTSTART;TZID=UTC:20220731T100000
DTEND;TZID=UTC:20220731T110000
DTSTAMP:20260426T042444
CREATED:20220809T173305Z
LAST-MODIFIED:20220809T173305Z
UID:7951-1659261600-1659265200@hopeandpassion.org
SUMMARY:Hope & Passion Ministries Sunday Morning Message
DESCRIPTION:
URL:https://hopeandpassion.org/event/hope-passion-ministries-sunday-morning-message-32/
LOCATION:Facebook Livestream @ Hope & Passion Ministries\, Inc. Facebook Page
ATTACH;FMTTYPE=image/jpeg:https://hopeandpassion.org/wp-content/uploads/2022/08/EVENT-Fit-for-a-King-Part-2-07-31-22.jpg
END:VEVENT
BEGIN:VEVENT
DTSTART;TZID=UTC:20220726T183000
DTEND;TZID=UTC:20220726T193000
DTSTAMP:20260426T042444
CREATED:20220809T172801Z
LAST-MODIFIED:20220809T172826Z
UID:7941-1658860200-1658863800@hopeandpassion.org
SUMMARY:Hope & Passion Ministries Tuesday Bible Study
DESCRIPTION:
URL:https://hopeandpassion.org/event/hope-passion-ministries-tuesday-bible-study-25/
LOCATION:Facebook Livestream @ Hope & Passion Ministries\, Inc. Facebook Page
ATTACH;FMTTYPE=image/jpeg:https://hopeandpassion.org/wp-content/uploads/2022/08/VIDEO-Genesis-07-26-22.jpg
END:VEVENT
BEGIN:VEVENT
DTSTART;TZID=UTC:20220724T100000
DTEND;TZID=UTC:20220724T110000
DTSTAMP:20260426T042444
CREATED:20220706T191936Z
LAST-MODIFIED:20220706T191936Z
UID:7871-1658656800-1658660400@hopeandpassion.org
SUMMARY:Hope & Passion Ministries Sunday Morning Message
DESCRIPTION:
URL:https://hopeandpassion.org/event/hope-passion-ministries-sunday-morning-message-31/
LOCATION:Facebook Livestream @ Hope & Passion Ministries\, Inc. Facebook Page
ATTACH;FMTTYPE=image/jpeg:https://hopeandpassion.org/wp-content/uploads/2022/07/EVENT-Fit-for-a-King-Part-1-07-24-22.jpg
END:VEVENT
BEGIN:VEVENT
DTSTART;TZID=UTC:20220719T183000
DTEND;TZID=UTC:20220719T193000
DTSTAMP:20260426T042444
CREATED:20220706T192038Z
LAST-MODIFIED:20220706T192038Z
UID:7873-1658255400-1658259000@hopeandpassion.org
SUMMARY:Hope & Passion Ministries Tuesday Bible Study
DESCRIPTION:
URL:https://hopeandpassion.org/event/hope-passion-ministries-tuesday-bible-study-20/
LOCATION:Facebook Livestream @ Hope & Passion Ministries\, Inc. Facebook Page
ATTACH;FMTTYPE=image/jpeg:https://hopeandpassion.org/wp-content/uploads/2022/07/EVENT-Genesis-07-19-22.jpg
END:VEVENT
BEGIN:VEVENT
DTSTART;VALUE=DATE:20220718
DTEND;VALUE=DATE:20220816
DTSTAMP:20260426T042444
CREATED:20220706T192131Z
LAST-MODIFIED:20220706T192131Z
UID:7875-1658102400-1660607999@hopeandpassion.org
SUMMARY:Shelli is on Vacation
DESCRIPTION:
URL:https://hopeandpassion.org/event/shelli-is-on-vacation/
ATTACH;FMTTYPE=image/jpeg:https://hopeandpassion.org/wp-content/uploads/2022/07/EVENT-Vacation-Next-Livestream-Notice-07-18-22-to-08-15-22.jpg
END:VEVENT
BEGIN:VEVENT
DTSTART;TZID=UTC:20220717T100000
DTEND;TZID=UTC:20220717T233000
DTSTAMP:20260426T042444
CREATED:20220408T182325Z
LAST-MODIFIED:20220408T182325Z
UID:7601-1658052000-1658100600@hopeandpassion.org
SUMMARY:Hope & Passion Ministries Church in the Park
DESCRIPTION:
URL:https://hopeandpassion.org/event/hope-passion-ministries-church-in-the-park/
LOCATION:Oak Hollow Park\, 2125 Timothy Dr.\, N. Huntingdon\, PA\, 15642\, United States
ATTACH;FMTTYPE=image/jpeg:https://hopeandpassion.org/wp-content/uploads/2022/04/Church-in-the-Park-07-17-22.jpg
END:VEVENT
BEGIN:VEVENT
DTSTART;TZID=UTC:20220716T170000
DTEND;TZID=UTC:20220716T190000
DTSTAMP:20260426T042444
CREATED:20220225T181847Z
LAST-MODIFIED:20220225T181847Z
UID:7467-1657990800-1657998000@hopeandpassion.org
SUMMARY:Hope & Passion Ministries Baptism Service
DESCRIPTION:
URL:https://hopeandpassion.org/event/hope-passion-ministries-baptism-service/
LOCATION:Donegal Christian & Missionary Alliance Church\, 210 Loyalhanna St.\, Donegal\, PA\, 15628\, United States
ATTACH;FMTTYPE=image/jpeg:https://hopeandpassion.org/wp-content/uploads/2022/02/Baptism-07-16-22.jpg
END:VEVENT
BEGIN:VEVENT
DTSTART;TZID=UTC:20220712T183000
DTEND;TZID=UTC:20220712T193000
DTSTAMP:20260426T042444
CREATED:20220706T164535Z
LAST-MODIFIED:20220706T164535Z
UID:7861-1657650600-1657654200@hopeandpassion.org
SUMMARY:Hope & Passion Ministries Tuesday Bible Study
DESCRIPTION:
URL:https://hopeandpassion.org/event/hope-passion-ministries-tuesday-bible-study-23/
LOCATION:Facebook Livestream @ Hope & Passion Ministries\, Inc. Facebook Page
ATTACH;FMTTYPE=image/jpeg:https://hopeandpassion.org/wp-content/uploads/2022/07/Genesis-07-12-22.jpg
END:VEVENT
BEGIN:VEVENT
DTSTART;TZID=UTC:20220710T100000
DTEND;TZID=UTC:20220710T110000
DTSTAMP:20260426T042444
CREATED:20220623T180157Z
LAST-MODIFIED:20220623T180157Z
UID:7831-1657447200-1657450800@hopeandpassion.org
SUMMARY:Hope & Passion Ministries Sunday Morning Message
DESCRIPTION:
URL:https://hopeandpassion.org/event/hope-passion-ministries-sunday-morning-message-29/
LOCATION:Facebook Livestream @ Hope & Passion Ministries\, Inc. Facebook Page
ATTACH;FMTTYPE=image/jpeg:https://hopeandpassion.org/wp-content/uploads/2022/06/Revelation-07-10-22.jpg
END:VEVENT
BEGIN:VEVENT
DTSTART;TZID=UTC:20220705T183000
DTEND;TZID=UTC:20220705T193000
DTSTAMP:20260426T042444
CREATED:20220531T195330Z
LAST-MODIFIED:20220531T195330Z
UID:7777-1657045800-1657049400@hopeandpassion.org
SUMMARY:Hope & Passion Ministries Tuesday Bible Study
DESCRIPTION:
URL:https://hopeandpassion.org/event/hope-passion-ministries-tuesday-bible-study-21/
LOCATION:Facebook Livestream @ Hope & Passion Ministries\, Inc. Facebook Page
END:VEVENT
BEGIN:VEVENT
DTSTART;TZID=UTC:20220703T100000
DTEND;TZID=UTC:20220703T110000
DTSTAMP:20260426T042444
CREATED:20220615T145015Z
LAST-MODIFIED:20220615T145015Z
UID:7812-1656842400-1656846000@hopeandpassion.org
SUMMARY:Hope & Passion Ministries Sunday Morning Message
DESCRIPTION:
URL:https://hopeandpassion.org/event/hope-passion-ministries-sunday-morning-message-28/
LOCATION:Facebook Livestream @ Hope & Passion Ministries\, Inc. Facebook Page
ATTACH;FMTTYPE=image/jpeg:https://hopeandpassion.org/wp-content/uploads/2022/06/Revelation-07-03-22.jpg
END:VEVENT
BEGIN:VEVENT
DTSTART;TZID=UTC:20220628T183000
DTEND;TZID=UTC:20220628T193000
DTSTAMP:20260426T042444
CREATED:20220414T204210Z
LAST-MODIFIED:20220527T145500Z
UID:7617-1656441000-1656444600@hopeandpassion.org
SUMMARY:Hope & Passion Ministries Biblical Christian Apologetics Zoom Class
DESCRIPTION:
URL:https://hopeandpassion.org/event/hope-passion-ministries-biblical-christian-apologetics-zoom-class-2/
LOCATION:Zoom Class
ATTACH;FMTTYPE=image/jpeg:https://hopeandpassion.org/wp-content/uploads/2022/04/Zoom-Apologetics-06-28-22.jpg
END:VEVENT
BEGIN:VEVENT
DTSTART;TZID=UTC:20220626T100000
DTEND;TZID=UTC:20220626T110000
DTSTAMP:20260426T042444
CREATED:20220606T183141Z
LAST-MODIFIED:20220606T183141Z
UID:7793-1656237600-1656241200@hopeandpassion.org
SUMMARY:Hope & Passion Ministries Sunday Morning Message
DESCRIPTION:
URL:https://hopeandpassion.org/event/hope-passion-ministries-sunday-morning-message-27/
LOCATION:Facebook Livestream @ Hope & Passion Ministries\, Inc. Facebook Page
ATTACH;FMTTYPE=image/jpeg:https://hopeandpassion.org/wp-content/uploads/2022/06/Revelation-06-26-22.jpg
END:VEVENT
BEGIN:VEVENT
DTSTART;TZID=UTC:20220621T183000
DTEND;TZID=UTC:20220621T193000
DTSTAMP:20260426T042444
CREATED:20220615T144913Z
LAST-MODIFIED:20220615T144913Z
UID:7810-1655836200-1655839800@hopeandpassion.org
SUMMARY:Hope & Passion Ministries Tuesday Bible Study
DESCRIPTION:
URL:https://hopeandpassion.org/event/hope-passion-ministries-tuesday-bible-study-22/
LOCATION:Facebook Livestream @ Hope & Passion Ministries\, Inc. Facebook Page
ATTACH;FMTTYPE=image/jpeg:https://hopeandpassion.org/wp-content/uploads/2022/06/Genesis-06-21-22.jpg
END:VEVENT
BEGIN:VEVENT
DTSTART;TZID=UTC:20220619T100000
DTEND;TZID=UTC:20220619T110000
DTSTAMP:20260426T042444
CREATED:20220531T202739Z
LAST-MODIFIED:20220531T202739Z
UID:7779-1655632800-1655636400@hopeandpassion.org
SUMMARY:Hope & Passion Ministries Sunday Morning Message
DESCRIPTION:
URL:https://hopeandpassion.org/event/hope-passion-ministries-sunday-morning-message-26/
LOCATION:Facebook Livestream @ Hope & Passion Ministries\, Inc. Facebook Page
ATTACH;FMTTYPE=image/jpeg:https://hopeandpassion.org/wp-content/uploads/2022/05/Revelation-06-19-22.jpg
END:VEVENT
BEGIN:VEVENT
DTSTART;TZID=UTC:20220614T183000
DTEND;TZID=UTC:20220614T193000
DTSTAMP:20260426T042444
CREATED:20220531T195233Z
LAST-MODIFIED:20220531T195415Z
UID:7773-1655231400-1655235000@hopeandpassion.org
SUMMARY:Hope & Passion Ministries Tuesday Bible Study
DESCRIPTION:
URL:https://hopeandpassion.org/event/hope-passion-ministries-tuesday-bible-study-19/
LOCATION:Facebook Livestream @ Hope & Passion Ministries\, Inc. Facebook Page
END:VEVENT
BEGIN:VEVENT
DTSTART;TZID=UTC:20220612T100000
DTEND;TZID=UTC:20220612T110000
DTSTAMP:20260426T042444
CREATED:20220527T143502Z
LAST-MODIFIED:20220527T143502Z
UID:7756-1655028000-1655031600@hopeandpassion.org
SUMMARY:Hope & Passion Ministries Sunday Morning Message
DESCRIPTION:
URL:https://hopeandpassion.org/event/hope-passion-ministries-sunday-morning-message-25/
LOCATION:Facebook Livestream @ Hope & Passion Ministries\, Inc. Facebook Page
ATTACH;FMTTYPE=image/jpeg:https://hopeandpassion.org/wp-content/uploads/2022/05/Revelation-06-12-22.jpg
END:VEVENT
BEGIN:VEVENT
DTSTART;TZID=UTC:20220607T183000
DTEND;TZID=UTC:20220607T193000
DTSTAMP:20260426T042444
CREATED:20220523T192826Z
LAST-MODIFIED:20220531T195435Z
UID:7746-1654626600-1654630200@hopeandpassion.org
SUMMARY:Hope & Passion Ministries Tuesday Bible Study
DESCRIPTION:
URL:https://hopeandpassion.org/event/hope-passion-ministries-tuesday-bible-study-18/
LOCATION:Facebook Livestream @ Hope & Passion Ministries\, Inc. Facebook Page
ATTACH;FMTTYPE=image/jpeg:https://hopeandpassion.org/wp-content/uploads/2022/05/Genesis-06-07-22.jpg
END:VEVENT
BEGIN:VEVENT
DTSTART;TZID=UTC:20220605T100000
DTEND;TZID=UTC:20220605T110000
DTSTAMP:20260426T042444
CREATED:20220516T130315Z
LAST-MODIFIED:20220516T130324Z
UID:7707-1654423200-1654426800@hopeandpassion.org
SUMMARY:Hope & Passion Ministries Sunday Morning Message
DESCRIPTION:
URL:https://hopeandpassion.org/event/hope-passion-ministries-sunday-morning-message-24/
LOCATION:Facebook Livestream @ Hope & Passion Ministries\, Inc. Facebook Page
ATTACH;FMTTYPE=image/jpeg:https://hopeandpassion.org/wp-content/uploads/2022/05/Revelation-06-05-22.jpg
END:VEVENT
BEGIN:VEVENT
DTSTART;TZID=UTC:20220529T100000
DTEND;TZID=UTC:20220529T110000
DTSTAMP:20260426T042444
CREATED:20220523T161242Z
LAST-MODIFIED:20220523T161710Z
UID:7731-1653818400-1653822000@hopeandpassion.org
SUMMARY:Hope & Passion Ministries Sunday Morning Message (Recorded)
DESCRIPTION:
URL:https://hopeandpassion.org/event/hope-passion-ministries-sunday-morning-message-recorded/
LOCATION:Facebook Livestream @ Hope & Passion Ministries\, Inc. Facebook Page
ATTACH;FMTTYPE=image/jpeg:https://hopeandpassion.org/wp-content/uploads/2022/05/No-Ghost-but-the-Holy-Ghost-05-29-22-Recorded.jpg
END:VEVENT
BEGIN:VEVENT
DTSTART;TZID=UTC:20220524T183000
DTEND;TZID=UTC:20220524T193000
DTSTAMP:20260426T042444
CREATED:20220414T204111Z
LAST-MODIFIED:20220501T165039Z
UID:7614-1653417000-1653420600@hopeandpassion.org
SUMMARY:Hope & Passion Ministries Biblical Christian Apologetics Zoom Class
DESCRIPTION:
URL:https://hopeandpassion.org/event/hope-passion-ministries-biblical-christian-apologetics-zoom-class/
LOCATION:Zoom Class
ATTACH;FMTTYPE=image/jpeg:https://hopeandpassion.org/wp-content/uploads/2022/04/Apologetics-05-24-22.jpg
END:VEVENT
BEGIN:VEVENT
DTSTART;TZID=UTC:20220522T100000
DTEND;TZID=UTC:20220522T110000
DTSTAMP:20260426T042444
CREATED:20220516T130119Z
LAST-MODIFIED:20220516T130119Z
UID:7705-1653213600-1653217200@hopeandpassion.org
SUMMARY:Hope & Passion Ministries Sunday Morning Message
DESCRIPTION:
URL:https://hopeandpassion.org/event/hope-passion-ministries-sunday-morning-message-23/
LOCATION:Facebook Livestream @ Hope & Passion Ministries\, Inc. Facebook Page
ATTACH;FMTTYPE=image/jpeg:https://hopeandpassion.org/wp-content/uploads/2022/05/Revelation-05-22-22.jpg
END:VEVENT
BEGIN:VEVENT
DTSTART;TZID=UTC:20220517T183000
DTEND;TZID=UTC:20220517T193000
DTSTAMP:20260426T042444
CREATED:20220516T123519Z
LAST-MODIFIED:20220516T130138Z
UID:7699-1652812200-1652815800@hopeandpassion.org
SUMMARY:Hope & Passion Ministries Tuesday Bible Study
DESCRIPTION:
URL:https://hopeandpassion.org/event/hope-passion-ministries-tuesday-bible-study-17/
LOCATION:Facebook Livestream @ Hope & Passion Ministries\, Inc. Facebook Page
ATTACH;FMTTYPE=image/jpeg:https://hopeandpassion.org/wp-content/uploads/2022/05/Genesis-05-17-22.jpg
END:VEVENT
BEGIN:VEVENT
DTSTART;TZID=UTC:20220515T100000
DTEND;TZID=UTC:20220515T110000
DTSTAMP:20260426T042444
CREATED:20220501T165135Z
LAST-MODIFIED:20220501T165135Z
UID:7669-1652608800-1652612400@hopeandpassion.org
SUMMARY:Hope & Passion Ministries Sunday Morning Message
DESCRIPTION:
URL:https://hopeandpassion.org/event/hope-passion-ministries-sunday-morning-message-22/
LOCATION:Facebook Livestream @ Hope & Passion Ministries\, Inc. Facebook Page
ATTACH;FMTTYPE=image/jpeg:https://hopeandpassion.org/wp-content/uploads/2022/04/Revelation-05-15-22.jpg
END:VEVENT
BEGIN:VEVENT
DTSTART;TZID=UTC:20220510T183000
DTEND;TZID=UTC:20220510T193000
DTSTAMP:20260426T042444
CREATED:20220507T215747Z
LAST-MODIFIED:20220507T215747Z
UID:7682-1652207400-1652211000@hopeandpassion.org
SUMMARY:Hope & Passion Ministries Tuesday Bible Study
DESCRIPTION:
URL:https://hopeandpassion.org/event/hope-passion-ministries-tuesday-bible-study-16/
LOCATION:Facebook Livestream @ Hope & Passion Ministries\, Inc. Facebook Page
ATTACH;FMTTYPE=image/jpeg:https://hopeandpassion.org/wp-content/uploads/2022/05/Genesis-05-10-22.jpg
END:VEVENT
BEGIN:VEVENT
DTSTART;TZID=UTC:20220508T100000
DTEND;TZID=UTC:20220508T230000
DTSTAMP:20260426T042444
CREATED:20220418T223127Z
LAST-MODIFIED:20220418T223127Z
UID:7645-1652004000-1652050800@hopeandpassion.org
SUMMARY:Hope & Passion Ministries Sunday Morning Message
DESCRIPTION:
URL:https://hopeandpassion.org/event/hope-passion-ministries-sunday-morning-message-21/
LOCATION:Facebook Livestream @ Hope & Passion Ministries\, Inc. Facebook Page
ATTACH;FMTTYPE=image/jpeg:https://hopeandpassion.org/wp-content/uploads/2022/04/Revelation-05-08-22.jpg
END:VEVENT
BEGIN:VEVENT
DTSTART;TZID=UTC:20220508T100000
DTEND;TZID=UTC:20220508T100000
DTSTAMP:20260426T042444
CREATED:20220217T020313Z
LAST-MODIFIED:20220418T151706Z
UID:7441-1652004000-1652004000@hopeandpassion.org
SUMMARY:Crosswinds Alliance Church Sunday Morning Message
DESCRIPTION:
URL:https://hopeandpassion.org/event/crosswinds-alliance-church-sunday-morning-message/
LOCATION:Crosswinds Alliance Church\, 516 Freeport Rd.\, Butler\, PA\, 16002\, United States
ATTACH;FMTTYPE=image/jpeg:https://hopeandpassion.org/wp-content/uploads/2022/04/Crosswinds-Alliance-05-08-22.jpg
END:VEVENT
BEGIN:VEVENT
DTSTART;TZID=UTC:20220503T183000
DTEND;TZID=UTC:20220503T193000
DTSTAMP:20260426T042444
CREATED:20220420T224603Z
LAST-MODIFIED:20220526T211946Z
UID:7651-1651602600-1651606200@hopeandpassion.org
SUMMARY:Hope & Passion Ministries Tuesday Bible Study
DESCRIPTION:
URL:https://hopeandpassion.org/event/hope-passion-ministries-tuesday-bible-study-15/
LOCATION:Facebook Livestream @ Hope & Passion Ministries\, Inc. Facebook Page
ATTACH;FMTTYPE=image/jpeg:https://hopeandpassion.org/wp-content/uploads/2022/04/Genesis-05-03-22.jpg
END:VEVENT
BEGIN:VEVENT
DTSTART;TZID=UTC:20220501T100000
DTEND;TZID=UTC:20220501T110000
DTSTAMP:20260426T042444
CREATED:20220414T204403Z
LAST-MODIFIED:20220414T204403Z
UID:7621-1651399200-1651402800@hopeandpassion.org
SUMMARY:Hope & Passion Ministries Sunday Morning Message
DESCRIPTION:
URL:https://hopeandpassion.org/event/hope-passion-ministries-sunday-morning-message-20/
LOCATION:Facebook Livestream @ Hope & Passion Ministries\, Inc. Facebook Page
ATTACH;FMTTYPE=image/jpeg:https://hopeandpassion.org/wp-content/uploads/2022/04/Revelation-05-01-22.jpg
END:VEVENT
BEGIN:VEVENT
DTSTART;TZID=UTC:20220424T100000
DTEND;TZID=UTC:20220424T230000
DTSTAMP:20260426T042444
CREATED:20220405T201802Z
LAST-MODIFIED:20220405T201802Z
UID:7577-1650794400-1650841200@hopeandpassion.org
SUMMARY:Hope & Passion Ministries Sunday Morning Message
DESCRIPTION:
URL:https://hopeandpassion.org/event/hope-passion-ministries-sunday-morning-message-19/
LOCATION:Facebook Livestream @ Hope & Passion Ministries\, Inc. Facebook Page
ATTACH;FMTTYPE=image/jpeg:https://hopeandpassion.org/wp-content/uploads/2022/04/Revelation-04-24-22.jpg
END:VEVENT
END:VCALENDAR