BEGIN:VCALENDAR
VERSION:2.0
PRODID:-//Hope and Passion Ministries - ECPv6.15.18//NONSGML v1.0//EN
CALSCALE:GREGORIAN
METHOD:PUBLISH
X-WR-CALNAME:Hope and Passion Ministries
X-ORIGINAL-URL:https://hopeandpassion.org
X-WR-CALDESC:Events for Hope and Passion Ministries
REFRESH-INTERVAL;VALUE=DURATION:PT1H
X-Robots-Tag:noindex
X-PUBLISHED-TTL:PT1H
BEGIN:VTIMEZONE
TZID:UTC
BEGIN:STANDARD
TZOFFSETFROM:+0000
TZOFFSETTO:+0000
TZNAME:UTC
DTSTART:20210101T000000
END:STANDARD
END:VTIMEZONE
BEGIN:VEVENT
DTSTART;TZID=UTC:20220508T100000
DTEND;TZID=UTC:20220508T100000
DTSTAMP:20260426T020820
CREATED:20220217T020313Z
LAST-MODIFIED:20220418T151706Z
UID:7441-1652004000-1652004000@hopeandpassion.org
SUMMARY:Crosswinds Alliance Church Sunday Morning Message
DESCRIPTION:
URL:https://hopeandpassion.org/event/crosswinds-alliance-church-sunday-morning-message/
LOCATION:Crosswinds Alliance Church\, 516 Freeport Rd.\, Butler\, PA\, 16002\, United States
ATTACH;FMTTYPE=image/jpeg:https://hopeandpassion.org/wp-content/uploads/2022/04/Crosswinds-Alliance-05-08-22.jpg
END:VEVENT
BEGIN:VEVENT
DTSTART;TZID=UTC:20220503T183000
DTEND;TZID=UTC:20220503T193000
DTSTAMP:20260426T020820
CREATED:20220420T224603Z
LAST-MODIFIED:20220526T211946Z
UID:7651-1651602600-1651606200@hopeandpassion.org
SUMMARY:Hope & Passion Ministries Tuesday Bible Study
DESCRIPTION:
URL:https://hopeandpassion.org/event/hope-passion-ministries-tuesday-bible-study-15/
LOCATION:Facebook Livestream @ Hope & Passion Ministries\, Inc. Facebook Page
ATTACH;FMTTYPE=image/jpeg:https://hopeandpassion.org/wp-content/uploads/2022/04/Genesis-05-03-22.jpg
END:VEVENT
BEGIN:VEVENT
DTSTART;TZID=UTC:20220501T100000
DTEND;TZID=UTC:20220501T110000
DTSTAMP:20260426T020820
CREATED:20220414T204403Z
LAST-MODIFIED:20220414T204403Z
UID:7621-1651399200-1651402800@hopeandpassion.org
SUMMARY:Hope & Passion Ministries Sunday Morning Message
DESCRIPTION:
URL:https://hopeandpassion.org/event/hope-passion-ministries-sunday-morning-message-20/
LOCATION:Facebook Livestream @ Hope & Passion Ministries\, Inc. Facebook Page
ATTACH;FMTTYPE=image/jpeg:https://hopeandpassion.org/wp-content/uploads/2022/04/Revelation-05-01-22.jpg
END:VEVENT
BEGIN:VEVENT
DTSTART;TZID=UTC:20220424T100000
DTEND;TZID=UTC:20220424T230000
DTSTAMP:20260426T020820
CREATED:20220405T201802Z
LAST-MODIFIED:20220405T201802Z
UID:7577-1650794400-1650841200@hopeandpassion.org
SUMMARY:Hope & Passion Ministries Sunday Morning Message
DESCRIPTION:
URL:https://hopeandpassion.org/event/hope-passion-ministries-sunday-morning-message-19/
LOCATION:Facebook Livestream @ Hope & Passion Ministries\, Inc. Facebook Page
ATTACH;FMTTYPE=image/jpeg:https://hopeandpassion.org/wp-content/uploads/2022/04/Revelation-04-24-22.jpg
END:VEVENT
BEGIN:VEVENT
DTSTART;TZID=UTC:20220419T183000
DTEND;TZID=UTC:20220419T193000
DTSTAMP:20260426T020820
CREATED:20220418T151251Z
LAST-MODIFIED:20220418T151251Z
UID:7639-1650393000-1650396600@hopeandpassion.org
SUMMARY:Hope & Passion Ministries Tuesday Bible Study
DESCRIPTION:
URL:https://hopeandpassion.org/event/hope-passion-ministries-tuesday-bible-study-14/
LOCATION:Facebook Livestream @ Hope & Passion Ministries\, Inc. Facebook Page
ATTACH;FMTTYPE=image/jpeg:https://hopeandpassion.org/wp-content/uploads/2022/04/Genesis-04-19-22.jpg
END:VEVENT
BEGIN:VEVENT
DTSTART;TZID=UTC:20220417T100000
DTEND;TZID=UTC:20220417T230000
DTSTAMP:20260426T020820
CREATED:20220405T201703Z
LAST-MODIFIED:20220405T201703Z
UID:7575-1650189600-1650236400@hopeandpassion.org
SUMMARY:Hope & Passion Ministries Easter Sunday Message
DESCRIPTION:
URL:https://hopeandpassion.org/event/hope-passion-ministries-easter-sunday-message/
LOCATION:Facebook Livestream @ Hope & Passion Ministries\, Inc. Facebook Page
ATTACH;FMTTYPE=image/jpeg:https://hopeandpassion.org/wp-content/uploads/2022/04/The-Resurrection-Yet-to-Come-Easter-Sunday-04-17-22.jpg
END:VEVENT
BEGIN:VEVENT
DTSTART;TZID=UTC:20220415T150000
DTEND;TZID=UTC:20220415T154500
DTSTAMP:20260426T020820
CREATED:20220405T201602Z
LAST-MODIFIED:20220405T201602Z
UID:7573-1650034800-1650037500@hopeandpassion.org
SUMMARY:Hope & Passion Ministries Good Friday Service
DESCRIPTION:
URL:https://hopeandpassion.org/event/hope-passion-ministries-good-friday-service/
LOCATION:Facebook Livestream @ Hope & Passion Ministries\, Inc. Facebook Page
ATTACH;FMTTYPE=image/jpeg:https://hopeandpassion.org/wp-content/uploads/2022/04/Good-Friday-04-15-22.jpg
END:VEVENT
BEGIN:VEVENT
DTSTART;TZID=UTC:20220410T100000
DTEND;TZID=UTC:20220410T110000
DTSTAMP:20260426T020820
CREATED:20220316T124417Z
LAST-MODIFIED:20220316T124417Z
UID:7539-1649584800-1649588400@hopeandpassion.org
SUMMARY:Hope & Passion Ministries Sunday Morning Message
DESCRIPTION:
URL:https://hopeandpassion.org/event/hope-passion-ministries-sunday-morning-message-18/
LOCATION:Facebook Livestream @ Hope & Passion Ministries\, Inc. Facebook Page
ATTACH;FMTTYPE=image/jpeg:https://hopeandpassion.org/wp-content/uploads/2022/03/Revelation-04-10-22.jpg
END:VEVENT
BEGIN:VEVENT
DTSTART;TZID=UTC:20220405T183000
DTEND;TZID=UTC:20220405T193000
DTSTAMP:20260426T020820
CREATED:20220326T232558Z
LAST-MODIFIED:20220326T232558Z
UID:7555-1649183400-1649187000@hopeandpassion.org
SUMMARY:Hope & Passion Ministries Tuesday Bible Study
DESCRIPTION:
URL:https://hopeandpassion.org/event/hope-passion-ministries-tuesday-bible-study-13/
LOCATION:Facebook Livestream @ Hope & Passion Ministries\, Inc. Facebook Page
ATTACH;FMTTYPE=image/jpeg:https://hopeandpassion.org/wp-content/uploads/2022/03/Genesis-04-05-22.jpg
END:VEVENT
BEGIN:VEVENT
DTSTART;TZID=UTC:20220403T100000
DTEND;TZID=UTC:20220403T113000
DTSTAMP:20260426T020820
CREATED:20220207T224614Z
LAST-MODIFIED:20220309T184802Z
UID:7396-1648980000-1648985400@hopeandpassion.org
SUMMARY:Donegal Alliance Church Sunday Morning Message
DESCRIPTION:
URL:https://hopeandpassion.org/event/donegal-alliance-church-sunday-morning-message-2/
LOCATION:Donegal Christian & Missionary Alliance Church\, 210 Loyalhanna St.\, Donegal\, PA\, 15628\, United States
ATTACH;FMTTYPE=image/jpeg:https://hopeandpassion.org/wp-content/uploads/2022/02/Donegal-04-03-22.jpg
END:VEVENT
BEGIN:VEVENT
DTSTART;TZID=UTC:20220403T100000
DTEND;TZID=UTC:20220403T110000
DTSTAMP:20260426T020820
CREATED:20220311T194904Z
LAST-MODIFIED:20220311T194926Z
UID:7532-1648980000-1648983600@hopeandpassion.org
SUMMARY:Hope & Passion Ministries Sunday Morning Message
DESCRIPTION:
URL:https://hopeandpassion.org/event/hope-passion-ministries-sunday-morning-message-17/
LOCATION:Facebook Livestream @ Hope & Passion Ministries\, Inc. Facebook Page
ATTACH;FMTTYPE=image/jpeg:https://hopeandpassion.org/wp-content/uploads/2022/03/Revelation-04-03-22.jpg
END:VEVENT
BEGIN:VEVENT
DTSTART;TZID=UTC:20220327T100000
DTEND;TZID=UTC:20220327T113000
DTSTAMP:20260426T020820
CREATED:20220202T175952Z
LAST-MODIFIED:20220309T184532Z
UID:7372-1648375200-1648380600@hopeandpassion.org
SUMMARY:Manor Presbyterian Church Sunday Morning Message
DESCRIPTION:
URL:https://hopeandpassion.org/event/manor-presbyterian-church-sunday-morning-message/
LOCATION:Manor Presbyteria Church\, 13 Broadway Ave.\, Manor\, PA\, 15665
ATTACH;FMTTYPE=image/jpeg:https://hopeandpassion.org/wp-content/uploads/2022/02/Manor-03-27-22.jpg
END:VEVENT
BEGIN:VEVENT
DTSTART;TZID=UTC:20220327T100000
DTEND;TZID=UTC:20220327T110000
DTSTAMP:20260426T020820
CREATED:20220311T194656Z
LAST-MODIFIED:20220311T194800Z
UID:7530-1648375200-1648378800@hopeandpassion.org
SUMMARY:Hope & Passion Ministries Sunday Morning Message
DESCRIPTION:
URL:https://hopeandpassion.org/event/hope-passion-ministries-sunday-morning-message-10/
LOCATION:Facebook Livestream @ Hope & Passion Ministries\, Inc. Facebook Page
ATTACH;FMTTYPE=image/jpeg:https://hopeandpassion.org/wp-content/uploads/2022/03/HP-My-Times-03-27-22.jpg
END:VEVENT
BEGIN:VEVENT
DTSTART;TZID=UTC:20220320T100000
DTEND;TZID=UTC:20220320T110000
DTSTAMP:20260426T020820
CREATED:20220302T235858Z
LAST-MODIFIED:20220302T235858Z
UID:7488-1647770400-1647774000@hopeandpassion.org
SUMMARY:Hope & Passion Ministries Sunday Morning Message
DESCRIPTION:
URL:https://hopeandpassion.org/event/hope-passion-ministries-sunday-morning-message-16/
LOCATION:Facebook Livestream @ Hope & Passion Ministries\, Inc. Facebook Page
ATTACH;FMTTYPE=image/jpeg:https://hopeandpassion.org/wp-content/uploads/2022/03/Revelation-03-20-22.jpg
END:VEVENT
BEGIN:VEVENT
DTSTART;TZID=UTC:20220315T183000
DTEND;TZID=UTC:20220315T193000
DTSTAMP:20260426T020820
CREATED:20220311T193930Z
LAST-MODIFIED:20220311T193945Z
UID:7528-1647369000-1647372600@hopeandpassion.org
SUMMARY:Hope & Passion Ministries Tuesday Bible Study
DESCRIPTION:
URL:https://hopeandpassion.org/event/hope-passion-ministries-tuesday-bible-study-12/
LOCATION:Facebook Livestream @ Hope & Passion Ministries\, Inc. Facebook Page
ATTACH;FMTTYPE=image/jpeg:https://hopeandpassion.org/wp-content/uploads/2022/03/Genesis-03-15-22.jpg
END:VEVENT
BEGIN:VEVENT
DTSTART;TZID=UTC:20220313T100000
DTEND;TZID=UTC:20220313T110000
DTSTAMP:20260426T020820
CREATED:20220302T235814Z
LAST-MODIFIED:20220302T235814Z
UID:7486-1647165600-1647169200@hopeandpassion.org
SUMMARY:Hope & Passion Ministries Sunday Morning Message
DESCRIPTION:
URL:https://hopeandpassion.org/event/hope-passion-ministries-sunday-morning-message-15/
LOCATION:Facebook Livestream @ Hope & Passion Ministries\, Inc. Facebook Page
ATTACH;FMTTYPE=image/jpeg:https://hopeandpassion.org/wp-content/uploads/2022/03/Revelation-03-13-22.jpg
END:VEVENT
BEGIN:VEVENT
DTSTART;TZID=UTC:20220308T183000
DTEND;TZID=UTC:20220308T193000
DTSTAMP:20260426T020820
CREATED:20220302T235646Z
LAST-MODIFIED:20220302T235646Z
UID:7484-1646764200-1646767800@hopeandpassion.org
SUMMARY:Hope & Passion Ministries Tuesday Bible Study
DESCRIPTION:
URL:https://hopeandpassion.org/event/hope-passion-ministries-tuesday-bible-study-11/
LOCATION:Facebook Livestream @ Hope & Passion Ministries\, Inc. Facebook Page
ATTACH;FMTTYPE=image/jpeg:https://hopeandpassion.org/wp-content/uploads/2022/03/Genesis-03-08-22.jpg
END:VEVENT
BEGIN:VEVENT
DTSTART;TZID=UTC:20220306T100000
DTEND;TZID=UTC:20220306T110000
DTSTAMP:20260426T020820
CREATED:20220217T015212Z
LAST-MODIFIED:20220217T015212Z
UID:7437-1646560800-1646564400@hopeandpassion.org
SUMMARY:Hope & Passion Ministries Sunday Morning Message
DESCRIPTION:
URL:https://hopeandpassion.org/event/hope-passion-ministries-sunday-morning-message-13/
LOCATION:Facebook Livestream @ Hope & Passion Ministries\, Inc. Facebook Page
ATTACH;FMTTYPE=image/jpeg:https://hopeandpassion.org/wp-content/uploads/2022/02/Revelation-03-06-22.jpg
END:VEVENT
BEGIN:VEVENT
DTSTART;TZID=UTC:20220301T183000
DTEND;TZID=UTC:20220301T193000
DTSTAMP:20260426T020820
CREATED:20220224T002717Z
LAST-MODIFIED:20220224T002717Z
UID:7452-1646159400-1646163000@hopeandpassion.org
SUMMARY:Hope & Passion Ministries Tuesday Bible Study
DESCRIPTION:
URL:https://hopeandpassion.org/event/hope-passion-ministries-tuesday-bible-study-10/
LOCATION:Facebook Livestream @ Hope & Passion Ministries\, Inc. Facebook Page
ATTACH;FMTTYPE=image/jpeg:https://hopeandpassion.org/wp-content/uploads/2022/02/Genesis-03-01-22.jpg
END:VEVENT
BEGIN:VEVENT
DTSTART;TZID=UTC:20220227T100000
DTEND;TZID=UTC:20220227T110000
DTSTAMP:20260426T020820
CREATED:20220217T015343Z
LAST-MODIFIED:20220217T015343Z
UID:7439-1645956000-1645959600@hopeandpassion.org
SUMMARY:Hope & Passion Ministries Sunday Morning Message
DESCRIPTION:
URL:https://hopeandpassion.org/event/hope-passion-ministries-sunday-morning-message-14/
LOCATION:Facebook Livestream @ Hope & Passion Ministries\, Inc. Facebook Page
ATTACH;FMTTYPE=image/jpeg:https://hopeandpassion.org/wp-content/uploads/2022/02/Revelation-02-27-22.jpg
END:VEVENT
BEGIN:VEVENT
DTSTART;TZID=UTC:20220220T100000
DTEND;TZID=UTC:20220220T230000
DTSTAMP:20260426T020820
CREATED:20220202T180447Z
LAST-MODIFIED:20220202T180629Z
UID:7375-1645351200-1645398000@hopeandpassion.org
SUMMARY:Hope & Passion Ministries Sunday Morning Message
DESCRIPTION:
URL:https://hopeandpassion.org/event/hope-passion-ministries-sunday-morning-message-12/
LOCATION:Facebook Livestream @ Hope & Passion Ministries\, Inc. Facebook Page
ATTACH;FMTTYPE=image/jpeg:https://hopeandpassion.org/wp-content/uploads/2022/02/Revelation-02-20-22.jpg
END:VEVENT
BEGIN:VEVENT
DTSTART;TZID=UTC:20220215T183000
DTEND;TZID=UTC:20220215T193000
DTSTAMP:20260426T020820
CREATED:20220209T192647Z
LAST-MODIFIED:20220209T192751Z
UID:7409-1644949800-1644953400@hopeandpassion.org
SUMMARY:Hope & Passion Ministries Tuesday Bible Study
DESCRIPTION:
URL:https://hopeandpassion.org/event/hope-passion-ministries-tuesday-bible-study-9/
LOCATION:Facebook Livestream @ Hope & Passion Ministries\, Inc. Facebook Page
ATTACH;FMTTYPE=image/jpeg:https://hopeandpassion.org/wp-content/uploads/2022/02/Genesis-02-15-22.jpg
END:VEVENT
BEGIN:VEVENT
DTSTART;TZID=UTC:20220213T110000
DTEND;TZID=UTC:20220213T120000
DTSTAMP:20260426T020820
CREATED:20220124T161659Z
LAST-MODIFIED:20220124T161734Z
UID:7348-1644750000-1644753600@hopeandpassion.org
SUMMARY:Ambridge Alliance Church Sunday Morning Message
DESCRIPTION:
URL:https://hopeandpassion.org/event/ambridge-alliance-church-sunday-morning-message-2/
LOCATION:Ambridge Alliance Church\, 901 Merchant St.\, Ambridge\, PA\, 15003\, United States
ATTACH;FMTTYPE=image/jpeg:https://hopeandpassion.org/wp-content/uploads/2022/01/Ambridge-02-13-22.jpg
END:VEVENT
BEGIN:VEVENT
DTSTART;TZID=UTC:20220213T100000
DTEND;TZID=UTC:20220213T110000
DTSTAMP:20260426T020820
CREATED:20220124T162332Z
LAST-MODIFIED:20220124T162332Z
UID:7354-1644746400-1644750000@hopeandpassion.org
SUMMARY:Hope & Passion Ministries Sunday Morning Message
DESCRIPTION:
URL:https://hopeandpassion.org/event/hope-passion-ministries-sunday-morning-message-11/
LOCATION:Facebook Livestream @ Hope & Passion Ministries\, Inc. Facebook Page
ATTACH;FMTTYPE=image/jpeg:https://hopeandpassion.org/wp-content/uploads/2022/01/Sunday-Sermon-02-13-22.jpg
END:VEVENT
BEGIN:VEVENT
DTSTART;TZID=UTC:20220208T183000
DTEND;TZID=UTC:20220208T193000
DTSTAMP:20260426T020820
CREATED:20220202T180753Z
LAST-MODIFIED:20220202T190545Z
UID:7377-1644345000-1644348600@hopeandpassion.org
SUMMARY:Hope & Passion Ministries Tuesday Bible Study
DESCRIPTION:
URL:https://hopeandpassion.org/event/hope-passion-ministries-tuesday-bible-study-8/
LOCATION:Facebook Livestream @ Hope & Passion Ministries\, Inc. Facebook Page
ATTACH;FMTTYPE=image/jpeg:https://hopeandpassion.org/wp-content/uploads/2022/02/Genesis-02-08-22.jpg
END:VEVENT
BEGIN:VEVENT
DTSTART;TZID=UTC:20220206T100000
DTEND;TZID=UTC:20220206T110000
DTSTAMP:20260426T020820
CREATED:20220120T023254Z
LAST-MODIFIED:20220120T023254Z
UID:7329-1644141600-1644145200@hopeandpassion.org
SUMMARY:Hope & Passion Ministries Sunday Morning Message
DESCRIPTION:
URL:https://hopeandpassion.org/event/hope-passion-ministries-sunday-morning-message-9/
LOCATION:Facebook Livestream @ Hope & Passion Ministries\, Inc. Facebook Page
ATTACH;FMTTYPE=image/jpeg:https://hopeandpassion.org/wp-content/uploads/2022/01/Revelation-02-06-22.jpg
END:VEVENT
BEGIN:VEVENT
DTSTART;TZID=UTC:20220201T183000
DTEND;TZID=UTC:20220201T193000
DTSTAMP:20260426T020820
CREATED:20220120T023402Z
LAST-MODIFIED:20220120T023617Z
UID:7331-1643740200-1643743800@hopeandpassion.org
SUMMARY:Hope & Passion Ministries Tuesday Bible Study
DESCRIPTION:
URL:https://hopeandpassion.org/event/hope-passion-ministries-tuesday-bible-study-7/
LOCATION:Facebook Livestream @ Hope & Passion Ministries\, Inc. Facebook Page
ATTACH;FMTTYPE=image/jpeg:https://hopeandpassion.org/wp-content/uploads/2022/01/Genesis-02-01-22.jpg
END:VEVENT
BEGIN:VEVENT
DTSTART;TZID=UTC:20220130T100000
DTEND;TZID=UTC:20220130T110000
DTSTAMP:20260426T020820
CREATED:20220112T164324Z
LAST-MODIFIED:20220112T164324Z
UID:7317-1643536800-1643540400@hopeandpassion.org
SUMMARY:Hope & Passion Ministries Sunday Morning Message
DESCRIPTION:
URL:https://hopeandpassion.org/event/hope-passion-ministries-sunday-morning-message-8/
LOCATION:Facebook Livestream @ Hope & Passion Ministries\, Inc. Facebook Page
ATTACH;FMTTYPE=image/jpeg:https://hopeandpassion.org/wp-content/uploads/2022/01/Revelation-01-30-21.jpg
END:VEVENT
BEGIN:VEVENT
DTSTART;TZID=UTC:20220123T100000
DTEND;TZID=UTC:20220123T110000
DTSTAMP:20260426T020820
CREATED:20220105T171259Z
LAST-MODIFIED:20220105T171259Z
UID:7289-1642932000-1642935600@hopeandpassion.org
SUMMARY:Hope & Passion Ministries Sunday Morning Message
DESCRIPTION:
URL:https://hopeandpassion.org/event/hope-passion-ministries-sunday-morning-message-7/
LOCATION:Facebook Livestream @ Hope & Passion Ministries\, Inc. Facebook Page
ATTACH;FMTTYPE=image/jpeg:https://hopeandpassion.org/wp-content/uploads/2022/01/Revelation-01-23-22.jpg
END:VEVENT
BEGIN:VEVENT
DTSTART;TZID=UTC:20220118T183000
DTEND;TZID=UTC:20220118T193000
DTSTAMP:20260426T020820
CREATED:20220112T164207Z
LAST-MODIFIED:20220112T164207Z
UID:7315-1642530600-1642534200@hopeandpassion.org
SUMMARY:Hope & Passion Ministries Tuesday Bible Study
DESCRIPTION:
URL:https://hopeandpassion.org/event/hope-passion-ministries-tuesday-bible-study-6/
LOCATION:Facebook Livestream @ Hope & Passion Ministries\, Inc. Facebook Page
ATTACH;FMTTYPE=image/jpeg:https://hopeandpassion.org/wp-content/uploads/2022/01/Genesis-01-18-22.jpg
END:VEVENT
END:VCALENDAR