BEGIN:VCALENDAR
VERSION:2.0
PRODID:-//Hope and Passion Ministries - ECPv6.15.18//NONSGML v1.0//EN
CALSCALE:GREGORIAN
METHOD:PUBLISH
X-WR-CALNAME:Hope and Passion Ministries
X-ORIGINAL-URL:https://hopeandpassion.org
X-WR-CALDESC:Events for Hope and Passion Ministries
REFRESH-INTERVAL;VALUE=DURATION:PT1H
X-Robots-Tag:noindex
X-PUBLISHED-TTL:PT1H
BEGIN:VTIMEZONE
TZID:UTC
BEGIN:STANDARD
TZOFFSETFROM:+0000
TZOFFSETTO:+0000
TZNAME:UTC
DTSTART:20240101T000000
END:STANDARD
END:VTIMEZONE
BEGIN:VEVENT
DTSTART;TZID=UTC:20251026T110000
DTEND;TZID=UTC:20251026T120000
DTSTAMP:20260423T234851
CREATED:20250626T214450Z
LAST-MODIFIED:20251007T214319Z
UID:9996-1761476400-1761480000@hopeandpassion.org
SUMMARY:Latrobe Presbyterian Church Sunday Morning Message
DESCRIPTION:
URL:https://hopeandpassion.org/event/latrobe-presbyterian-church-sunday-morning-message-3/
LOCATION:Latrobe Presbyterian Church\, 340 Spring St.\, Latrobe\, PA\, 15650\, United States
ATTACH;FMTTYPE=image/jpeg:https://hopeandpassion.org/wp-content/uploads/2025/10/Can-You-Sin-See-Jesus-10-26-25.jpg
END:VEVENT
BEGIN:VEVENT
DTSTART;TZID=UTC:20251026T100000
DTEND;TZID=UTC:20251026T110000
DTSTAMP:20260423T234851
CREATED:20250626T214609Z
LAST-MODIFIED:20251007T214257Z
UID:10000-1761472800-1761476400@hopeandpassion.org
SUMMARY:Hope & Passion Ministries Sunday Morning Message
DESCRIPTION:
URL:https://hopeandpassion.org/event/hope-passion-ministries-sunday-morning-message-176/
ATTACH;FMTTYPE=image/jpeg:https://hopeandpassion.org/wp-content/uploads/2025/10/Can-You-Sin-See-Jesus-10-26-25.jpg
END:VEVENT
BEGIN:VEVENT
DTSTART;TZID=UTC:20251021T183000
DTEND;TZID=UTC:20251021T193000
DTSTAMP:20260423T234851
CREATED:20251009T160731Z
LAST-MODIFIED:20251020T232635Z
UID:10140-1761071400-1761075000@hopeandpassion.org
SUMMARY:CANCELLED - Hope & Passion Ministries Tuesday Bible Study
DESCRIPTION:
URL:https://hopeandpassion.org/event/hope-passion-ministries-tuesday-bible-study-130/
END:VEVENT
BEGIN:VEVENT
DTSTART;TZID=UTC:20251019T093000
DTEND;TZID=UTC:20251019T110000
DTSTAMP:20260423T234851
CREATED:20251007T214131Z
LAST-MODIFIED:20251007T214131Z
UID:10135-1760866200-1760871600@hopeandpassion.org
SUMMARY:Donegal C&MA Church Sunday Morning Message
DESCRIPTION:
URL:https://hopeandpassion.org/event/donegal-cma-church-sunday-morning-message-94/
LOCATION:Donegal Christian & Missionary Alliance Church\, 210 Loyalhanna St.\, Donegal\, PA\, 15628\, United States
ATTACH;FMTTYPE=image/jpeg:https://hopeandpassion.org/wp-content/uploads/2025/10/Romans-10-19-25.jpg
END:VEVENT
BEGIN:VEVENT
DTSTART;TZID=UTC:20251014T183000
DTEND;TZID=UTC:20251014T193000
DTSTAMP:20260423T234851
CREATED:20250728T182808Z
LAST-MODIFIED:20251009T160037Z
UID:10067-1760466600-1760470200@hopeandpassion.org
SUMMARY:CANCELLED - Hope & Passion Ministries Tuesday Bible Study
DESCRIPTION:
URL:https://hopeandpassion.org/event/hope-passion-ministries-tuesday-bible-study-129/
LOCATION:Facebook Livestream @ Hope & Passion Ministries\, Inc. Facebook Page
END:VEVENT
BEGIN:VEVENT
DTSTART;TZID=UTC:20251012T100000
DTEND;TZID=UTC:20251012T110000
DTSTAMP:20260423T234851
CREATED:20250924T125957Z
LAST-MODIFIED:20250924T125957Z
UID:10125-1760263200-1760266800@hopeandpassion.org
SUMMARY:Hope & Passion Ministries Sunday Morning Message
DESCRIPTION:
URL:https://hopeandpassion.org/event/hope-passion-ministries-sunday-morning-message-185/
LOCATION:Facebook Livestream @ Hope & Passion Ministries\, Inc. Facebook Page
ATTACH;FMTTYPE=image/jpeg:https://hopeandpassion.org/wp-content/uploads/2025/09/Daniel-10-12-25.jpg
END:VEVENT
BEGIN:VEVENT
DTSTART;TZID=UTC:20251012T093000
DTEND;TZID=UTC:20251012T110000
DTSTAMP:20260423T234851
CREATED:20250924T125916Z
LAST-MODIFIED:20250924T125916Z
UID:10123-1760261400-1760266800@hopeandpassion.org
SUMMARY:Donegal C&MA Church Sunday Morning Message
DESCRIPTION:
URL:https://hopeandpassion.org/event/donegal-cma-church-sunday-morning-message-93/
LOCATION:Donegal Christian & Missionary Alliance Church\, 210 Loyalhanna St.\, Donegal\, PA\, 15628\, United States
ATTACH;FMTTYPE=image/jpeg:https://hopeandpassion.org/wp-content/uploads/2025/09/Daniel-10-12-25.jpg
END:VEVENT
BEGIN:VEVENT
DTSTART;TZID=UTC:20251007T183000
DTEND;TZID=UTC:20251007T193000
DTSTAMP:20260423T234851
CREATED:20250626T214826Z
LAST-MODIFIED:20250924T125825Z
UID:10006-1759861800-1759865400@hopeandpassion.org
SUMMARY:Hope & Passion Ministries Tuesday Bible Study
DESCRIPTION:
URL:https://hopeandpassion.org/event/hope-passion-ministries-tuesday-bible-study-123/
LOCATION:Facebook Livestream @ Hope & Passion Ministries\, Inc. Facebook Page
ATTACH;FMTTYPE=image/jpeg:https://hopeandpassion.org/wp-content/uploads/2025/09/Genesis-10-07-25.jpg
END:VEVENT
BEGIN:VEVENT
DTSTART;TZID=UTC:20251005T100000
DTEND;TZID=UTC:20251005T110000
DTSTAMP:20260423T234851
CREATED:20250916T201626Z
LAST-MODIFIED:20250916T201626Z
UID:10116-1759658400-1759662000@hopeandpassion.org
SUMMARY:Hope & Passion Ministries Sunday Morning Message
DESCRIPTION:
URL:https://hopeandpassion.org/event/hope-passion-ministries-sunday-morning-message-184/
LOCATION:Facebook Livestream @ Hope & Passion Ministries\, Inc. Facebook Page
ATTACH;FMTTYPE=image/jpeg:https://hopeandpassion.org/wp-content/uploads/2025/09/Romans-10-05-25.jpg
END:VEVENT
BEGIN:VEVENT
DTSTART;TZID=UTC:20251005T093000
DTEND;TZID=UTC:20251005T110000
DTSTAMP:20260423T234851
CREATED:20250916T201541Z
LAST-MODIFIED:20250916T201541Z
UID:10114-1759656600-1759662000@hopeandpassion.org
SUMMARY:Donegal C&MA Church Sunday Morning Message
DESCRIPTION:
URL:https://hopeandpassion.org/event/donegal-cma-church-sunday-morning-message-92/
LOCATION:Donegal Christian & Missionary Alliance Church\, 210 Loyalhanna St.\, Donegal\, PA\, 15628\, United States
ATTACH;FMTTYPE=image/jpeg:https://hopeandpassion.org/wp-content/uploads/2025/09/Romans-10-05-25.jpg
END:VEVENT
BEGIN:VEVENT
DTSTART;TZID=UTC:20250928T100000
DTEND;TZID=UTC:20250928T110000
DTSTAMP:20260423T234851
CREATED:20250916T201432Z
LAST-MODIFIED:20250916T201432Z
UID:10112-1759053600-1759057200@hopeandpassion.org
SUMMARY:Hope & Passion Ministries Sunday Morning Message
DESCRIPTION:
URL:https://hopeandpassion.org/event/hope-passion-ministries-sunday-morning-message-183/
LOCATION:Facebook Livestream @ Hope & Passion Ministries\, Inc. Facebook Page
ATTACH;FMTTYPE=image/jpeg:https://hopeandpassion.org/wp-content/uploads/2025/09/Daniel-09-28-25.jpg
END:VEVENT
BEGIN:VEVENT
DTSTART;TZID=UTC:20250928T093000
DTEND;TZID=UTC:20250928T110000
DTSTAMP:20260423T234851
CREATED:20250916T201329Z
LAST-MODIFIED:20250916T201454Z
UID:10110-1759051800-1759057200@hopeandpassion.org
SUMMARY:Donegal C&MA Church Sunday Morning Message
DESCRIPTION:
URL:https://hopeandpassion.org/event/donegal-cma-church-sunday-morning-message-91/
LOCATION:Donegal Christian & Missionary Alliance Church\, 210 Loyalhanna St.\, Donegal\, PA\, 15628\, United States
ATTACH;FMTTYPE=image/jpeg:https://hopeandpassion.org/wp-content/uploads/2025/09/Daniel-09-28-25.jpg
END:VEVENT
BEGIN:VEVENT
DTSTART;TZID=UTC:20250921T100000
DTEND;TZID=UTC:20250921T110000
DTSTAMP:20260423T234851
CREATED:20250905T184121Z
LAST-MODIFIED:20250905T184121Z
UID:10088-1758448800-1758452400@hopeandpassion.org
SUMMARY:Hope & Passion Ministries Sunday Morning Message
DESCRIPTION:
URL:https://hopeandpassion.org/event/hope-passion-ministries-sunday-morning-message-182/
LOCATION:Facebook Livestream @ Hope & Passion Ministries\, Inc. Facebook Page
ATTACH;FMTTYPE=image/jpeg:https://hopeandpassion.org/wp-content/uploads/2025/09/Romans-09-21-25.jpg
END:VEVENT
BEGIN:VEVENT
DTSTART;TZID=UTC:20250921T093000
DTEND;TZID=UTC:20250921T110000
DTSTAMP:20260423T234851
CREATED:20250905T184029Z
LAST-MODIFIED:20250905T184142Z
UID:10086-1758447000-1758452400@hopeandpassion.org
SUMMARY:Donegal C&MA Church Sunday Morning Message
DESCRIPTION:
URL:https://hopeandpassion.org/event/donegal-cma-church-sunday-morning-message-90/
LOCATION:Donegal Christian & Missionary Alliance Church\, 210 Loyalhanna St.\, Donegal\, PA\, 15628\, United States
ATTACH;FMTTYPE=image/jpeg:https://hopeandpassion.org/wp-content/uploads/2025/09/Romans-09-21-25.jpg
END:VEVENT
BEGIN:VEVENT
DTSTART;TZID=UTC:20250916T183000
DTEND;TZID=UTC:20250916T193000
DTSTAMP:20260423T234851
CREATED:20250728T182716Z
LAST-MODIFIED:20250916T201223Z
UID:10063-1758047400-1758051000@hopeandpassion.org
SUMMARY:Hope & Passion Ministries Tuesday Bible Study
DESCRIPTION:
URL:https://hopeandpassion.org/event/hope-passion-ministries-tuesday-bible-study-127/
LOCATION:Facebook Livestream @ Hope & Passion Ministries\, Inc. Facebook Page
ATTACH;FMTTYPE=image/jpeg:https://hopeandpassion.org/wp-content/uploads/2025/09/The-Satanic-Battle-Behind-It-All-09-16-25.jpg
END:VEVENT
BEGIN:VEVENT
DTSTART;TZID=UTC:20250914T100000
DTEND;TZID=UTC:20250914T110000
DTSTAMP:20260423T234851
CREATED:20250715T012838Z
LAST-MODIFIED:20250905T185621Z
UID:10049-1757844000-1757847600@hopeandpassion.org
SUMMARY:Hope & Passion Ministries Sunday Morning Message
DESCRIPTION:
URL:https://hopeandpassion.org/event/hope-passion-ministries-sunday-morning-message-181/
LOCATION:Facebook Livestream @ Hope & Passion Ministries\, Inc. Facebook Page
ATTACH;FMTTYPE=image/jpeg:https://hopeandpassion.org/wp-content/uploads/2025/09/No-Soul-Sleep-The-God-of-the-Living-09-14-25.jpg
END:VEVENT
BEGIN:VEVENT
DTSTART;TZID=UTC:20250914T093000
DTEND;TZID=UTC:20250914T110000
DTSTAMP:20260423T234851
CREATED:20250715T012634Z
LAST-MODIFIED:20250905T185604Z
UID:10047-1757842200-1757847600@hopeandpassion.org
SUMMARY:Donegal C&MA @ Mammoth Park
DESCRIPTION:Shelli is the speaker for Donegal Christian & Missionary Alliance Church’s Annual Church Picnic at Mammoth Park\, 171 County Park Rd\, Mount Pleasant\, PA 15666\, Pavilion # 11. Service begins at 10 am. There will be singing\, offering\, and then the morning message. Following the service\, there will be a picnic. Everyone is requested to bring an entree to share (there is electric for crockpots to keep food warm until after the service). Donegal will provide the table settings. After the picnic there will be fun\, organized games for youth and adults. Bring your lawn chairs for more comfortable seating.
URL:https://hopeandpassion.org/event/donegal-cma-mammoth-park-2/
LOCATION:Mammoth Park\, 171 County Park Rd\, Mount Pleasant\, PA 15666\, PA\, United States
ATTACH;FMTTYPE=image/jpeg:https://hopeandpassion.org/wp-content/uploads/2025/09/No-Soul-Sleep-The-God-of-the-Living-09-14-25.jpg
END:VEVENT
BEGIN:VEVENT
DTSTART;TZID=UTC:20250909T183000
DTEND;TZID=UTC:20250909T193000
DTSTAMP:20260423T234851
CREATED:20250908T184707Z
LAST-MODIFIED:20250908T184707Z
UID:10096-1757442600-1757446200@hopeandpassion.org
SUMMARY:CANCELLED - Hope & Passion Ministries Tuesday Bible Study
DESCRIPTION:
URL:https://hopeandpassion.org/event/cancelled-hope-passion-ministries-tuesday-bible-study-10/
LOCATION:Facebook Livestream @ Hope & Passion Ministries\, Inc. Facebook Page
END:VEVENT
BEGIN:VEVENT
DTSTART;TZID=UTC:20250907T100000
DTEND;TZID=UTC:20250907T110000
DTSTAMP:20260423T234851
CREATED:20250626T215138Z
LAST-MODIFIED:20250715T011943Z
UID:10016-1757239200-1757242800@hopeandpassion.org
SUMMARY:Hope & Passion Ministries Sunday Morning Message
DESCRIPTION:
URL:https://hopeandpassion.org/event/hope-passion-ministries-sunday-morning-message-179/
LOCATION:Facebook Livestream @ Hope & Passion Ministries\, Inc. Facebook Page
ATTACH;FMTTYPE=image/jpeg:https://hopeandpassion.org/wp-content/uploads/2025/07/Daniel-09-07-25.jpg
END:VEVENT
BEGIN:VEVENT
DTSTART;TZID=UTC:20250907T100000
DTEND;TZID=UTC:20250907T110000
DTSTAMP:20260423T234851
CREATED:20250626T215033Z
LAST-MODIFIED:20250715T011912Z
UID:10012-1757239200-1757242800@hopeandpassion.org
SUMMARY:Donegal C&MA Church Sunday Morning Message
DESCRIPTION:
URL:https://hopeandpassion.org/event/donegal-cma-church-sunday-morning-message-88/
LOCATION:Donegal Christian & Missionary Alliance Church\, 210 Loyalhanna St.\, Donegal\, PA\, 15628\, United States
ATTACH;FMTTYPE=image/jpeg:https://hopeandpassion.org/wp-content/uploads/2025/07/Daniel-09-07-25.jpg
END:VEVENT
BEGIN:VEVENT
DTSTART;TZID=UTC:20250902T190000
DTEND;TZID=UTC:20250902T200000
DTSTAMP:20260423T234851
CREATED:20250626T215417Z
LAST-MODIFIED:20250825T163144Z
UID:10019-1756839600-1756843200@hopeandpassion.org
SUMMARY:Hope & Passion Ministries Zoom Communion Service
DESCRIPTION:We would love you have you join us for our Zoom Communion Service at 7:00 pm EDT. Simply contact us at hope.passion.ministries@verizon.net with your interest and e-mail address\, and we will send you the Zoom link to take communion with Shelli after a brief and anointed message from God’s Word.
URL:https://hopeandpassion.org/event/hope-passion-ministries-tuesday-bible-study-125/
LOCATION:Zoom Class
ATTACH;FMTTYPE=image/jpeg:https://hopeandpassion.org/wp-content/uploads/2025/08/Communion-Zoom-09-02-25.jpg
END:VEVENT
BEGIN:VEVENT
DTSTART;TZID=UTC:20250831T100000
DTEND;TZID=UTC:20250831T110000
DTSTAMP:20260423T234851
CREATED:20250701T185933Z
LAST-MODIFIED:20250710T163156Z
UID:10023-1756634400-1756638000@hopeandpassion.org
SUMMARY:Hope & Passion Ministries Sunday Morning Message
DESCRIPTION:
URL:https://hopeandpassion.org/event/hope-passion-ministries-sunday-morning-message-180/
LOCATION:Facebook Livestream @ Hope & Passion Ministries\, Inc. Facebook Page
ATTACH;FMTTYPE=image/jpeg:https://hopeandpassion.org/wp-content/uploads/2025/07/Romans-08-31-25.jpg
END:VEVENT
BEGIN:VEVENT
DTSTART;TZID=UTC:20250831T093000
DTEND;TZID=UTC:20250831T110000
DTSTAMP:20260423T234851
CREATED:20250701T185900Z
LAST-MODIFIED:20250710T163137Z
UID:10021-1756632600-1756638000@hopeandpassion.org
SUMMARY:Donegal C&MA Church Sunday Morning Message
DESCRIPTION:
URL:https://hopeandpassion.org/event/donegal-cma-church-sunday-morning-message-89/
LOCATION:Donegal Christian & Missionary Alliance Church\, 210 Loyalhanna St.\, Donegal\, PA\, 15628\, United States
ATTACH;FMTTYPE=image/jpeg:https://hopeandpassion.org/wp-content/uploads/2025/07/Romans-08-31-25.jpg
END:VEVENT
BEGIN:VEVENT
DTSTART;VALUE=DATE:20250727
DTEND;VALUE=DATE:20250825
DTSTAMP:20260423T234851
CREATED:20250321T145422Z
LAST-MODIFIED:20250710T164047Z
UID:9855-1753574400-1756079999@hopeandpassion.org
SUMMARY:SHELLI IS ON VACATION
DESCRIPTION:
URL:https://hopeandpassion.org/event/shelli-is-on-vacation-4/
ATTACH;FMTTYPE=image/jpeg:https://hopeandpassion.org/wp-content/uploads/2025/03/Shelli-Vacation-Schedule-2025.jpg
END:VEVENT
BEGIN:VEVENT
DTSTART;TZID=UTC:20250722T183000
DTEND;TZID=UTC:20250722T193000
DTSTAMP:20260423T234851
CREATED:20250715T012408Z
LAST-MODIFIED:20250715T013756Z
UID:10045-1753209000-1753212600@hopeandpassion.org
SUMMARY:Hope & Passion Ministries Tuesday Bible Study
DESCRIPTION:
URL:https://hopeandpassion.org/event/hope-passion-ministries-tuesday-bible-study-126/
LOCATION:Facebook Livestream @ Hope & Passion Ministries\, Inc. Facebook Page
ATTACH;FMTTYPE=image/jpeg:https://hopeandpassion.org/wp-content/uploads/2025/07/Genesis-07-22-25.jpg
END:VEVENT
BEGIN:VEVENT
DTSTART;TZID=UTC:20250720T100000
DTEND;TZID=UTC:20250720T110000
DTSTAMP:20260423T234851
CREATED:20250626T215111Z
LAST-MODIFIED:20250704T182250Z
UID:10014-1753005600-1753009200@hopeandpassion.org
SUMMARY:Hope & Passion Ministries Sunday Morning Message
DESCRIPTION:
URL:https://hopeandpassion.org/event/hope-passion-ministries-sunday-morning-message-178/
LOCATION:Facebook Livestream @ Hope & Passion Ministries\, Inc. Facebook Page
ATTACH;FMTTYPE=image/jpeg:https://hopeandpassion.org/wp-content/uploads/2025/07/Daniel-07-20-25.jpg
END:VEVENT
BEGIN:VEVENT
DTSTART;TZID=UTC:20250720T093000
DTEND;TZID=UTC:20250720T110000
DTSTAMP:20260423T234851
CREATED:20250626T215006Z
LAST-MODIFIED:20250704T182232Z
UID:10010-1753003800-1753009200@hopeandpassion.org
SUMMARY:Donegal C&MA Church Sunday Morning Message
DESCRIPTION:
URL:https://hopeandpassion.org/event/donegal-cma-church-sunday-morning-message-87/
LOCATION:Donegal Christian & Missionary Alliance Church\, 210 Loyalhanna St.\, Donegal\, PA\, 15628\, United States
ATTACH;FMTTYPE=image/jpeg:https://hopeandpassion.org/wp-content/uploads/2025/07/Daniel-07-20-25.jpg
END:VEVENT
BEGIN:VEVENT
DTSTART;TZID=UTC:20250715T183000
DTEND;TZID=UTC:20250715T193000
DTSTAMP:20260423T234851
CREATED:20250626T214854Z
LAST-MODIFIED:20250715T012320Z
UID:10008-1752604200-1752607800@hopeandpassion.org
SUMMARY:CANCELLED - Hope & Passion Ministries Tuesday Bible Study
DESCRIPTION:
URL:https://hopeandpassion.org/event/hope-passion-ministries-tuesday-bible-study-124/
LOCATION:Facebook Livestream @ Hope & Passion Ministries\, Inc. Facebook Page
END:VEVENT
BEGIN:VEVENT
DTSTART;TZID=UTC:20250713T100000
DTEND;TZID=UTC:20250713T110000
DTSTAMP:20260423T234851
CREATED:20250626T214736Z
LAST-MODIFIED:20250704T182210Z
UID:10004-1752400800-1752404400@hopeandpassion.org
SUMMARY:Hope & Passion Ministries Sunday Morning Message
DESCRIPTION:
URL:https://hopeandpassion.org/event/hope-passion-ministries-sunday-morning-message-177/
LOCATION:Facebook Livestream @ Hope & Passion Ministries\, Inc. Facebook Page
ATTACH;FMTTYPE=image/jpeg:https://hopeandpassion.org/wp-content/uploads/2025/07/Romans-07-13-25.jpg
END:VEVENT
BEGIN:VEVENT
DTSTART;TZID=UTC:20250713T093000
DTEND;TZID=UTC:20250713T110000
DTSTAMP:20260423T234851
CREATED:20250626T214659Z
LAST-MODIFIED:20250704T182150Z
UID:10002-1752399000-1752404400@hopeandpassion.org
SUMMARY:Donegal C&MA Church Sunday Morning Message
DESCRIPTION:
URL:https://hopeandpassion.org/event/donegal-cma-church-sunday-morning-message-86/
LOCATION:Donegal Christian & Missionary Alliance Church\, 210 Loyalhanna St.\, Donegal\, PA\, 15628\, United States
ATTACH;FMTTYPE=image/jpeg:https://hopeandpassion.org/wp-content/uploads/2025/07/Romans-07-13-25.jpg
END:VEVENT
END:VCALENDAR