BEGIN:VCALENDAR
VERSION:2.0
PRODID:-//Hope and Passion Ministries - ECPv6.15.18//NONSGML v1.0//EN
CALSCALE:GREGORIAN
METHOD:PUBLISH
X-WR-CALNAME:Hope and Passion Ministries
X-ORIGINAL-URL:https://hopeandpassion.org
X-WR-CALDESC:Events for Hope and Passion Ministries
REFRESH-INTERVAL;VALUE=DURATION:PT1H
X-Robots-Tag:noindex
X-PUBLISHED-TTL:PT1H
BEGIN:VTIMEZONE
TZID:UTC
BEGIN:STANDARD
TZOFFSETFROM:+0000
TZOFFSETTO:+0000
TZNAME:UTC
DTSTART:20210101T000000
END:STANDARD
END:VTIMEZONE
BEGIN:VEVENT
DTSTART;TZID=UTC:20221211T093000
DTEND;TZID=UTC:20221211T110000
DTSTAMP:20260426T024902
CREATED:20221114T223126Z
LAST-MODIFIED:20221206T210405Z
UID:8294-1670751000-1670756400@hopeandpassion.org
SUMMARY:Donegal Alliance Church Sunday Morning Message
DESCRIPTION:
URL:https://hopeandpassion.org/event/donegal-alliance-church-sunday-morning-message-15/
LOCATION:Donegal Christian & Missionary Alliance Church\, 210 Loyalhanna St.\, Donegal\, PA\, 15628\, United States
ATTACH;FMTTYPE=image/jpeg:https://hopeandpassion.org/wp-content/uploads/2022/11/Revelation-12-11-22.jpg
END:VEVENT
BEGIN:VEVENT
DTSTART;TZID=UTC:20221206T183000
DTEND;TZID=UTC:20221206T193000
DTSTAMP:20260426T024902
CREATED:20221114T222326Z
LAST-MODIFIED:20221118T222551Z
UID:8278-1670351400-1670355000@hopeandpassion.org
SUMMARY:Hope & Passion Ministries Tuesday Bible Study
DESCRIPTION:
URL:https://hopeandpassion.org/event/hope-passion-ministries-tuesday-bible-study-37/
LOCATION:Facebook Livestream @ Hope & Passion Ministries\, Inc. Facebook Page
ATTACH;FMTTYPE=image/jpeg:https://hopeandpassion.org/wp-content/uploads/2022/11/Genesis-12-06-22.jpg
END:VEVENT
BEGIN:VEVENT
DTSTART;TZID=UTC:20221204T100000
DTEND;TZID=UTC:20221204T110000
DTSTAMP:20260426T024902
CREATED:20221114T223055Z
LAST-MODIFIED:20221118T222527Z
UID:8292-1670148000-1670151600@hopeandpassion.org
SUMMARY:Donegal Alliance Church Sunday Morning Message
DESCRIPTION:
URL:https://hopeandpassion.org/event/donegal-alliance-church-sunday-morning-message-14/
LOCATION:Donegal Christian & Missionary Alliance Church\, 210 Loyalhanna St.\, Donegal\, PA\, 15628\, United States
ATTACH;FMTTYPE=image/jpeg:https://hopeandpassion.org/wp-content/uploads/2022/11/Revelation-12-04-22.jpg
END:VEVENT
BEGIN:VEVENT
DTSTART;TZID=UTC:20221204T100000
DTEND;TZID=UTC:20221204T110000
DTSTAMP:20260426T024902
CREATED:20221114T222604Z
LAST-MODIFIED:20221118T222458Z
UID:8284-1670148000-1670151600@hopeandpassion.org
SUMMARY:Hope & Passion Ministries Sunday Morning Message
DESCRIPTION:
URL:https://hopeandpassion.org/event/hope-passion-ministries-sunday-morning-message-49/
LOCATION:Facebook Livestream @ Hope & Passion Ministries\, Inc. Facebook Page
ATTACH;FMTTYPE=image/jpeg:https://hopeandpassion.org/wp-content/uploads/2022/11/Revelation-12-04-22.jpg
END:VEVENT
BEGIN:VEVENT
DTSTART;TZID=UTC:20221127T100000
DTEND;TZID=UTC:20221127T110000
DTSTAMP:20260426T024902
CREATED:20221114T222240Z
LAST-MODIFIED:20221114T222240Z
UID:8276-1669543200-1669546800@hopeandpassion.org
SUMMARY:Donegal Alliance Church Sunday Morning Message
DESCRIPTION:
URL:https://hopeandpassion.org/event/donegal-alliance-church-sunday-morning-message-13/
LOCATION:Donegal Christian & Missionary Alliance Church\, 210 Loyalhanna St.\, Donegal\, PA\, 15628\, United States
ATTACH;FMTTYPE=image/jpeg:https://hopeandpassion.org/wp-content/uploads/2022/11/Revelation-11-27-22.jpg
END:VEVENT
BEGIN:VEVENT
DTSTART;TZID=UTC:20221127T100000
DTEND;TZID=UTC:20221127T110000
DTSTAMP:20260426T024902
CREATED:20221114T222152Z
LAST-MODIFIED:20221114T222152Z
UID:8274-1669543200-1669546800@hopeandpassion.org
SUMMARY:Hope & Passion Ministries Sunday Morning Message
DESCRIPTION:
URL:https://hopeandpassion.org/event/hope-passion-ministries-sunday-morning-message-48/
LOCATION:Facebook Livestream @ Hope & Passion Ministries\, Inc. Facebook Page
ATTACH;FMTTYPE=image/jpeg:https://hopeandpassion.org/wp-content/uploads/2022/11/Revelation-11-27-22.jpg
END:VEVENT
BEGIN:VEVENT
DTSTART;TZID=UTC:20221120T100000
DTEND;TZID=UTC:20221120T110000
DTSTAMP:20260426T024902
CREATED:20221107T011405Z
LAST-MODIFIED:20221107T011405Z
UID:8262-1668938400-1668942000@hopeandpassion.org
SUMMARY:Donegal Alliance Church Sunday Morning Message
DESCRIPTION:
URL:https://hopeandpassion.org/event/donegal-alliance-church-sunday-morning-message-12/
LOCATION:Facebook Livestream @ Hope & Passion Ministries\, Inc. Facebook Page
ATTACH;FMTTYPE=image/jpeg:https://hopeandpassion.org/wp-content/uploads/2022/11/Revelation-11-20-22.jpg
END:VEVENT
BEGIN:VEVENT
DTSTART;TZID=UTC:20221120T100000
DTEND;TZID=UTC:20221120T110000
DTSTAMP:20260426T024902
CREATED:20221107T011311Z
LAST-MODIFIED:20221107T011311Z
UID:8260-1668938400-1668942000@hopeandpassion.org
SUMMARY:Hope & Passion Ministries Sunday Morning Message
DESCRIPTION:
URL:https://hopeandpassion.org/event/hope-passion-ministries-sunday-morning-message-47/
LOCATION:Facebook Livestream @ Hope & Passion Ministries\, Inc. Facebook Page
ATTACH;FMTTYPE=image/jpeg:https://hopeandpassion.org/wp-content/uploads/2022/11/Revelation-11-20-22.jpg
END:VEVENT
BEGIN:VEVENT
DTSTART;TZID=UTC:20221115T183000
DTEND;TZID=UTC:20221115T193000
DTSTAMP:20260426T024902
CREATED:20221107T011529Z
LAST-MODIFIED:20221114T222100Z
UID:8264-1668537000-1668540600@hopeandpassion.org
SUMMARY:Hope & Passion Ministries Tuesday Bible Study
DESCRIPTION:
URL:https://hopeandpassion.org/event/hope-passion-ministries-tuesday-bible-study-36/
LOCATION:Facebook Livestream @ Hope & Passion Ministries\, Inc. Facebook Page
ATTACH;FMTTYPE=image/jpeg:https://hopeandpassion.org/wp-content/uploads/2022/11/Genesis-11-15-22.jpg
END:VEVENT
BEGIN:VEVENT
DTSTART;TZID=UTC:20221113T100000
DTEND;TZID=UTC:20221113T110000
DTSTAMP:20260426T024902
CREATED:20221003T135513Z
LAST-MODIFIED:20221031T212243Z
UID:8199-1668333600-1668337200@hopeandpassion.org
SUMMARY:Donegal Alliance Church Sunday Morning Message
DESCRIPTION:
URL:https://hopeandpassion.org/event/donegal-alliance-church-sunday-morning-message-11/
LOCATION:Donegal Christian & Missionary Alliance Church\, 210 Loyalhanna St.\, Donegal\, PA\, 15628\, United States
ATTACH;FMTTYPE=image/jpeg:https://hopeandpassion.org/wp-content/uploads/2022/10/Revelation-11-13-22.jpg
END:VEVENT
BEGIN:VEVENT
DTSTART;TZID=UTC:20221113T100000
DTEND;TZID=UTC:20221113T110000
DTSTAMP:20260426T024902
CREATED:20221003T135426Z
LAST-MODIFIED:20221031T212219Z
UID:8197-1668333600-1668337200@hopeandpassion.org
SUMMARY:Hope & Passion Ministries Sunday Morning Message
DESCRIPTION:
URL:https://hopeandpassion.org/event/hope-passion-ministries-sunday-morning-message-46/
LOCATION:Facebook Livestream @ Hope & Passion Ministries\, Inc. Facebook Page
ATTACH;FMTTYPE=image/jpeg:https://hopeandpassion.org/wp-content/uploads/2022/10/Revelation-11-13-22.jpg
END:VEVENT
BEGIN:VEVENT
DTSTART;TZID=UTC:20221108T183000
DTEND;TZID=UTC:20221108T193000
DTSTAMP:20260426T024902
CREATED:20221003T134754Z
LAST-MODIFIED:20221107T011034Z
UID:8187-1667932200-1667935800@hopeandpassion.org
SUMMARY:Hope & Passion Ministries Tuesday Bible Study
DESCRIPTION:
URL:https://hopeandpassion.org/event/hope-passion-ministries-tuesday-bible-study-35/
LOCATION:Facebook Livestream @ Hope & Passion Ministries\, Inc. Facebook Page
ATTACH;FMTTYPE=image/jpeg:https://hopeandpassion.org/wp-content/uploads/2022/11/Genesis-11-08-22.jpg
END:VEVENT
BEGIN:VEVENT
DTSTART;TZID=UTC:20221106T100000
DTEND;TZID=UTC:20221106T110000
DTSTAMP:20260426T024902
CREATED:20221003T135312Z
LAST-MODIFIED:20221025T203254Z
UID:8195-1667728800-1667732400@hopeandpassion.org
SUMMARY:Donegal Alliance Church Sunday Morning Message
DESCRIPTION:
URL:https://hopeandpassion.org/event/donegal-alliance-church-sunday-morning-message-10/
LOCATION:Donegal Christian & Missionary Alliance Church\, 210 Loyalhanna St.\, Donegal\, PA\, 15628\, United States
ATTACH;FMTTYPE=image/jpeg:https://hopeandpassion.org/wp-content/uploads/2022/10/Revelation-11-06-22.jpg
END:VEVENT
BEGIN:VEVENT
DTSTART;TZID=UTC:20221106T100000
DTEND;TZID=UTC:20221106T110000
DTSTAMP:20260426T024902
CREATED:20221003T135237Z
LAST-MODIFIED:20221025T203234Z
UID:8193-1667728800-1667732400@hopeandpassion.org
SUMMARY:Hope & Passion Ministries Sunday Morning Message
DESCRIPTION:
URL:https://hopeandpassion.org/event/hope-passion-ministries-sunday-morning-message-45/
LOCATION:Facebook Livestream @ Hope & Passion Ministries\, Inc. Facebook Page
ATTACH;FMTTYPE=image/jpeg:https://hopeandpassion.org/wp-content/uploads/2022/10/Revelation-11-06-22.jpg
END:VEVENT
BEGIN:VEVENT
DTSTART;TZID=UTC:20221101T183000
DTEND;TZID=UTC:20221101T193000
DTSTAMP:20260426T024902
CREATED:20221003T134443Z
LAST-MODIFIED:20221018T171654Z
UID:8185-1667327400-1667331000@hopeandpassion.org
SUMMARY:Hope & Passion Ministries Tuesday Bible Study
DESCRIPTION:
URL:https://hopeandpassion.org/event/hope-passion-ministries-tuesday-bible-study-34/
LOCATION:Facebook Livestream @ Hope & Passion Ministries\, Inc. Facebook Page
ATTACH;FMTTYPE=image/jpeg:https://hopeandpassion.org/wp-content/uploads/2022/10/Genesis-11-01-22.jpg
END:VEVENT
BEGIN:VEVENT
DTSTART;TZID=UTC:20221030T100000
DTEND;TZID=UTC:20221030T110000
DTSTAMP:20260426T024902
CREATED:20221003T134921Z
LAST-MODIFIED:20221006T171342Z
UID:8191-1667124000-1667127600@hopeandpassion.org
SUMMARY:Donegal Alliance Church Sunday Morning Message
DESCRIPTION:
URL:https://hopeandpassion.org/event/donegal-alliance-church-sunday-morning-message-9/
LOCATION:Donegal Christian & Missionary Alliance Church\, 210 Loyalhanna St.\, Donegal\, PA\, 15628\, United States
ATTACH;FMTTYPE=image/jpeg:https://hopeandpassion.org/wp-content/uploads/2022/10/Revelation-10-30-22.jpg
END:VEVENT
BEGIN:VEVENT
DTSTART;TZID=UTC:20221030T100000
DTEND;TZID=UTC:20221030T110000
DTSTAMP:20260426T024902
CREATED:20221003T134833Z
LAST-MODIFIED:20221006T171321Z
UID:8189-1667124000-1667127600@hopeandpassion.org
SUMMARY:Hope & Passion Ministries Sunday Morning Message
DESCRIPTION:
URL:https://hopeandpassion.org/event/hope-passion-ministries-sunday-morning-message-44/
LOCATION:Facebook Livestream @ Hope & Passion Ministries\, Inc. Facebook Page
ATTACH;FMTTYPE=image/jpeg:https://hopeandpassion.org/wp-content/uploads/2022/10/Revelation-10-30-22.jpg
END:VEVENT
BEGIN:VEVENT
DTSTART;TZID=UTC:20221023T100000
DTEND;TZID=UTC:20221023T110000
DTSTAMP:20260426T024902
CREATED:20221003T134016Z
LAST-MODIFIED:20221003T134016Z
UID:8177-1666519200-1666522800@hopeandpassion.org
SUMMARY:Donegal Alliance Church Sunday Morning Message
DESCRIPTION:
URL:https://hopeandpassion.org/event/donegal-alliance-church-sunday-morning-message-8/
LOCATION:Donegal Christian & Missionary Alliance Church\, 210 Loyalhanna St.\, Donegal\, PA\, 15628\, United States
ATTACH;FMTTYPE=image/jpeg:https://hopeandpassion.org/wp-content/uploads/2022/10/Revelation-10-23-22.jpg
END:VEVENT
BEGIN:VEVENT
DTSTART;TZID=UTC:20221023T100000
DTEND;TZID=UTC:20221023T110000
DTSTAMP:20260426T024902
CREATED:20221003T133930Z
LAST-MODIFIED:20221003T133930Z
UID:8175-1666519200-1666522800@hopeandpassion.org
SUMMARY:Hope & Passion Ministries Sunday Morning Message
DESCRIPTION:
URL:https://hopeandpassion.org/event/hope-passion-ministries-sunday-morning-message-43/
LOCATION:Facebook Livestream @ Hope & Passion Ministries\, Inc. Facebook Page
ATTACH;FMTTYPE=image/jpeg:https://hopeandpassion.org/wp-content/uploads/2022/10/Revelation-10-23-22.jpg
END:VEVENT
BEGIN:VEVENT
DTSTART;TZID=UTC:20221018T000000
DTEND;TZID=UTC:20221018T000000
DTSTAMP:20260426T024902
CREATED:20221003T134208Z
LAST-MODIFIED:20221018T171620Z
UID:8181-1666051200-1666051200@hopeandpassion.org
SUMMARY:CANCELLED: Hope & Passion Ministries Tuesday Bible Study
DESCRIPTION:
URL:https://hopeandpassion.org/event/hope-passion-ministries-tuesday-bible-study-33/
ATTACH;FMTTYPE=image/jpeg:https://hopeandpassion.org/wp-content/uploads/2022/10/Genesis-10-18-22-Rescheduled-11-01-22.jpg
END:VEVENT
BEGIN:VEVENT
DTSTART;TZID=UTC:20221016T100000
DTEND;TZID=UTC:20221016T230000
DTSTAMP:20260426T024902
CREATED:20220921T151524Z
LAST-MODIFIED:20220921T151524Z
UID:8136-1665914400-1665961200@hopeandpassion.org
SUMMARY:Hope & Passion Ministries Sunday Morning Message
DESCRIPTION:
URL:https://hopeandpassion.org/event/hope-passion-ministries-sunday-morning-message-41/
LOCATION:Facebook Livestream @ Hope & Passion Ministries\, Inc. Facebook Page
ATTACH;FMTTYPE=image/jpeg:https://hopeandpassion.org/wp-content/uploads/2022/09/Revelation-10-16-22.jpg
END:VEVENT
BEGIN:VEVENT
DTSTART;TZID=UTC:20221016T100000
DTEND;TZID=UTC:20221016T110000
DTSTAMP:20260426T024902
CREATED:20221003T133833Z
LAST-MODIFIED:20221003T142524Z
UID:8173-1665914400-1665918000@hopeandpassion.org
SUMMARY:Donegal Alliance Church Sunday Morning Message
DESCRIPTION:
URL:https://hopeandpassion.org/event/donegal-alliance-church-sunday-morning-message-7/
LOCATION:Donegal Christian & Missionary Alliance Church\, 210 Loyalhanna St.\, Donegal\, PA\, 15628\, United States
ATTACH;FMTTYPE=image/jpeg:https://hopeandpassion.org/wp-content/uploads/2022/09/Revelation-10-16-22.jpg
END:VEVENT
BEGIN:VEVENT
DTSTART;TZID=UTC:20221015T180000
DTEND;TZID=UTC:20221015T203000
DTSTAMP:20260426T024902
CREATED:20220505T165434Z
LAST-MODIFIED:20221003T142442Z
UID:7678-1665856800-1665865800@hopeandpassion.org
SUMMARY:Greensburg Church of the Brethren Revival Service
DESCRIPTION:Shelli Prindle is the keynote speaker.
URL:https://hopeandpassion.org/event/greensburg-church-of-the-brethren-revival-service/
LOCATION:Greensburg Church of the Brethren\, 554 Stanton St.\, Greensburg\, PA\, 15601\, United States
ATTACH;FMTTYPE=image/jpeg:https://hopeandpassion.org/wp-content/uploads/2022/08/Revival-Service-10-15-22.jpg
END:VEVENT
BEGIN:VEVENT
DTSTART;TZID=UTC:20221011T194500
DTEND;TZID=UTC:20221011T201500
DTSTAMP:20260426T024902
CREATED:20221003T203658Z
LAST-MODIFIED:20221003T203658Z
UID:8204-1665517500-1665519300@hopeandpassion.org
SUMMARY:Hope & Passion Ministries Tuesday Communion
DESCRIPTION:
URL:https://hopeandpassion.org/event/hope-passion-ministries-tuesday-communion/
LOCATION:Facebook Livestream @ Hope & Passion Ministries\, Inc. Facebook Page
ATTACH;FMTTYPE=image/jpeg:https://hopeandpassion.org/wp-content/uploads/2022/10/Communion-10-11-22.jpg
END:VEVENT
BEGIN:VEVENT
DTSTART;TZID=UTC:20221011T183000
DTEND;TZID=UTC:20221011T193000
DTSTAMP:20260426T024902
CREATED:20221003T134139Z
LAST-MODIFIED:20221006T171255Z
UID:8179-1665513000-1665516600@hopeandpassion.org
SUMMARY:Hope & Passion Ministries Tuesday Bible Study
DESCRIPTION:
URL:https://hopeandpassion.org/event/hope-passion-ministries-tuesday-bible-study-32/
LOCATION:Facebook Livestream @ Hope & Passion Ministries\, Inc. Facebook Page
ATTACH;FMTTYPE=image/jpeg:https://hopeandpassion.org/wp-content/uploads/2022/10/Genesis-10-11-22.jpg
END:VEVENT
BEGIN:VEVENT
DTSTART;TZID=UTC:20221009T110000
DTEND;TZID=UTC:20221009T120000
DTSTAMP:20260426T024902
CREATED:20220523T160411Z
LAST-MODIFIED:20220905T160021Z
UID:7726-1665313200-1665316800@hopeandpassion.org
SUMMARY:Latrobe Presbyterian Church Sunday Morning Message
DESCRIPTION:
URL:https://hopeandpassion.org/event/latrobe-united-presbyterian-church-sunday-morning-message/
LOCATION:Latrobe Presbyterian Church\, 340 Spring St.\, Latrobe\, PA\, 15650\, United States
ATTACH;FMTTYPE=image/jpeg:https://hopeandpassion.org/wp-content/uploads/2022/09/What-is-the-Great-White-Throne-Judgement-Latrobe-10-09-22.jpg
END:VEVENT
BEGIN:VEVENT
DTSTART;TZID=UTC:20221009T100000
DTEND;TZID=UTC:20221009T110000
DTSTAMP:20260426T024902
CREATED:20220830T144134Z
LAST-MODIFIED:20220921T151435Z
UID:8026-1665309600-1665313200@hopeandpassion.org
SUMMARY:Hope & Passion Ministries Sunday Morning Message
DESCRIPTION:
URL:https://hopeandpassion.org/event/hope-passion-ministries-sunday-morning-message-40/
LOCATION:Facebook Livestream @ Hope & Passion Ministries\, Inc. Facebook Page
ATTACH;FMTTYPE=image/jpeg:https://hopeandpassion.org/wp-content/uploads/2022/09/HP-10-09-22.jpg
END:VEVENT
BEGIN:VEVENT
DTSTART;TZID=UTC:20221004T183000
DTEND;TZID=UTC:20221004T193000
DTSTAMP:20260426T024902
CREATED:20220921T151332Z
LAST-MODIFIED:20220921T151332Z
UID:8134-1664908200-1664911800@hopeandpassion.org
SUMMARY:Hope & Passion Ministries Tuesday Bible Study
DESCRIPTION:
URL:https://hopeandpassion.org/event/hope-passion-ministries-tuesday-bible-study-31/
LOCATION:Facebook Livestream @ Hope & Passion Ministries\, Inc. Facebook Page
ATTACH;FMTTYPE=image/jpeg:https://hopeandpassion.org/wp-content/uploads/2022/09/Genesis-10-04-22.jpg
END:VEVENT
BEGIN:VEVENT
DTSTART;TZID=UTC:20221002T100000
DTEND;TZID=UTC:20221002T110000
DTSTAMP:20260426T024902
CREATED:20221003T133522Z
LAST-MODIFIED:20221003T133522Z
UID:8171-1664704800-1664708400@hopeandpassion.org
SUMMARY:Hope & Passion Ministries Sunday Morning Message
DESCRIPTION:
URL:https://hopeandpassion.org/event/hope-passion-ministries-sunday-morning-message-42/
LOCATION:Facebook Livestream @ Hope & Passion Ministries\, Inc. Facebook Page
ATTACH;FMTTYPE=image/jpeg:https://hopeandpassion.org/wp-content/uploads/2022/10/Revelation-10-02-22-1.jpg
END:VEVENT
BEGIN:VEVENT
DTSTART;TZID=UTC:20221002T100000
DTEND;TZID=UTC:20221002T110000
DTSTAMP:20260426T024902
CREATED:20220830T140322Z
LAST-MODIFIED:20221003T133658Z
UID:8022-1664704800-1664708400@hopeandpassion.org
SUMMARY:Donegal Alliance Church Sunday Morning Message
DESCRIPTION:
URL:https://hopeandpassion.org/event/donegal-alliance-church-sunday-morning-message-6/
LOCATION:Donegal Christian & Missionary Alliance Church\, 210 Loyalhanna St.\, Donegal\, PA\, 15628\, United States
ATTACH;FMTTYPE=image/jpeg:https://hopeandpassion.org/wp-content/uploads/2022/10/Revelation-10-02-22-1.jpg
END:VEVENT
END:VCALENDAR