BEGIN:VCALENDAR
VERSION:2.0
PRODID:-//Hope and Passion Ministries - ECPv6.15.18//NONSGML v1.0//EN
CALSCALE:GREGORIAN
METHOD:PUBLISH
X-WR-CALNAME:Hope and Passion Ministries
X-ORIGINAL-URL:https://hopeandpassion.org
X-WR-CALDESC:Events for Hope and Passion Ministries
REFRESH-INTERVAL;VALUE=DURATION:PT1H
X-Robots-Tag:noindex
X-PUBLISHED-TTL:PT1H
BEGIN:VTIMEZONE
TZID:UTC
BEGIN:STANDARD
TZOFFSETFROM:+0000
TZOFFSETTO:+0000
TZNAME:UTC
DTSTART:20230101T000000
END:STANDARD
END:VTIMEZONE
BEGIN:VEVENT
DTSTART;TZID=UTC:20250119T100000
DTEND;TZID=UTC:20250119T110000
DTSTAMP:20260424T152928
CREATED:20241230T200310Z
LAST-MODIFIED:20241230T200310Z
UID:9709-1737280800-1737284400@hopeandpassion.org
SUMMARY:Hope & Passion Ministries Sunday Morning Message
DESCRIPTION:
URL:https://hopeandpassion.org/event/hope-passion-ministries-sunday-morning-message-152/
LOCATION:Facebook Livestream @ Hope & Passion Ministries\, Inc. Facebook Page
ATTACH;FMTTYPE=image/jpeg:https://hopeandpassion.org/wp-content/uploads/2024/12/Daniel-01-12-25.jpg
END:VEVENT
BEGIN:VEVENT
DTSTART;TZID=UTC:20250119T093000
DTEND;TZID=UTC:20250119T110000
DTSTAMP:20260424T152928
CREATED:20241230T200223Z
LAST-MODIFIED:20241230T200223Z
UID:9707-1737279000-1737284400@hopeandpassion.org
SUMMARY:Donegal C&MA Church Sunday Morning Message
DESCRIPTION:
URL:https://hopeandpassion.org/event/donegal-cma-church-sunday-morning-message-62/
LOCATION:Donegal Christian & Missionary Alliance Church\, 210 Loyalhanna St.\, Donegal\, PA\, 15628\, United States
ATTACH;FMTTYPE=image/jpeg:https://hopeandpassion.org/wp-content/uploads/2024/12/Romans-01-19-25.jpg
END:VEVENT
BEGIN:VEVENT
DTSTART;TZID=UTC:20250114T183000
DTEND;TZID=UTC:20250114T193000
DTSTAMP:20260424T152928
CREATED:20241215T214947Z
LAST-MODIFIED:20250110T182447Z
UID:9686-1736879400-1736883000@hopeandpassion.org
SUMMARY:Hope & Passion Ministries Tuesday Bible Study
DESCRIPTION:
URL:https://hopeandpassion.org/event/hope-passion-ministries-tuesday-bible-study-107/
LOCATION:Facebook Livestream @ Hope & Passion Ministries\, Inc. Facebook Page
ATTACH;FMTTYPE=image/jpeg:https://hopeandpassion.org/wp-content/uploads/2025/01/Genesis-01-14-25.jpg
END:VEVENT
BEGIN:VEVENT
DTSTART;TZID=UTC:20250112T100000
DTEND;TZID=UTC:20250112T110000
DTSTAMP:20260424T152928
CREATED:20241215T215401Z
LAST-MODIFIED:20241230T200359Z
UID:9698-1736676000-1736679600@hopeandpassion.org
SUMMARY:Hope & Passion Ministries Sunday Morning Message
DESCRIPTION:
URL:https://hopeandpassion.org/event/hope-passion-ministries-sunday-morning-message-151/
LOCATION:Facebook Livestream @ Hope & Passion Ministries\, Inc. Facebook Page
ATTACH;FMTTYPE=image/jpeg:https://hopeandpassion.org/wp-content/uploads/2024/12/Daniel-01-12-25.jpg
END:VEVENT
BEGIN:VEVENT
DTSTART;TZID=UTC:20250112T093000
DTEND;TZID=UTC:20250112T110000
DTSTAMP:20260424T152928
CREATED:20241215T215321Z
LAST-MODIFIED:20241230T200342Z
UID:9696-1736674200-1736679600@hopeandpassion.org
SUMMARY:Donegal C&MA Church Sunday Morning Message
DESCRIPTION:
URL:https://hopeandpassion.org/event/donegal-cma-church-sunday-morning-message-61/
LOCATION:Donegal Christian & Missionary Alliance Church\, 210 Loyalhanna St.\, Donegal\, PA\, 15628\, United States
ATTACH;FMTTYPE=image/jpeg:https://hopeandpassion.org/wp-content/uploads/2024/12/Daniel-01-12-25.jpg
END:VEVENT
BEGIN:VEVENT
DTSTART;TZID=UTC:20250107T183000
DTEND;TZID=UTC:20250107T193000
DTSTAMP:20260424T152928
CREATED:20241215T214905Z
LAST-MODIFIED:20250105T220302Z
UID:9684-1736274600-1736278200@hopeandpassion.org
SUMMARY:Hope & Passion Ministries Tuesday Bible Study
DESCRIPTION:
URL:https://hopeandpassion.org/event/hope-passion-ministries-tuesday-bible-study-106/
LOCATION:Facebook Livestream @ Hope & Passion Ministries\, Inc. Facebook Page
ATTACH;FMTTYPE=image/jpeg:https://hopeandpassion.org/wp-content/uploads/2025/01/Genesis-01-07-25.jpg
END:VEVENT
BEGIN:VEVENT
DTSTART;TZID=UTC:20250105T100000
DTEND;TZID=UTC:20250105T110000
DTSTAMP:20260424T152928
CREATED:20241215T215227Z
LAST-MODIFIED:20241216T225343Z
UID:9694-1736071200-1736074800@hopeandpassion.org
SUMMARY:Hope & Passion Ministries Sunday Morning Message
DESCRIPTION:
URL:https://hopeandpassion.org/event/hope-passion-ministries-sunday-morning-message-150/
LOCATION:Facebook Livestream @ Hope & Passion Ministries\, Inc. Facebook Page
ATTACH;FMTTYPE=image/jpeg:https://hopeandpassion.org/wp-content/uploads/2024/12/Romans-01-05-24.jpg
END:VEVENT
BEGIN:VEVENT
DTSTART;TZID=UTC:20250105T093000
DTEND;TZID=UTC:20250105T110000
DTSTAMP:20260424T152928
CREATED:20241215T215118Z
LAST-MODIFIED:20241216T225315Z
UID:9690-1736069400-1736074800@hopeandpassion.org
SUMMARY:Donegal C&MA Church Sunday Morning Message
DESCRIPTION:
URL:https://hopeandpassion.org/event/hope-passion-ministries-sunday-morning-message-149/
LOCATION:Donegal Christian & Missionary Alliance Church\, 210 Loyalhanna St.\, Donegal\, PA\, 15628\, United States
ATTACH;FMTTYPE=image/jpeg:https://hopeandpassion.org/wp-content/uploads/2024/12/Romans-01-05-24.jpg
END:VEVENT
BEGIN:VEVENT
DTSTART;TZID=UTC:20241229T100000
DTEND;TZID=UTC:20241229T110000
DTSTAMP:20260424T152928
CREATED:20241203T225851Z
LAST-MODIFIED:20241215T214723Z
UID:9668-1735466400-1735470000@hopeandpassion.org
SUMMARY:Hope & Passion Ministries Sunday Morning Message
DESCRIPTION:
URL:https://hopeandpassion.org/event/hope-passion-ministries-sunday-morning-message-148/
LOCATION:Facebook Livestream @ Hope & Passion Ministries\, Inc. Facebook Page
ATTACH;FMTTYPE=image/jpeg:https://hopeandpassion.org/wp-content/uploads/2024/12/Daniel-12-29-24.jpg
END:VEVENT
BEGIN:VEVENT
DTSTART;TZID=UTC:20241229T093000
DTEND;TZID=UTC:20241229T110000
DTSTAMP:20260424T152928
CREATED:20241203T225816Z
LAST-MODIFIED:20241215T214702Z
UID:9666-1735464600-1735470000@hopeandpassion.org
SUMMARY:Donegal C&MA Church Sunday Morning Message
DESCRIPTION:
URL:https://hopeandpassion.org/event/donegal-cma-church-sunday-morning-message-60/
LOCATION:Donegal Christian & Missionary Alliance Church\, 210 Loyalhanna St.\, Donegal\, PA\, 15628\, United States
ATTACH;FMTTYPE=image/jpeg:https://hopeandpassion.org/wp-content/uploads/2024/12/Daniel-12-29-24.jpg
END:VEVENT
BEGIN:VEVENT
DTSTART;TZID=UTC:20241222T100000
DTEND;TZID=UTC:20241222T110000
DTSTAMP:20260424T152928
CREATED:20241203T225039Z
LAST-MODIFIED:20241208T235123Z
UID:9664-1734861600-1734865200@hopeandpassion.org
SUMMARY:Hope & Passion Ministries Sunday Morning Message
DESCRIPTION:
URL:https://hopeandpassion.org/event/hope-passion-ministries-sunday-morning-message-147/
LOCATION:Facebook Livestream @ Hope & Passion Ministries\, Inc. Facebook Page
ATTACH;FMTTYPE=image/jpeg:https://hopeandpassion.org/wp-content/uploads/2024/12/Amazing-Things-We-Have-in-Common-with-Mary-and-Joseph-12-22-24.jpg
END:VEVENT
BEGIN:VEVENT
DTSTART;TZID=UTC:20241222T093000
DTEND;TZID=UTC:20241222T110000
DTSTAMP:20260424T152928
CREATED:20241203T225005Z
LAST-MODIFIED:20241208T235106Z
UID:9662-1734859800-1734865200@hopeandpassion.org
SUMMARY:Donegal C&MA Church Sunday Morning Message
DESCRIPTION:
URL:https://hopeandpassion.org/event/donegal-cma-church-sunday-morning-message-59/
LOCATION:Donegal Christian & Missionary Alliance Church\, 210 Loyalhanna St.\, Donegal\, PA\, 15628\, United States
ATTACH;FMTTYPE=image/jpeg:https://hopeandpassion.org/wp-content/uploads/2024/12/Amazing-Things-We-Have-in-Common-with-Mary-and-Joseph-12-22-24.jpg
END:VEVENT
BEGIN:VEVENT
DTSTART;TZID=UTC:20241217T183000
DTEND;TZID=UTC:20241217T193000
DTSTAMP:20260424T152928
CREATED:20241013T210617Z
LAST-MODIFIED:20241203T224925Z
UID:9604-1734460200-1734463800@hopeandpassion.org
SUMMARY:CANCELLED - Hope & Passion Ministries Tuesday Bible Study
DESCRIPTION:
URL:https://hopeandpassion.org/event/hope-passion-ministries-tuesday-bible-study-105/
LOCATION:Facebook Livestream @ Hope & Passion Ministries\, Inc. Facebook Page
END:VEVENT
BEGIN:VEVENT
DTSTART;TZID=UTC:20241215T100000
DTEND;TZID=UTC:20241215T110000
DTSTAMP:20260424T152928
CREATED:20241119T211850Z
LAST-MODIFIED:20241203T224828Z
UID:9654-1734256800-1734260400@hopeandpassion.org
SUMMARY:Hope & Passion Ministries Sunday Morning Message
DESCRIPTION:
URL:https://hopeandpassion.org/event/hope-passion-ministries-sunday-morning-message-146/
LOCATION:Facebook Livestream @ Hope & Passion Ministries\, Inc. Facebook Page
ATTACH;FMTTYPE=image/jpeg:https://hopeandpassion.org/wp-content/uploads/2024/12/Romans-12-15-24.jpg
END:VEVENT
BEGIN:VEVENT
DTSTART;TZID=UTC:20241215T093000
DTEND;TZID=UTC:20241215T110000
DTSTAMP:20260424T152928
CREATED:20241119T211809Z
LAST-MODIFIED:20241203T224810Z
UID:9652-1734255000-1734260400@hopeandpassion.org
SUMMARY:Donegal C&MA Church Sunday Morning Message
DESCRIPTION:
URL:https://hopeandpassion.org/event/donegal-cma-church-sunday-morning-message-58/
ATTACH;FMTTYPE=image/jpeg:https://hopeandpassion.org/wp-content/uploads/2024/12/Romans-12-15-24.jpg
END:VEVENT
BEGIN:VEVENT
DTSTART;TZID=UTC:20241210T183000
DTEND;TZID=UTC:20241210T193000
DTSTAMP:20260424T152928
CREATED:20241013T210548Z
LAST-MODIFIED:20241208T235032Z
UID:9602-1733855400-1733859000@hopeandpassion.org
SUMMARY:Hope & Passion Ministries Tuesday Bible Study
DESCRIPTION:
URL:https://hopeandpassion.org/event/hope-passion-ministries-tuesday-bible-study-104/
LOCATION:Facebook Livestream @ Hope & Passion Ministries\, Inc. Facebook Page
ATTACH;FMTTYPE=image/jpeg:https://hopeandpassion.org/wp-content/uploads/2024/12/Genesis-12-10-24.jpg
END:VEVENT
BEGIN:VEVENT
DTSTART;TZID=UTC:20241208T100000
DTEND;TZID=UTC:20241208T110000
DTSTAMP:20260424T152928
CREATED:20241013T212045Z
LAST-MODIFIED:20241119T211555Z
UID:9617-1733652000-1733655600@hopeandpassion.org
SUMMARY:Hope & Passion Ministries Sunday Morning Message
DESCRIPTION:
URL:https://hopeandpassion.org/event/hope-passion-ministries-sunday-morning-message-144/
LOCATION:Facebook Livestream @ Hope & Passion Ministries\, Inc. Facebook Page
ATTACH;FMTTYPE=image/jpeg:https://hopeandpassion.org/wp-content/uploads/2024/11/Holy-Spirit-Antichrist-and-the-Finish-Line-12-08-24.jpg
END:VEVENT
BEGIN:VEVENT
DTSTART;TZID=UTC:20241208T093000
DTEND;TZID=UTC:20241208T110000
DTSTAMP:20260424T152928
CREATED:20241013T212004Z
LAST-MODIFIED:20241119T211538Z
UID:9615-1733650200-1733655600@hopeandpassion.org
SUMMARY:Donegal C&MA Church Sunday Morning Message
DESCRIPTION:
URL:https://hopeandpassion.org/event/donegal-cma-church-sunday-morning-message-57/
LOCATION:Donegal Christian & Missionary Alliance Church\, 210 Loyalhanna St.\, Donegal\, PA\, 15628\, United States
ATTACH;FMTTYPE=image/jpeg:https://hopeandpassion.org/wp-content/uploads/2024/11/Holy-Spirit-Antichrist-and-the-Finish-Line-12-08-24.jpg
END:VEVENT
BEGIN:VEVENT
DTSTART;TZID=UTC:20241203T183000
DTEND;TZID=UTC:20241203T193000
DTSTAMP:20260424T152928
CREATED:20241013T210510Z
LAST-MODIFIED:20241203T224634Z
UID:9600-1733250600-1733254200@hopeandpassion.org
SUMMARY:Hope & Passion Ministries Tuesday Bible Study
DESCRIPTION:
URL:https://hopeandpassion.org/event/hope-passion-ministries-tuesday-bible-study-103/
LOCATION:Facebook Livestream @ Hope & Passion Ministries\, Inc. Facebook Page
ATTACH;FMTTYPE=image/jpeg:https://hopeandpassion.org/wp-content/uploads/2024/12/Genesis-12-03-24.jpg
END:VEVENT
BEGIN:VEVENT
DTSTART;TZID=UTC:20241201T100000
DTEND;TZID=UTC:20241201T110000
DTSTAMP:20260424T152928
CREATED:20241013T211345Z
LAST-MODIFIED:20241119T211514Z
UID:9613-1733047200-1733050800@hopeandpassion.org
SUMMARY:Hope & Passion Ministries Sunday Morning Message
DESCRIPTION:
URL:https://hopeandpassion.org/event/hope-passion-ministries-sunday-morning-message-143/
LOCATION:Facebook Livestream @ Hope & Passion Ministries\, Inc. Facebook Page
ATTACH;FMTTYPE=image/jpeg:https://hopeandpassion.org/wp-content/uploads/2024/11/Daniel-12-01-24.jpg
END:VEVENT
BEGIN:VEVENT
DTSTART;TZID=UTC:20241201T093000
DTEND;TZID=UTC:20241201T110000
DTSTAMP:20260424T152928
CREATED:20241013T211307Z
LAST-MODIFIED:20241119T211454Z
UID:9611-1733045400-1733050800@hopeandpassion.org
SUMMARY:Donegal C&MA Church Sunday Morning Message
DESCRIPTION:
URL:https://hopeandpassion.org/event/donegal-cma-church-sunday-morning-message-56/
LOCATION:Donegal Christian & Missionary Alliance Church\, 210 Loyalhanna St.\, Donegal\, PA\, 15628\, United States
ATTACH;FMTTYPE=image/jpeg:https://hopeandpassion.org/wp-content/uploads/2024/11/Daniel-12-01-24.jpg
END:VEVENT
BEGIN:VEVENT
DTSTART;TZID=UTC:20241124T100000
DTEND;TZID=UTC:20241124T100000
DTSTAMP:20260424T152928
CREATED:20241013T210941Z
LAST-MODIFIED:20241108T143325Z
UID:9608-1732442400-1732442400@hopeandpassion.org
SUMMARY:Hope & Passion Ministries Sunday Morning Message
DESCRIPTION:
URL:https://hopeandpassion.org/event/hope-passion-ministries-sunday-morning-message-142/
LOCATION:Facebook Livestream @ Hope & Passion Ministries\, Inc. Facebook Page
ATTACH;FMTTYPE=image/jpeg:https://hopeandpassion.org/wp-content/uploads/2024/11/Romans-11-24-24.jpg
END:VEVENT
BEGIN:VEVENT
DTSTART;TZID=UTC:20241124T093000
DTEND;TZID=UTC:20241124T110000
DTSTAMP:20260424T152928
CREATED:20241013T210706Z
LAST-MODIFIED:20241108T143256Z
UID:9606-1732440600-1732446000@hopeandpassion.org
SUMMARY:Donegal C&MA Church Sunday Morning Message
DESCRIPTION:
URL:https://hopeandpassion.org/event/donegal-cma-church-sunday-morning-message-55/
LOCATION:Donegal Christian & Missionary Alliance Church\, 210 Loyalhanna St.\, Donegal\, PA\, 15628\, United States
ATTACH;FMTTYPE=image/jpeg:https://hopeandpassion.org/wp-content/uploads/2024/11/Romans-11-24-24.jpg
END:VEVENT
BEGIN:VEVENT
DTSTART;TZID=UTC:20241119T183000
DTEND;TZID=UTC:20241119T193000
DTSTAMP:20260424T152928
CREATED:20241013T210434Z
LAST-MODIFIED:20241119T211412Z
UID:9598-1732041000-1732044600@hopeandpassion.org
SUMMARY:Hope & Passion Ministries Tuesday Communion
DESCRIPTION:
URL:https://hopeandpassion.org/event/hope-passion-ministries-tuesday-bible-study-102/
LOCATION:Facebook Livestream @ Hope & Passion Ministries\, Inc. Facebook Page
ATTACH;FMTTYPE=image/jpeg:https://hopeandpassion.org/wp-content/uploads/2024/11/Communion-11-19-24.jpeg
END:VEVENT
BEGIN:VEVENT
DTSTART;TZID=UTC:20241117T100000
DTEND;TZID=UTC:20241117T110000
DTSTAMP:20260424T152928
CREATED:20241013T210029Z
LAST-MODIFIED:20241027T182631Z
UID:9592-1731837600-1731841200@hopeandpassion.org
SUMMARY:Hope & Passion Ministries Sunday Morning Message
DESCRIPTION:
URL:https://hopeandpassion.org/event/hope-passion-ministries-sunday-morning-message-141/
LOCATION:Facebook Livestream @ Hope & Passion Ministries\, Inc. Facebook Page
ATTACH;FMTTYPE=image/jpeg:https://hopeandpassion.org/wp-content/uploads/2024/10/Daniel-11-17-24.jpg
END:VEVENT
BEGIN:VEVENT
DTSTART;TZID=UTC:20241117T093000
DTEND;TZID=UTC:20241117T110000
DTSTAMP:20260424T152928
CREATED:20241013T205936Z
LAST-MODIFIED:20241027T182607Z
UID:9590-1731835800-1731841200@hopeandpassion.org
SUMMARY:Donegal C&MA Church Sunday Morning Message
DESCRIPTION:
URL:https://hopeandpassion.org/event/donegal-cma-church-sunday-morning-message-54/
LOCATION:Donegal Christian & Missionary Alliance Church\, 210 Loyalhanna St.\, Donegal\, PA\, 15628\, United States
ATTACH;FMTTYPE=image/jpeg:https://hopeandpassion.org/wp-content/uploads/2024/10/Daniel-11-17-24.jpg
END:VEVENT
BEGIN:VEVENT
DTSTART;TZID=UTC:20241112T183000
DTEND;TZID=UTC:20241112T193000
DTSTAMP:20260424T152928
CREATED:20241013T210352Z
LAST-MODIFIED:20241108T143131Z
UID:9596-1731436200-1731439800@hopeandpassion.org
SUMMARY:Hope & Passion Ministries Tuesday Bible Study
DESCRIPTION:
URL:https://hopeandpassion.org/event/hope-passion-ministries-tuesday-bible-study-101/
LOCATION:Facebook Livestream @ Hope & Passion Ministries\, Inc. Facebook Page
ATTACH;FMTTYPE=image/jpeg:https://hopeandpassion.org/wp-content/uploads/2024/11/Genesis-11-12-24.jpg
END:VEVENT
BEGIN:VEVENT
DTSTART;TZID=UTC:20241110T110000
DTEND;TZID=UTC:20241110T120000
DTSTAMP:20260424T152928
CREATED:20240909T233911Z
LAST-MODIFIED:20241027T182545Z
UID:9530-1731236400-1731240000@hopeandpassion.org
SUMMARY:Latrobe Presbyterian Church Sunday Morning Message
DESCRIPTION:
URL:https://hopeandpassion.org/event/latrobe-presbyterian-church-sunday-morning-message-2/
LOCATION:Latrobe Presbyterian Church\, 340 Spring St.\, Latrobe\, PA\, 15650\, United States
ATTACH;FMTTYPE=image/jpeg:https://hopeandpassion.org/wp-content/uploads/2024/10/The-End-Time-Judgment-of-Every-Christian-11-10-24.jpg
END:VEVENT
BEGIN:VEVENT
DTSTART;TZID=UTC:20241110T100000
DTEND;TZID=UTC:20241110T110000
DTSTAMP:20260424T152928
CREATED:20241027T182518Z
LAST-MODIFIED:20241027T182518Z
UID:9632-1731232800-1731236400@hopeandpassion.org
SUMMARY:Hope & Passion Ministries Sunday Morning Message
DESCRIPTION:
URL:https://hopeandpassion.org/event/hope-passion-ministries-sunday-morning-message-145/
LOCATION:Facebook Livestream @ Hope & Passion Ministries\, Inc. Facebook Page
ATTACH;FMTTYPE=image/jpeg:https://hopeandpassion.org/wp-content/uploads/2024/10/The-End-Time-Judgment-of-Every-Christian-11-10-24.jpg
END:VEVENT
BEGIN:VEVENT
DTSTART;TZID=UTC:20241105T183000
DTEND;TZID=UTC:20241105T193000
DTSTAMP:20260424T152928
CREATED:20241013T210240Z
LAST-MODIFIED:20250905T192629Z
UID:9594-1730831400-1730835000@hopeandpassion.org
SUMMARY:Hope & Passion Ministries Tuesday Bible Study
DESCRIPTION:
URL:https://hopeandpassion.org/event/hope-passion-ministries-tuesday-bible-study-100/
LOCATION:Facebook Livestream @ Hope & Passion Ministries\, Inc. Facebook Page
END:VEVENT
END:VCALENDAR