BEGIN:VCALENDAR
VERSION:2.0
PRODID:-//Hope and Passion Ministries - ECPv6.15.18//NONSGML v1.0//EN
CALSCALE:GREGORIAN
METHOD:PUBLISH
X-WR-CALNAME:Hope and Passion Ministries
X-ORIGINAL-URL:https://hopeandpassion.org
X-WR-CALDESC:Events for Hope and Passion Ministries
REFRESH-INTERVAL;VALUE=DURATION:PT1H
X-Robots-Tag:noindex
X-PUBLISHED-TTL:PT1H
BEGIN:VTIMEZONE
TZID:UTC
BEGIN:STANDARD
TZOFFSETFROM:+0000
TZOFFSETTO:+0000
TZNAME:UTC
DTSTART:20230101T000000
END:STANDARD
END:VTIMEZONE
BEGIN:VEVENT
DTSTART;TZID=UTC:20240526T100000
DTEND;TZID=UTC:20240526T110000
DTSTAMP:20260425T151142
CREATED:20240512T233023Z
LAST-MODIFIED:20240512T233023Z
UID:9366-1716717600-1716721200@hopeandpassion.org
SUMMARY:Hope & Passion Ministries Sunday Morning Message
DESCRIPTION:
URL:https://hopeandpassion.org/event/hope-passion-ministries-sunday-morning-message-123/
LOCATION:Facebook Livestream @ Hope & Passion Ministries\, Inc. Facebook Page
ATTACH;FMTTYPE=image/jpeg:https://hopeandpassion.org/wp-content/uploads/2024/05/Our-Great-God-When-We-Are-Greatly-Hurting-05-26-24.jpg
END:VEVENT
BEGIN:VEVENT
DTSTART;TZID=UTC:20240602T093000
DTEND;TZID=UTC:20240602T110000
DTSTAMP:20260425T151142
CREATED:20240521T142628Z
LAST-MODIFIED:20240521T142628Z
UID:9374-1717320600-1717326000@hopeandpassion.org
SUMMARY:Donegal C&MA Church Sunday Morning Message
DESCRIPTION:
URL:https://hopeandpassion.org/event/donegal-cma-church-sunday-morning-message-36/
LOCATION:Donegal Christian & Missionary Alliance Church\, 210 Loyalhanna St.\, Donegal\, PA\, 15628\, United States
ATTACH;FMTTYPE=image/jpeg:https://hopeandpassion.org/wp-content/uploads/2024/05/Romans-06-02-24.jpg
END:VEVENT
BEGIN:VEVENT
DTSTART;TZID=UTC:20240602T100000
DTEND;TZID=UTC:20240602T110000
DTSTAMP:20260425T151142
CREATED:20240521T142741Z
LAST-MODIFIED:20240521T142741Z
UID:9376-1717322400-1717326000@hopeandpassion.org
SUMMARY:Hope & Passion Ministries Sunday Morning Message
DESCRIPTION:
URL:https://hopeandpassion.org/event/hope-passion-ministries-sunday-morning-message-124/
LOCATION:Facebook Livestream @ Hope & Passion Ministries\, Inc. Facebook Page
ATTACH;FMTTYPE=image/jpeg:https://hopeandpassion.org/wp-content/uploads/2024/05/Romans-06-02-24.jpg
END:VEVENT
BEGIN:VEVENT
DTSTART;TZID=UTC:20240604T183000
DTEND;TZID=UTC:20240604T193000
DTSTAMP:20260425T151142
CREATED:20240527T132610Z
LAST-MODIFIED:20240527T133317Z
UID:9389-1717525800-1717529400@hopeandpassion.org
SUMMARY:Hope & Passion Ministries Tuesday Bible Study
DESCRIPTION:
URL:https://hopeandpassion.org/event/hope-passion-ministries-tuesday-bible-study-90/
LOCATION:Facebook Livestream @ Hope & Passion Ministries\, Inc. Facebook Page
ATTACH;FMTTYPE=image/jpeg:https://hopeandpassion.org/wp-content/uploads/2024/05/Genesis-06-04-24.jpg
END:VEVENT
BEGIN:VEVENT
DTSTART;TZID=UTC:20240609T093000
DTEND;TZID=UTC:20240609T110000
DTSTAMP:20260425T151142
CREATED:20240521T142859Z
LAST-MODIFIED:20240521T142859Z
UID:9378-1717925400-1717930800@hopeandpassion.org
SUMMARY:Donegal C&MA Church Sunday Morning Message
DESCRIPTION:
URL:https://hopeandpassion.org/event/donegal-cma-church-sunday-morning-message-37/
LOCATION:Donegal Christian & Missionary Alliance Church\, 210 Loyalhanna St.\, Donegal\, PA\, 15628\, United States
ATTACH;FMTTYPE=image/jpeg:https://hopeandpassion.org/wp-content/uploads/2024/05/Daniel-06-09-24.jpg
END:VEVENT
BEGIN:VEVENT
DTSTART;TZID=UTC:20240609T100000
DTEND;TZID=UTC:20240609T110000
DTSTAMP:20260425T151142
CREATED:20240521T143110Z
LAST-MODIFIED:20240521T143110Z
UID:9380-1717927200-1717930800@hopeandpassion.org
SUMMARY:Hope & Passion Ministries Sunday Morning Message
DESCRIPTION:
URL:https://hopeandpassion.org/event/hope-passion-ministries-sunday-morning-message-125/
LOCATION:Facebook Livestream @ Hope & Passion Ministries\, Inc. Facebook Page
ATTACH;FMTTYPE=image/jpeg:https://hopeandpassion.org/wp-content/uploads/2024/05/Daniel-06-09-24.jpg
END:VEVENT
BEGIN:VEVENT
DTSTART;TZID=UTC:20240611T183000
DTEND;TZID=UTC:20240611T193000
DTSTAMP:20260425T151142
CREATED:20240605T183630Z
LAST-MODIFIED:20240605T215643Z
UID:9403-1718130600-1718134200@hopeandpassion.org
SUMMARY:Hope & Passion Ministries Tuesday Bible Study
DESCRIPTION:
URL:https://hopeandpassion.org/event/hope-passion-ministries-tuesday-bible-study-91/
LOCATION:Facebook Livestream @ Hope & Passion Ministries\, Inc. Facebook Page
ATTACH;FMTTYPE=image/jpeg:https://hopeandpassion.org/wp-content/uploads/2024/06/Genesis-06-11-24.jpg
END:VEVENT
BEGIN:VEVENT
DTSTART;TZID=UTC:20240616T093000
DTEND;TZID=UTC:20240616T110000
DTSTAMP:20260425T151142
CREATED:20240527T132307Z
LAST-MODIFIED:20240527T132307Z
UID:9385-1718530200-1718535600@hopeandpassion.org
SUMMARY:Donegal C&MA Church Sunday Morning Message
DESCRIPTION:
URL:https://hopeandpassion.org/event/donegal-cma-church-sunday-morning-message-38/
LOCATION:Donegal Christian & Missionary Alliance Church\, 210 Loyalhanna St.\, Donegal\, PA\, 15628\, United States
ATTACH;FMTTYPE=image/jpeg:https://hopeandpassion.org/wp-content/uploads/2024/05/Romans-06-16-24.jpg
END:VEVENT
BEGIN:VEVENT
DTSTART;TZID=UTC:20240616T100000
DTEND;TZID=UTC:20240616T110000
DTSTAMP:20260425T151142
CREATED:20240527T132419Z
LAST-MODIFIED:20240527T132419Z
UID:9387-1718532000-1718535600@hopeandpassion.org
SUMMARY:Hope & Passion Ministries Sunday Morning Message
DESCRIPTION:
URL:https://hopeandpassion.org/event/hope-passion-ministries-sunday-morning-message-126/
LOCATION:Facebook Livestream @ Hope & Passion Ministries\, Inc. Facebook Page
ATTACH;FMTTYPE=image/jpeg:https://hopeandpassion.org/wp-content/uploads/2024/05/Romans-06-16-24.jpg
END:VEVENT
BEGIN:VEVENT
DTSTART;TZID=UTC:20240618T183000
DTEND;TZID=UTC:20240618T193000
DTSTAMP:20260425T151142
CREATED:20240630T225413Z
LAST-MODIFIED:20240630T225413Z
UID:9468-1718735400-1718739000@hopeandpassion.org
SUMMARY:Hope & Passion Ministries Tuesday Bible Study
DESCRIPTION:
URL:https://hopeandpassion.org/event/hope-passion-ministries-tuesday-bible-study-96/
LOCATION:Facebook Livestream @ Hope & Passion Ministries\, Inc. Facebook Page
ATTACH;FMTTYPE=image/jpeg:https://hopeandpassion.org/wp-content/uploads/2024/06/Genesis-06-18-24.jpg
END:VEVENT
BEGIN:VEVENT
DTSTART;TZID=UTC:20240623T093000
DTEND;TZID=UTC:20240623T110000
DTSTAMP:20260425T151142
CREATED:20240608T191535Z
LAST-MODIFIED:20240608T191749Z
UID:9405-1719135000-1719140400@hopeandpassion.org
SUMMARY:Donegal C&MA Church Sunday Morning Message
DESCRIPTION:
URL:https://hopeandpassion.org/event/donegal-cma-church-sunday-morning-message-39/
LOCATION:Donegal Christian & Missionary Alliance Church\, 210 Loyalhanna St.\, Donegal\, PA\, 15628\, United States
ATTACH;FMTTYPE=image/jpeg:https://hopeandpassion.org/wp-content/uploads/2024/06/Daniel-06-23-24.jpg
END:VEVENT
BEGIN:VEVENT
DTSTART;TZID=UTC:20240623T100000
DTEND;TZID=UTC:20240623T110000
DTSTAMP:20260425T151142
CREATED:20240608T191836Z
LAST-MODIFIED:20240608T191836Z
UID:9407-1719136800-1719140400@hopeandpassion.org
SUMMARY:Hope & Passion Ministries Sunday Morning Message
DESCRIPTION:
URL:https://hopeandpassion.org/event/hope-passion-ministries-sunday-morning-message-127/
LOCATION:Facebook Livestream @ Hope & Passion Ministries\, Inc. Facebook Page
ATTACH;FMTTYPE=image/jpeg:https://hopeandpassion.org/wp-content/uploads/2024/06/Daniel-06-23-24.jpg
END:VEVENT
BEGIN:VEVENT
DTSTART;TZID=UTC:20240630T093000
DTEND;TZID=UTC:20240630T110000
DTSTAMP:20260425T151142
CREATED:20240608T191958Z
LAST-MODIFIED:20240608T191958Z
UID:9409-1719739800-1719745200@hopeandpassion.org
SUMMARY:Donegal C&MA Church Sunday Morning Message
DESCRIPTION:
URL:https://hopeandpassion.org/event/donegal-cma-church-sunday-morning-message-40/
LOCATION:Donegal Christian & Missionary Alliance Church\, 210 Loyalhanna St.\, Donegal\, PA\, 15628\, United States
ATTACH;FMTTYPE=image/jpeg:https://hopeandpassion.org/wp-content/uploads/2024/06/Romans-06-30-24.jpg
END:VEVENT
BEGIN:VEVENT
DTSTART;TZID=UTC:20240630T100000
DTEND;TZID=UTC:20240630T110000
DTSTAMP:20260425T151142
CREATED:20240608T192058Z
LAST-MODIFIED:20240608T192058Z
UID:9411-1719741600-1719745200@hopeandpassion.org
SUMMARY:Hope & Passion Ministries Sunday Morning Message
DESCRIPTION:
URL:https://hopeandpassion.org/event/hope-passion-ministries-sunday-morning-message-128/
LOCATION:Facebook Livestream @ Hope & Passion Ministries\, Inc. Facebook Page
ATTACH;FMTTYPE=image/jpeg:https://hopeandpassion.org/wp-content/uploads/2024/06/Romans-06-30-24.jpg
END:VEVENT
BEGIN:VEVENT
DTSTART;TZID=UTC:20240702T183000
DTEND;TZID=UTC:20240702T193000
DTSTAMP:20260425T151142
CREATED:20240630T213918Z
LAST-MODIFIED:20240630T214007Z
UID:9420-1719945000-1719948600@hopeandpassion.org
SUMMARY:Hope & Passion Ministries Tuesday Bible Study
DESCRIPTION:
URL:https://hopeandpassion.org/event/hope-passion-ministries-tuesday-bible-study-92/
LOCATION:Facebook Livestream @ Hope & Passion Ministries\, Inc. Facebook Page
ATTACH;FMTTYPE=image/jpeg:https://hopeandpassion.org/wp-content/uploads/2024/06/Genesis-07-02-24.jpg
END:VEVENT
BEGIN:VEVENT
DTSTART;TZID=UTC:20240707T093000
DTEND;TZID=UTC:20240707T110000
DTSTAMP:20260425T151142
CREATED:20240630T214912Z
LAST-MODIFIED:20240630T220723Z
UID:9430-1720344600-1720350000@hopeandpassion.org
SUMMARY:Donegal C&MA Church Sunday Morning Message
DESCRIPTION:
URL:https://hopeandpassion.org/event/donegal-cma-church-sunday-morning-message-41/
LOCATION:Donegal Christian & Missionary Alliance Church\, 210 Loyalhanna St.\, Donegal\, PA\, 15628\, United States
ATTACH;FMTTYPE=image/jpeg:https://hopeandpassion.org/wp-content/uploads/2024/06/Daniel-07-07-24-1.jpg
END:VEVENT
BEGIN:VEVENT
DTSTART;TZID=UTC:20240707T100000
DTEND;TZID=UTC:20240707T110000
DTSTAMP:20260425T151142
CREATED:20240630T215035Z
LAST-MODIFIED:20240630T220840Z
UID:9432-1720346400-1720350000@hopeandpassion.org
SUMMARY:Hope & Passion Ministries Sunday Morning Message
DESCRIPTION:
URL:https://hopeandpassion.org/event/hope-passion-ministries-sunday-morning-message-129/
LOCATION:Facebook Livestream @ Hope & Passion Ministries\, Inc. Facebook Page
ATTACH;FMTTYPE=image/jpeg:https://hopeandpassion.org/wp-content/uploads/2024/06/Daniel-07-07-24-1.jpg
END:VEVENT
BEGIN:VEVENT
DTSTART;TZID=UTC:20240709T183000
DTEND;TZID=UTC:20240709T193000
DTSTAMP:20260425T151142
CREATED:20240630T214132Z
LAST-MODIFIED:20240630T214432Z
UID:9424-1720549800-1720553400@hopeandpassion.org
SUMMARY:CANCELLED - Hope & Passion Ministries Tuesday Bible Study
DESCRIPTION:
URL:https://hopeandpassion.org/event/cancelled-hope-passion-ministries-tuesday-bible-study-5/
LOCATION:Facebook Livestream @ Hope & Passion Ministries\, Inc. Facebook Page
END:VEVENT
BEGIN:VEVENT
DTSTART;TZID=UTC:20240713T170000
DTEND;TZID=UTC:20240713T183000
DTSTAMP:20260425T151142
CREATED:20231210T200326Z
LAST-MODIFIED:20250924T234514Z
UID:9059-1720890000-1720895400@hopeandpassion.org
SUMMARY:Hope & Passion Ministries Baptism Service
DESCRIPTION:
URL:https://hopeandpassion.org/event/hope-passion-ministries-baptism-service-summer-2024/
LOCATION:Donegal Christian & Missionary Alliance Church\, 210 Loyalhanna St.\, Donegal\, PA\, 15628\, United States
ATTACH;FMTTYPE=image/jpeg:https://hopeandpassion.org/wp-content/uploads/2023/12/Baptism-07-09-24.jpg
END:VEVENT
BEGIN:VEVENT
DTSTART;TZID=UTC:20240714T093000
DTEND;TZID=UTC:20240714T110000
DTSTAMP:20260425T151142
CREATED:20240630T215155Z
LAST-MODIFIED:20240630T223105Z
UID:9434-1720949400-1720954800@hopeandpassion.org
SUMMARY:Donegal C&MA Church Sunday Morning Message
DESCRIPTION:
URL:https://hopeandpassion.org/event/donegal-cma-church-sunday-morning-message-42/
LOCATION:Donegal Christian & Missionary Alliance Church\, 210 Loyalhanna St.\, Donegal\, PA\, 15628\, United States
ATTACH;FMTTYPE=image/jpeg:https://hopeandpassion.org/wp-content/uploads/2024/06/A-Shocking-Curse-07-14-24.jpg
END:VEVENT
BEGIN:VEVENT
DTSTART;TZID=UTC:20240714T100000
DTEND;TZID=UTC:20240714T110000
DTSTAMP:20260425T151142
CREATED:20240630T222822Z
LAST-MODIFIED:20240630T222939Z
UID:9438-1720951200-1720954800@hopeandpassion.org
SUMMARY:Hope & Passion Ministries Sunday Morning Message
DESCRIPTION:
URL:https://hopeandpassion.org/event/donegal-cma-church-sunday-morning-message-43/
LOCATION:Facebook Livestream @ Hope & Passion Ministries\, Inc. Facebook Page
ATTACH;FMTTYPE=image/jpeg:https://hopeandpassion.org/wp-content/uploads/2024/06/A-Shocking-Curse-07-14-24.jpg
END:VEVENT
BEGIN:VEVENT
DTSTART;TZID=UTC:20240715T190000
DTEND;TZID=UTC:20240715T200000
DTSTAMP:20260425T151142
CREATED:20240630T223449Z
LAST-MODIFIED:20240630T223449Z
UID:9446-1721070000-1721073600@hopeandpassion.org
SUMMARY:Mary & Martha Ministries
DESCRIPTION:Friends of Hope and Passion Ministries are welcome to attend. Event will be held in the sanctuary.
URL:https://hopeandpassion.org/event/mary-martha-ministries-2/
LOCATION:New Hope Assembly of God\, 900 Peairs Rd.\, Elizabeth\, 15037\, United States
END:VEVENT
BEGIN:VEVENT
DTSTART;TZID=UTC:20240716T183000
DTEND;TZID=UTC:20240716T193000
DTSTAMP:20260425T151142
CREATED:20240630T214231Z
LAST-MODIFIED:20240630T225631Z
UID:9426-1721154600-1721158200@hopeandpassion.org
SUMMARY:CANCELLED - Hope & Passion Ministries Tuesday Bible Study
DESCRIPTION:
URL:https://hopeandpassion.org/event/cancelled-hope-passion-ministries-tuesday-bible-study-6/
LOCATION:Facebook Livestream @ Hope & Passion Ministries\, Inc. Facebook Page
END:VEVENT
BEGIN:VEVENT
DTSTART;TZID=UTC:20240721T093000
DTEND;TZID=UTC:20240721T110000
DTSTAMP:20260425T151142
CREATED:20240630T223801Z
LAST-MODIFIED:20240630T223801Z
UID:9449-1721554200-1721559600@hopeandpassion.org
SUMMARY:Donegal C&MA Church Sunday Morning Message
DESCRIPTION:
URL:https://hopeandpassion.org/event/donegal-cma-church-sunday-morning-message-44/
LOCATION:Donegal Christian & Missionary Alliance Church\, 210 Loyalhanna St.\, Donegal\, PA\, 15628\, United States
ATTACH;FMTTYPE=image/jpeg:https://hopeandpassion.org/wp-content/uploads/2024/06/Romans-07-21-24.jpg
END:VEVENT
BEGIN:VEVENT
DTSTART;TZID=UTC:20240721T100000
DTEND;TZID=UTC:20240721T110000
DTSTAMP:20260425T151142
CREATED:20240630T223943Z
LAST-MODIFIED:20240630T223943Z
UID:9453-1721556000-1721559600@hopeandpassion.org
SUMMARY:Hope & Passion Ministries Sunday Morning Message
DESCRIPTION:
URL:https://hopeandpassion.org/event/hope-passion-ministries-sunday-morning-message-130/
LOCATION:Facebook Livestream @ Hope & Passion Ministries\, Inc. Facebook Page
ATTACH;FMTTYPE=image/jpeg:https://hopeandpassion.org/wp-content/uploads/2024/06/Romans-07-21-24.jpg
END:VEVENT
BEGIN:VEVENT
DTSTART;TZID=UTC:20240722T080000
DTEND;TZID=UTC:20240831T170000
DTSTAMP:20260425T151142
CREATED:20240710T002948Z
LAST-MODIFIED:20240808T232655Z
UID:9484-1721635200-1725123600@hopeandpassion.org
SUMMARY:Shelli is on Vacation
DESCRIPTION:
URL:https://hopeandpassion.org/event/shelli-is-on-vacation-3/
ATTACH;FMTTYPE=image/jpeg:https://hopeandpassion.org/wp-content/uploads/2024/07/Shelli-Vacation-Schedule-2024.jpg
END:VEVENT
BEGIN:VEVENT
DTSTART;TZID=UTC:20240901T093000
DTEND;TZID=UTC:20240901T110000
DTSTAMP:20260425T151142
CREATED:20240630T224216Z
LAST-MODIFIED:20240808T232214Z
UID:9455-1725183000-1725188400@hopeandpassion.org
SUMMARY:Donegal C&MA Church Sunday Morning Message
DESCRIPTION:
URL:https://hopeandpassion.org/event/donegal-cma-church-sunday-morning-message-45/
LOCATION:Donegal Christian & Missionary Alliance Church\, 210 Loyalhanna St.\, Donegal\, PA\, 15628\, United States
ATTACH;FMTTYPE=image/jpeg:https://hopeandpassion.org/wp-content/uploads/2024/08/Daniel-09-01-24.jpg
END:VEVENT
BEGIN:VEVENT
DTSTART;TZID=UTC:20240901T100000
DTEND;TZID=UTC:20240901T110000
DTSTAMP:20260425T151142
CREATED:20240630T224333Z
LAST-MODIFIED:20240808T232239Z
UID:9459-1725184800-1725188400@hopeandpassion.org
SUMMARY:Hope & Passion Ministries Sunday Morning Message
DESCRIPTION:
URL:https://hopeandpassion.org/event/hope-passion-ministries-sunday-morning-message-131/
LOCATION:Facebook Livestream @ Hope & Passion Ministries\, Inc. Facebook Page
ATTACH;FMTTYPE=image/jpeg:https://hopeandpassion.org/wp-content/uploads/2024/08/Daniel-09-01-24.jpg
END:VEVENT
BEGIN:VEVENT
DTSTART;TZID=UTC:20240903T183000
DTEND;TZID=UTC:20240903T193000
DTSTAMP:20260425T151142
CREATED:20240630T224505Z
LAST-MODIFIED:20240710T002707Z
UID:9461-1725388200-1725391800@hopeandpassion.org
SUMMARY:Hope & Passion Ministries Tuesday Bible Study
DESCRIPTION:
URL:https://hopeandpassion.org/event/hope-passion-ministries-tuesday-bible-study-93/
LOCATION:Facebook Livestream @ Hope & Passion Ministries\, Inc. Facebook Page
ATTACH;FMTTYPE=image/jpeg:https://hopeandpassion.org/wp-content/uploads/2024/07/Genesis-09-03-24.jpg
END:VEVENT
BEGIN:VEVENT
DTSTART;TZID=UTC:20240908T093000
DTEND;TZID=UTC:20240908T110000
DTSTAMP:20260425T151142
CREATED:20240721T141925Z
LAST-MODIFIED:20250715T013111Z
UID:9491-1725787800-1725793200@hopeandpassion.org
SUMMARY:Donegal C&MA @ Mammoth Park
DESCRIPTION:Shelli is the speaker for Donegal Christian & Missionary Alliance Church’s Annual Church Picnic at Mammoth Park\, 171 County Park Rd\, Mount Pleasant\, PA 15666\, Pavilion # 11. Service begins at 10 am. There will be singing\, offering\, and then the morning message. Following the service\, there will be a picnic. Everyone is requested to bring an entree to share (there is electric for crockpots to keep food warm until after the service). Donegal will provide the table settings. After the picnic there will be fun\, organized games for youth and adults. Bring your lawn chairs for more comfortable seating.
URL:https://hopeandpassion.org/event/donegal-cma-mammoth-park/
LOCATION:Mammoth Park\, 171 County Park Rd\, Mount Pleasant\, PA 15666\, PA\, United States
ATTACH;FMTTYPE=image/jpeg:https://hopeandpassion.org/wp-content/uploads/2024/08/The-Summing-Up-of-All-Things-09-08-24.jpg
END:VEVENT
END:VCALENDAR