BEGIN:VCALENDAR
VERSION:2.0
PRODID:-//Hope and Passion Ministries - ECPv6.15.18//NONSGML v1.0//EN
CALSCALE:GREGORIAN
METHOD:PUBLISH
X-WR-CALNAME:Hope and Passion Ministries
X-ORIGINAL-URL:https://hopeandpassion.org
X-WR-CALDESC:Events for Hope and Passion Ministries
REFRESH-INTERVAL;VALUE=DURATION:PT1H
X-Robots-Tag:noindex
X-PUBLISHED-TTL:PT1H
BEGIN:VTIMEZONE
TZID:UTC
BEGIN:STANDARD
TZOFFSETFROM:+0000
TZOFFSETTO:+0000
TZNAME:UTC
DTSTART:20220101T000000
END:STANDARD
END:VTIMEZONE
BEGIN:VEVENT
DTSTART;TZID=UTC:20230101T093000
DTEND;TZID=UTC:20230101T110000
DTSTAMP:20260425T190445
CREATED:20221128T170954Z
LAST-MODIFIED:20221212T171058Z
UID:8311-1672565400-1672570800@hopeandpassion.org
SUMMARY:Donegal Alliance Church Sunday Morning Message
DESCRIPTION:
URL:https://hopeandpassion.org/event/donegal-alliance-church-sunday-morning-message-16/
LOCATION:Donegal Christian & Missionary Alliance Church\, 210 Loyalhanna St.\, Donegal\, PA\, 15628\, United States
ATTACH;FMTTYPE=image/jpeg:https://hopeandpassion.org/wp-content/uploads/2022/12/Revelation-01-01-23.jpg
END:VEVENT
BEGIN:VEVENT
DTSTART;TZID=UTC:20230101T100000
DTEND;TZID=UTC:20230101T110000
DTSTAMP:20260425T190445
CREATED:20221128T170918Z
LAST-MODIFIED:20221212T171119Z
UID:8309-1672567200-1672570800@hopeandpassion.org
SUMMARY:Hope & Passion Ministries Sunday Morning Message
DESCRIPTION:
URL:https://hopeandpassion.org/event/hope-passion-ministries-sunday-morning-message-53/
LOCATION:Facebook Livestream @ Hope & Passion Ministries\, Inc. Facebook Page
ATTACH;FMTTYPE=image/jpeg:https://hopeandpassion.org/wp-content/uploads/2022/12/Revelation-01-01-23.jpg
END:VEVENT
BEGIN:VEVENT
DTSTART;TZID=UTC:20230103T183000
DTEND;TZID=UTC:20230103T193000
DTSTAMP:20260425T190445
CREATED:20221219T003410Z
LAST-MODIFIED:20221219T003410Z
UID:8347-1672770600-1672774200@hopeandpassion.org
SUMMARY:Hope & Passion Ministries Tuesday Bible Study
DESCRIPTION:
URL:https://hopeandpassion.org/event/hope-passion-ministries-tuesday-bible-study-40/
LOCATION:Facebook Livestream @ Hope & Passion Ministries\, Inc. Facebook Page
ATTACH;FMTTYPE=image/jpeg:https://hopeandpassion.org/wp-content/uploads/2022/12/Genesis-01-03-23.jpg
END:VEVENT
BEGIN:VEVENT
DTSTART;TZID=UTC:20230108T093000
DTEND;TZID=UTC:20230108T110000
DTSTAMP:20260425T190445
CREATED:20221226T195313Z
LAST-MODIFIED:20221226T201630Z
UID:8353-1673170200-1673175600@hopeandpassion.org
SUMMARY:Donegal Alliance Church Sunday Morning Message
DESCRIPTION:
URL:https://hopeandpassion.org/event/donegal-alliance-church-sunday-morning-message-18/
LOCATION:Donegal Christian & Missionary Alliance Church\, 210 Loyalhanna St.\, Donegal\, PA\, 15628\, United States
ATTACH;FMTTYPE=image/jpeg:https://hopeandpassion.org/wp-content/uploads/2022/12/Revelation-01-08-23.jpg
END:VEVENT
BEGIN:VEVENT
DTSTART;TZID=UTC:20230108T100000
DTEND;TZID=UTC:20230108T110000
DTSTAMP:20260425T190445
CREATED:20221226T201756Z
LAST-MODIFIED:20221226T202111Z
UID:8355-1673172000-1673175600@hopeandpassion.org
SUMMARY:Hope & Passion Ministries Sunday Morning Message
DESCRIPTION:
URL:https://hopeandpassion.org/event/hope-passion-ministries-sunday-morning-message-54/
LOCATION:Facebook Livestream @ Hope & Passion Ministries\, Inc. Facebook Page
ATTACH;FMTTYPE=image/jpeg:https://hopeandpassion.org/wp-content/uploads/2022/12/Revelation-01-08-23.jpg
END:VEVENT
BEGIN:VEVENT
DTSTART;TZID=UTC:20230110T183000
DTEND;TZID=UTC:20230110T193000
DTSTAMP:20260425T190445
CREATED:20221226T201952Z
LAST-MODIFIED:20230105T162253Z
UID:8357-1673375400-1673379000@hopeandpassion.org
SUMMARY:Hope & Passion Ministries Tuesday Bible Study
DESCRIPTION:
URL:https://hopeandpassion.org/event/hope-passion-ministries-tuesday-bible-study-41/
LOCATION:Facebook Livestream @ Hope & Passion Ministries\, Inc. Facebook Page
ATTACH;FMTTYPE=image/jpeg:https://hopeandpassion.org/wp-content/uploads/2023/01/Genesis-01-10-23.jpg
END:VEVENT
BEGIN:VEVENT
DTSTART;TZID=UTC:20230115T093000
DTEND;TZID=UTC:20230115T110000
DTSTAMP:20260425T190445
CREATED:20221226T204718Z
LAST-MODIFIED:20221226T204718Z
UID:8361-1673775000-1673780400@hopeandpassion.org
SUMMARY:Donegal Alliance Church Sunday Morning Message
DESCRIPTION:
URL:https://hopeandpassion.org/event/donegal-alliance-church-sunday-morning-message-19/
LOCATION:Donegal Christian & Missionary Alliance Church\, 210 Loyalhanna St.\, Donegal\, PA\, 15628\, United States
ATTACH;FMTTYPE=image/jpeg:https://hopeandpassion.org/wp-content/uploads/2022/12/Revelation-01-15-23.jpg
END:VEVENT
BEGIN:VEVENT
DTSTART;TZID=UTC:20230115T100000
DTEND;TZID=UTC:20230115T110000
DTSTAMP:20260425T190445
CREATED:20221226T204837Z
LAST-MODIFIED:20221226T204837Z
UID:8363-1673776800-1673780400@hopeandpassion.org
SUMMARY:Hope & Passion Ministries Sunday Morning Message
DESCRIPTION:
URL:https://hopeandpassion.org/event/hope-passion-ministries-sunday-morning-message-55/
LOCATION:Facebook Livestream @ Hope & Passion Ministries\, Inc. Facebook Page
ATTACH;FMTTYPE=image/jpeg:https://hopeandpassion.org/wp-content/uploads/2022/12/Revelation-01-15-23.jpg
END:VEVENT
BEGIN:VEVENT
DTSTART;TZID=UTC:20230117T183000
DTEND;TZID=UTC:20230117T193000
DTSTAMP:20260425T190445
CREATED:20230105T170250Z
LAST-MODIFIED:20230112T003954Z
UID:8385-1673980200-1673983800@hopeandpassion.org
SUMMARY:Hope & Passion Ministries Tuesday Bible Study
DESCRIPTION:
URL:https://hopeandpassion.org/event/hope-passion-ministries-tuesday-bible-study-42/
LOCATION:Facebook Livestream @ Hope & Passion Ministries\, Inc. Facebook Page
ATTACH;FMTTYPE=image/jpeg:https://hopeandpassion.org/wp-content/uploads/2023/01/Genesis-01-17-23.jpg
END:VEVENT
BEGIN:VEVENT
DTSTART;TZID=UTC:20230122T093000
DTEND;TZID=UTC:20230122T110000
DTSTAMP:20260425T190445
CREATED:20230105T162444Z
LAST-MODIFIED:20230105T162444Z
UID:8381-1674379800-1674385200@hopeandpassion.org
SUMMARY:Donegal Alliance Church Sunday Morning Message
DESCRIPTION:
URL:https://hopeandpassion.org/event/donegal-alliance-church-sunday-morning-message-20/
LOCATION:Donegal Christian & Missionary Alliance Church\, 210 Loyalhanna St.\, Donegal\, PA\, 15628\, United States
ATTACH;FMTTYPE=image/jpeg:https://hopeandpassion.org/wp-content/uploads/2023/01/Revelation-01-22-23.jpg
END:VEVENT
BEGIN:VEVENT
DTSTART;TZID=UTC:20230122T100000
DTEND;TZID=UTC:20230122T110000
DTSTAMP:20260425T190445
CREATED:20230105T162615Z
LAST-MODIFIED:20230105T170202Z
UID:8383-1674381600-1674385200@hopeandpassion.org
SUMMARY:Hope & Passion Ministries Sunday Morning Message
DESCRIPTION:
URL:https://hopeandpassion.org/event/hope-passion-ministries-sunday-morning-message-56/
LOCATION:Facebook Livestream @ Hope & Passion Ministries\, Inc. Facebook Page
ATTACH;FMTTYPE=image/jpeg:https://hopeandpassion.org/wp-content/uploads/2023/01/Revelation-01-22-23.jpg
END:VEVENT
BEGIN:VEVENT
DTSTART;TZID=UTC:20230123T190000
DTEND;TZID=UTC:20230123T203000
DTSTAMP:20260425T190445
CREATED:20230112T211242Z
LAST-MODIFIED:20230112T211242Z
UID:8397-1674500400-1674505800@hopeandpassion.org
SUMMARY:Zoom Session: Prayer - Part 1
DESCRIPTION:All are welcome to join this first Zoom session about prayer! We will meet on Monday evening\, January 23 from 7:00-8:30 pm EST. To get the free link\, simply let us know you want to attend and give us your email address at: hopeandpassion.org/contact-us\, and we will send it to you. Your life will never be the same\, when you learn all that you need to know about prayer!
URL:https://hopeandpassion.org/event/zoom-session-prayer-part-1/
LOCATION:Zoom Class
ATTACH;FMTTYPE=image/jpeg:https://hopeandpassion.org/wp-content/uploads/2023/01/Zoom-Prayer-01-23-23.jpg
END:VEVENT
BEGIN:VEVENT
DTSTART;TZID=UTC:20230129T093000
DTEND;TZID=UTC:20230129T110000
DTSTAMP:20260425T190445
CREATED:20230106T185732Z
LAST-MODIFIED:20230106T185840Z
UID:8390-1674984600-1674990000@hopeandpassion.org
SUMMARY:Donegal Alliance Church Sunday Morning Message
DESCRIPTION:
URL:https://hopeandpassion.org/event/donegal-alliance-church-sunday-morning-message-21/
LOCATION:Donegal Christian & Missionary Alliance Church\, 210 Loyalhanna St.\, Donegal\, PA\, 15628\, United States
ATTACH;FMTTYPE=image/jpeg:https://hopeandpassion.org/wp-content/uploads/2023/01/Revelation-01-29-22.jpg
END:VEVENT
BEGIN:VEVENT
DTSTART;TZID=UTC:20230129T100000
DTEND;TZID=UTC:20230129T110000
DTSTAMP:20260425T190445
CREATED:20230106T185824Z
LAST-MODIFIED:20230106T185824Z
UID:8392-1674986400-1674990000@hopeandpassion.org
SUMMARY:Hope & Passion Ministries Sunday Morning Message
DESCRIPTION:
URL:https://hopeandpassion.org/event/hope-passion-ministries-sunday-morning-message-57/
LOCATION:Facebook Livestream @ Hope & Passion Ministries\, Inc. Facebook Page
ATTACH;FMTTYPE=image/jpeg:https://hopeandpassion.org/wp-content/uploads/2023/01/Revelation-01-29-22.jpg
END:VEVENT
END:VCALENDAR