BEGIN:VCALENDAR
VERSION:2.0
PRODID:-//Hope and Passion Ministries - ECPv6.15.18//NONSGML v1.0//EN
CALSCALE:GREGORIAN
METHOD:PUBLISH
X-ORIGINAL-URL:https://hopeandpassion.org
X-WR-CALDESC:Events for Hope and Passion Ministries
REFRESH-INTERVAL;VALUE=DURATION:PT1H
X-Robots-Tag:noindex
X-PUBLISHED-TTL:PT1H
BEGIN:VTIMEZONE
TZID:UTC
BEGIN:STANDARD
TZOFFSETFROM:+0000
TZOFFSETTO:+0000
TZNAME:UTC
DTSTART:20220101T000000
END:STANDARD
END:VTIMEZONE
BEGIN:VEVENT
DTSTART;TZID=UTC:20230305T093000
DTEND;TZID=UTC:20230305T110000
DTSTAMP:20260425T160536
CREATED:20230212T145650Z
LAST-MODIFIED:20230212T145650Z
UID:8500-1678008600-1678014000@hopeandpassion.org
SUMMARY:Donegal Alliance Church Sunday Morning Message
DESCRIPTION:
URL:https://hopeandpassion.org/event/donegal-alliance-church-sunday-morning-message-26/
LOCATION:Donegal Christian & Missionary Alliance Church\, 210 Loyalhanna St.\, Donegal\, PA\, 15628\, United States
ATTACH;FMTTYPE=image/jpeg:https://hopeandpassion.org/wp-content/uploads/2023/02/Revelation-03-05-23.jpg
END:VEVENT
BEGIN:VEVENT
DTSTART;TZID=UTC:20230305T100000
DTEND;TZID=UTC:20230305T110000
DTSTAMP:20260425T160536
CREATED:20230212T145808Z
LAST-MODIFIED:20230212T145808Z
UID:8502-1678010400-1678014000@hopeandpassion.org
SUMMARY:Hope & Passion Ministries Sunday Morning Message
DESCRIPTION:
URL:https://hopeandpassion.org/event/hope-passion-ministries-sunday-morning-message-62/
LOCATION:Facebook Livestream @ Hope & Passion Ministries\, Inc. Facebook Page
ATTACH;FMTTYPE=image/jpeg:https://hopeandpassion.org/wp-content/uploads/2023/02/Revelation-03-05-23.jpg
END:VEVENT
BEGIN:VEVENT
DTSTART;TZID=UTC:20230307T183000
DTEND;TZID=UTC:20230307T193000
DTSTAMP:20260425T160536
CREATED:20230227T175251Z
LAST-MODIFIED:20230227T175251Z
UID:8529-1678213800-1678217400@hopeandpassion.org
SUMMARY:Hope & Passion Ministries Tuesday Bible Study
DESCRIPTION:
URL:https://hopeandpassion.org/event/hope-passion-ministries-tuesday-bible-study-45/
LOCATION:Facebook Livestream @ Hope & Passion Ministries\, Inc. Facebook Page
ATTACH;FMTTYPE=image/jpeg:https://hopeandpassion.org/wp-content/uploads/2023/02/Genesis-03-07-23.jpg
END:VEVENT
BEGIN:VEVENT
DTSTART;TZID=UTC:20230312T093000
DTEND;TZID=UTC:20230312T110000
DTSTAMP:20260425T160536
CREATED:20230220T220020Z
LAST-MODIFIED:20230220T220020Z
UID:8513-1678613400-1678618800@hopeandpassion.org
SUMMARY:Donegal Alliance Church Sunday Morning Message
DESCRIPTION:
URL:https://hopeandpassion.org/event/donegal-alliance-church-sunday-morning-message-27/
LOCATION:Donegal Christian & Missionary Alliance Church\, 210 Loyalhanna St.\, Donegal\, PA\, 15628\, United States
ATTACH;FMTTYPE=image/jpeg:https://hopeandpassion.org/wp-content/uploads/2023/02/Revelation-03-12-23.jpg
END:VEVENT
BEGIN:VEVENT
DTSTART;TZID=UTC:20230312T100000
DTEND;TZID=UTC:20230312T110000
DTSTAMP:20260425T160536
CREATED:20230220T220134Z
LAST-MODIFIED:20230220T220134Z
UID:8515-1678615200-1678618800@hopeandpassion.org
SUMMARY:Hope & Passion Ministries Sunday Morning Message
DESCRIPTION:
URL:https://hopeandpassion.org/event/hope-passion-ministries-sunday-morning-message-63/
LOCATION:Facebook Livestream @ Hope & Passion Ministries\, Inc. Facebook Page
ATTACH;FMTTYPE=image/jpeg:https://hopeandpassion.org/wp-content/uploads/2023/02/Revelation-03-12-23.jpg
END:VEVENT
BEGIN:VEVENT
DTSTART;TZID=UTC:20230314T183000
DTEND;TZID=UTC:20230314T193000
DTSTAMP:20260425T160536
CREATED:20230308T224444Z
LAST-MODIFIED:20230308T224444Z
UID:8567-1678818600-1678822200@hopeandpassion.org
SUMMARY:Hope & Passion Ministries Tuesday Bible Study
DESCRIPTION:
URL:https://hopeandpassion.org/event/hope-passion-ministries-tuesday-bible-study-46/
LOCATION:Facebook Livestream @ Hope & Passion Ministries\, Inc. Facebook Page
ATTACH;FMTTYPE=image/jpeg:https://hopeandpassion.org/wp-content/uploads/2023/03/Genesis-03-14-23.jpg
END:VEVENT
BEGIN:VEVENT
DTSTART;TZID=UTC:20230319T093000
DTEND;TZID=UTC:20230319T110000
DTSTAMP:20260425T160536
CREATED:20230227T175046Z
LAST-MODIFIED:20230227T175046Z
UID:8525-1679218200-1679223600@hopeandpassion.org
SUMMARY:Donegal Alliance Church Sunday Morning Message
DESCRIPTION:
URL:https://hopeandpassion.org/event/donegal-alliance-church-sunday-morning-message-28/
LOCATION:Donegal Christian & Missionary Alliance Church\, 210 Loyalhanna St.\, Donegal\, PA\, 15628\, United States
ATTACH;FMTTYPE=image/jpeg:https://hopeandpassion.org/wp-content/uploads/2023/02/Spiritual-Healing-03-19-23.jpg
END:VEVENT
BEGIN:VEVENT
DTSTART;TZID=UTC:20230319T100000
DTEND;TZID=UTC:20230319T110000
DTSTAMP:20260425T160536
CREATED:20230227T175138Z
LAST-MODIFIED:20230227T175138Z
UID:8527-1679220000-1679223600@hopeandpassion.org
SUMMARY:Hope & Passion Ministries Sunday Morning Message
DESCRIPTION:
URL:https://hopeandpassion.org/event/hope-passion-ministries-sunday-morning-message-64/
LOCATION:Facebook Livestream @ Hope & Passion Ministries\, Inc. Facebook Page
ATTACH;FMTTYPE=image/jpeg:https://hopeandpassion.org/wp-content/uploads/2023/02/Spiritual-Healing-03-19-23.jpg
END:VEVENT
BEGIN:VEVENT
DTSTART;TZID=UTC:20230321T183000
DTEND;TZID=UTC:20230321T193000
DTSTAMP:20260425T160536
CREATED:20230313T214458Z
LAST-MODIFIED:20230321T183144Z
UID:8577-1679423400-1679427000@hopeandpassion.org
SUMMARY:CANCELLED - Hope & Passion Ministries Tuesday Bible Study
DESCRIPTION:
URL:https://hopeandpassion.org/event/hope-passion-ministries-tuesday-bible-study-47/
LOCATION:Facebook Livestream @ Hope & Passion Ministries\, Inc. Facebook Page
END:VEVENT
BEGIN:VEVENT
DTSTART;TZID=UTC:20230326T093000
DTEND;TZID=UTC:20230326T110000
DTSTAMP:20260425T160536
CREATED:20230307T225440Z
LAST-MODIFIED:20230307T225440Z
UID:8558-1679823000-1679828400@hopeandpassion.org
SUMMARY:Donegal Alliance Church Sunday Morning Message
DESCRIPTION:
URL:https://hopeandpassion.org/event/donegal-alliance-church-sunday-morning-message-29/
LOCATION:Donegal Christian & Missionary Alliance Church\, 210 Loyalhanna St.\, Donegal\, PA\, 15628\, United States
ATTACH;FMTTYPE=image/jpeg:https://hopeandpassion.org/wp-content/uploads/2023/03/Revelation-03-26-23.jpg
END:VEVENT
BEGIN:VEVENT
DTSTART;TZID=UTC:20230326T100000
DTEND;TZID=UTC:20230326T110000
DTSTAMP:20260425T160536
CREATED:20230307T225538Z
LAST-MODIFIED:20230307T225538Z
UID:8562-1679824800-1679828400@hopeandpassion.org
SUMMARY:Hope & Passion Ministries Sunday Morning Message
DESCRIPTION:
URL:https://hopeandpassion.org/event/hope-passion-ministries-sunday-morning-message-65/
LOCATION:Facebook Livestream @ Hope & Passion Ministries\, Inc. Facebook Page
ATTACH;FMTTYPE=image/jpeg:https://hopeandpassion.org/wp-content/uploads/2023/03/Revelation-03-26-23.jpg
END:VEVENT
END:VCALENDAR