BEGIN:VCALENDAR
VERSION:2.0
PRODID:-//Hope and Passion Ministries - ECPv6.15.18//NONSGML v1.0//EN
CALSCALE:GREGORIAN
METHOD:PUBLISH
X-WR-CALNAME:Hope and Passion Ministries
X-ORIGINAL-URL:https://hopeandpassion.org
X-WR-CALDESC:Events for Hope and Passion Ministries
REFRESH-INTERVAL;VALUE=DURATION:PT1H
X-Robots-Tag:noindex
X-PUBLISHED-TTL:PT1H
BEGIN:VTIMEZONE
TZID:UTC
BEGIN:STANDARD
TZOFFSETFROM:+0000
TZOFFSETTO:+0000
TZNAME:UTC
DTSTART:20230101T000000
END:STANDARD
END:VTIMEZONE
BEGIN:VEVENT
DTSTART;TZID=UTC:20240722T080000
DTEND;TZID=UTC:20240831T170000
DTSTAMP:20260424T162951
CREATED:20240710T002948Z
LAST-MODIFIED:20240808T232655Z
UID:9484-1721635200-1725123600@hopeandpassion.org
SUMMARY:Shelli is on Vacation
DESCRIPTION:
URL:https://hopeandpassion.org/event/shelli-is-on-vacation-3/
ATTACH;FMTTYPE=image/jpeg:https://hopeandpassion.org/wp-content/uploads/2024/07/Shelli-Vacation-Schedule-2024.jpg
END:VEVENT
END:VCALENDAR