BEGIN:VCALENDAR
VERSION:2.0
PRODID:-//Hope and Passion Ministries - ECPv6.15.18//NONSGML v1.0//EN
CALSCALE:GREGORIAN
METHOD:PUBLISH
X-ORIGINAL-URL:https://hopeandpassion.org
X-WR-CALDESC:Events for Hope and Passion Ministries
REFRESH-INTERVAL;VALUE=DURATION:PT1H
X-Robots-Tag:noindex
X-PUBLISHED-TTL:PT1H
BEGIN:VTIMEZONE
TZID:UTC
BEGIN:STANDARD
TZOFFSETFROM:+0000
TZOFFSETTO:+0000
TZNAME:UTC
DTSTART:20240101T000000
END:STANDARD
END:VTIMEZONE
BEGIN:VEVENT
DTSTART;TZID=UTC:20250701T183000
DTEND;TZID=UTC:20250701T193000
DTSTAMP:20260424T020949
CREATED:20250617T210623Z
LAST-MODIFIED:20250617T210623Z
UID:9985-1751394600-1751398200@hopeandpassion.org
SUMMARY:CANCELLED - Hope & Passion Ministries Tuesday Bible Study
DESCRIPTION:
URL:https://hopeandpassion.org/event/cancelled-hope-passion-ministries-tuesday-bible-study-9/
LOCATION:Facebook Livestream @ Hope & Passion Ministries\, Inc. Facebook Page
END:VEVENT
BEGIN:VEVENT
DTSTART;TZID=UTC:20250706T093000
DTEND;TZID=UTC:20250706T110000
DTSTAMP:20260424T020949
CREATED:20250617T210459Z
LAST-MODIFIED:20250617T210459Z
UID:9981-1751794200-1751799600@hopeandpassion.org
SUMMARY:Donegal C&MA Church Sunday Morning Message
DESCRIPTION:
URL:https://hopeandpassion.org/event/donegal-cma-church-sunday-morning-message-85/
LOCATION:Donegal Christian & Missionary Alliance Church\, 210 Loyalhanna St.\, Donegal\, PA\, 15628\, United States
ATTACH;FMTTYPE=image/jpeg:https://hopeandpassion.org/wp-content/uploads/2025/06/Daniel-07-06-25.jpg
END:VEVENT
BEGIN:VEVENT
DTSTART;TZID=UTC:20250706T100000
DTEND;TZID=UTC:20250706T110000
DTSTAMP:20260424T020949
CREATED:20250617T210539Z
LAST-MODIFIED:20250617T210539Z
UID:9983-1751796000-1751799600@hopeandpassion.org
SUMMARY:Hope & Passion Ministries Sunday Morning Message
DESCRIPTION:
URL:https://hopeandpassion.org/event/hope-passion-ministries-sunday-morning-message-175/
LOCATION:Facebook Livestream @ Hope & Passion Ministries\, Inc. Facebook Page
ATTACH;FMTTYPE=image/jpeg:https://hopeandpassion.org/wp-content/uploads/2025/06/Daniel-07-06-25.jpg
END:VEVENT
BEGIN:VEVENT
DTSTART;TZID=UTC:20250708T183000
DTEND;TZID=UTC:20250708T193000
DTSTAMP:20260424T020949
CREATED:20250617T210717Z
LAST-MODIFIED:20250704T182313Z
UID:9987-1751999400-1752003000@hopeandpassion.org
SUMMARY:Hope & Passion Ministries Tuesday Bible Study
DESCRIPTION:
URL:https://hopeandpassion.org/event/hope-passion-ministries-tuesday-bible-study-122/
LOCATION:Facebook Livestream @ Hope & Passion Ministries\, Inc. Facebook Page
ATTACH;FMTTYPE=image/jpeg:https://hopeandpassion.org/wp-content/uploads/2025/07/Genesis-07-08-25.jpg
END:VEVENT
BEGIN:VEVENT
DTSTART;TZID=UTC:20250713T093000
DTEND;TZID=UTC:20250713T110000
DTSTAMP:20260424T020949
CREATED:20250626T214659Z
LAST-MODIFIED:20250704T182150Z
UID:10002-1752399000-1752404400@hopeandpassion.org
SUMMARY:Donegal C&MA Church Sunday Morning Message
DESCRIPTION:
URL:https://hopeandpassion.org/event/donegal-cma-church-sunday-morning-message-86/
LOCATION:Donegal Christian & Missionary Alliance Church\, 210 Loyalhanna St.\, Donegal\, PA\, 15628\, United States
ATTACH;FMTTYPE=image/jpeg:https://hopeandpassion.org/wp-content/uploads/2025/07/Romans-07-13-25.jpg
END:VEVENT
BEGIN:VEVENT
DTSTART;TZID=UTC:20250713T100000
DTEND;TZID=UTC:20250713T110000
DTSTAMP:20260424T020949
CREATED:20250626T214736Z
LAST-MODIFIED:20250704T182210Z
UID:10004-1752400800-1752404400@hopeandpassion.org
SUMMARY:Hope & Passion Ministries Sunday Morning Message
DESCRIPTION:
URL:https://hopeandpassion.org/event/hope-passion-ministries-sunday-morning-message-177/
LOCATION:Facebook Livestream @ Hope & Passion Ministries\, Inc. Facebook Page
ATTACH;FMTTYPE=image/jpeg:https://hopeandpassion.org/wp-content/uploads/2025/07/Romans-07-13-25.jpg
END:VEVENT
BEGIN:VEVENT
DTSTART;TZID=UTC:20250715T183000
DTEND;TZID=UTC:20250715T193000
DTSTAMP:20260424T020949
CREATED:20250626T214854Z
LAST-MODIFIED:20250715T012320Z
UID:10008-1752604200-1752607800@hopeandpassion.org
SUMMARY:CANCELLED - Hope & Passion Ministries Tuesday Bible Study
DESCRIPTION:
URL:https://hopeandpassion.org/event/hope-passion-ministries-tuesday-bible-study-124/
LOCATION:Facebook Livestream @ Hope & Passion Ministries\, Inc. Facebook Page
END:VEVENT
BEGIN:VEVENT
DTSTART;TZID=UTC:20250720T093000
DTEND;TZID=UTC:20250720T110000
DTSTAMP:20260424T020949
CREATED:20250626T215006Z
LAST-MODIFIED:20250704T182232Z
UID:10010-1753003800-1753009200@hopeandpassion.org
SUMMARY:Donegal C&MA Church Sunday Morning Message
DESCRIPTION:
URL:https://hopeandpassion.org/event/donegal-cma-church-sunday-morning-message-87/
LOCATION:Donegal Christian & Missionary Alliance Church\, 210 Loyalhanna St.\, Donegal\, PA\, 15628\, United States
ATTACH;FMTTYPE=image/jpeg:https://hopeandpassion.org/wp-content/uploads/2025/07/Daniel-07-20-25.jpg
END:VEVENT
BEGIN:VEVENT
DTSTART;TZID=UTC:20250720T100000
DTEND;TZID=UTC:20250720T110000
DTSTAMP:20260424T020949
CREATED:20250626T215111Z
LAST-MODIFIED:20250704T182250Z
UID:10014-1753005600-1753009200@hopeandpassion.org
SUMMARY:Hope & Passion Ministries Sunday Morning Message
DESCRIPTION:
URL:https://hopeandpassion.org/event/hope-passion-ministries-sunday-morning-message-178/
LOCATION:Facebook Livestream @ Hope & Passion Ministries\, Inc. Facebook Page
ATTACH;FMTTYPE=image/jpeg:https://hopeandpassion.org/wp-content/uploads/2025/07/Daniel-07-20-25.jpg
END:VEVENT
BEGIN:VEVENT
DTSTART;TZID=UTC:20250722T183000
DTEND;TZID=UTC:20250722T193000
DTSTAMP:20260424T020949
CREATED:20250715T012408Z
LAST-MODIFIED:20250715T013756Z
UID:10045-1753209000-1753212600@hopeandpassion.org
SUMMARY:Hope & Passion Ministries Tuesday Bible Study
DESCRIPTION:
URL:https://hopeandpassion.org/event/hope-passion-ministries-tuesday-bible-study-126/
LOCATION:Facebook Livestream @ Hope & Passion Ministries\, Inc. Facebook Page
ATTACH;FMTTYPE=image/jpeg:https://hopeandpassion.org/wp-content/uploads/2025/07/Genesis-07-22-25.jpg
END:VEVENT
BEGIN:VEVENT
DTSTART;VALUE=DATE:20250727
DTEND;VALUE=DATE:20250825
DTSTAMP:20260424T020949
CREATED:20250321T145422Z
LAST-MODIFIED:20250710T164047Z
UID:9855-1753574400-1756079999@hopeandpassion.org
SUMMARY:SHELLI IS ON VACATION
DESCRIPTION:
URL:https://hopeandpassion.org/event/shelli-is-on-vacation-4/
ATTACH;FMTTYPE=image/jpeg:https://hopeandpassion.org/wp-content/uploads/2025/03/Shelli-Vacation-Schedule-2025.jpg
END:VEVENT
END:VCALENDAR