BEGIN:VCALENDAR
VERSION:2.0
PRODID:-//Hope and Passion Ministries - ECPv6.15.18//NONSGML v1.0//EN
CALSCALE:GREGORIAN
METHOD:PUBLISH
X-WR-CALNAME:Hope and Passion Ministries
X-ORIGINAL-URL:https://hopeandpassion.org
X-WR-CALDESC:Events for Hope and Passion Ministries
REFRESH-INTERVAL;VALUE=DURATION:PT1H
X-Robots-Tag:noindex
X-PUBLISHED-TTL:PT1H
BEGIN:VTIMEZONE
TZID:UTC
BEGIN:STANDARD
TZOFFSETFROM:+0000
TZOFFSETTO:+0000
TZNAME:UTC
DTSTART:20250101T000000
END:STANDARD
END:VTIMEZONE
BEGIN:VEVENT
DTSTART;TZID=UTC:20260602T183000
DTEND;TZID=UTC:20260602T193000
DTSTAMP:20260423T174232
CREATED:20260421T175706Z
LAST-MODIFIED:20260421T175706Z
UID:10471-1780425000-1780428600@hopeandpassion.org
SUMMARY:Hope & Passion Ministries Tuesday Bible Study
DESCRIPTION:
URL:https://hopeandpassion.org/event/hope-passion-ministries-tuesday-bible-study-149/
LOCATION:Facebook Livestream @ Hope & Passion Ministries\, Inc. Facebook Page
END:VEVENT
BEGIN:VEVENT
DTSTART;TZID=UTC:20260607T093000
DTEND;TZID=UTC:20260607T110000
DTSTAMP:20260423T174232
CREATED:20260421T175236Z
LAST-MODIFIED:20260421T175511Z
UID:10465-1780824600-1780830000@hopeandpassion.org
SUMMARY:Donegal C&MA Church Sunday Morning Message
DESCRIPTION:
URL:https://hopeandpassion.org/event/donegal-cma-church-sunday-morning-message-125/
LOCATION:Donegal Christian & Missionary Alliance Church\, 210 Loyalhanna St.\, Donegal\, PA\, 15628\, United States
END:VEVENT
BEGIN:VEVENT
DTSTART;TZID=UTC:20260607T100000
DTEND;TZID=UTC:20260607T110000
DTSTAMP:20260423T174232
CREATED:20260421T175549Z
LAST-MODIFIED:20260421T175549Z
UID:10468-1780826400-1780830000@hopeandpassion.org
SUMMARY:Hope & Passion Ministries Sunday Morning Message
DESCRIPTION:
URL:https://hopeandpassion.org/event/hope-passion-ministries-sunday-morning-message-218/
LOCATION:Facebook Livestream @ Hope & Passion Ministries\, Inc. Facebook Page
END:VEVENT
BEGIN:VEVENT
DTSTART;TZID=UTC:20260609T183000
DTEND;TZID=UTC:20260609T193000
DTSTAMP:20260423T174232
CREATED:20260421T175731Z
LAST-MODIFIED:20260421T175731Z
UID:10473-1781029800-1781033400@hopeandpassion.org
SUMMARY:Hope & Passion Ministries Tuesday Bible Study
DESCRIPTION:
URL:https://hopeandpassion.org/event/hope-passion-ministries-tuesday-bible-study-150/
LOCATION:Facebook Livestream @ Hope & Passion Ministries\, Inc. Facebook Page
END:VEVENT
BEGIN:VEVENT
DTSTART;TZID=UTC:20260616T183000
DTEND;TZID=UTC:20260616T193000
DTSTAMP:20260423T174232
CREATED:20260421T175858Z
LAST-MODIFIED:20260421T175858Z
UID:10475-1781634600-1781638200@hopeandpassion.org
SUMMARY:Hope & Passion Ministries Tuesday Bible Study
DESCRIPTION:
URL:https://hopeandpassion.org/event/hope-passion-ministries-tuesday-bible-study-151/
LOCATION:Facebook Livestream @ Hope & Passion Ministries\, Inc. Facebook Page
END:VEVENT
END:VCALENDAR